BEGIN:VCALENDAR
VERSION:2.0
PRODID:-//Grand Rapids Area Coalition to End Homelessness - ECPv6.15.20//NONSGML v1.0//EN
CALSCALE:GREGORIAN
METHOD:PUBLISH
X-WR-CALNAME:Grand Rapids Area Coalition to End Homelessness
X-ORIGINAL-URL:https://endhomelessnesskent.org
X-WR-CALDESC:Events for Grand Rapids Area Coalition to End Homelessness
REFRESH-INTERVAL;VALUE=DURATION:PT1H
X-Robots-Tag:noindex
X-PUBLISHED-TTL:PT1H
BEGIN:VTIMEZONE
TZID:America/Detroit
BEGIN:DAYLIGHT
TZOFFSETFROM:-0500
TZOFFSETTO:-0400
TZNAME:EDT
DTSTART:20210314T070000
END:DAYLIGHT
BEGIN:STANDARD
TZOFFSETFROM:-0400
TZOFFSETTO:-0500
TZNAME:EST
DTSTART:20211107T060000
END:STANDARD
BEGIN:DAYLIGHT
TZOFFSETFROM:-0500
TZOFFSETTO:-0400
TZNAME:EDT
DTSTART:20220313T070000
END:DAYLIGHT
BEGIN:STANDARD
TZOFFSETFROM:-0400
TZOFFSETTO:-0500
TZNAME:EST
DTSTART:20221106T060000
END:STANDARD
BEGIN:DAYLIGHT
TZOFFSETFROM:-0500
TZOFFSETTO:-0400
TZNAME:EDT
DTSTART:20230312T070000
END:DAYLIGHT
BEGIN:STANDARD
TZOFFSETFROM:-0400
TZOFFSETTO:-0500
TZNAME:EST
DTSTART:20231105T060000
END:STANDARD
BEGIN:DAYLIGHT
TZOFFSETFROM:-0500
TZOFFSETTO:-0400
TZNAME:EDT
DTSTART:20240310T070000
END:DAYLIGHT
BEGIN:STANDARD
TZOFFSETFROM:-0400
TZOFFSETTO:-0500
TZNAME:EST
DTSTART:20241103T060000
END:STANDARD
END:VTIMEZONE
BEGIN:VEVENT
DTSTART;TZID=America/Detroit:20230526T110000
DTEND;TZID=America/Detroit:20230526T123000
DTSTAMP:20260420T143322
CREATED:20230119T184137Z
LAST-MODIFIED:20230130T161820Z
UID:6302-1685098800-1685104200@endhomelessnesskent.org
SUMMARY:Youth Committee
DESCRIPTION:Join Zoom Meeting: https://us02web.zoom.us/j/83296636178?pwd=UXVjRHd1VENiTGNDYXhBTFRBcWVUUT09; Meeting ID: 832 9663 6178 ; Passcode: 722881
URL:https://endhomelessnesskent.org/event/youth-committee-38/
LOCATION:Zoom\, MI\, United States
END:VEVENT
BEGIN:VEVENT
DTSTART;TZID=America/Detroit:20230519T083000
DTEND;TZID=America/Detroit:20230519T103000
DTSTAMP:20260420T143322
CREATED:20230119T183125Z
LAST-MODIFIED:20230130T161705Z
UID:6254-1684485000-1684492200@endhomelessnesskent.org
SUMMARY:Steering Council
DESCRIPTION:Join Zoom Meeting:https://us02web.zoom.us/j/82718363128?pwd=aGlJaWl4OUE4Z1VNTUp1bjJUMzk3dz09 ; Meeting ID: 827 1836 3128; Password: CoC (024224)
URL:https://endhomelessnesskent.org/event/steering-council-46/
LOCATION:Zoom\, MI\, United States
END:VEVENT
BEGIN:VEVENT
DTSTART;TZID=America/Detroit:20230516T100000
DTEND;TZID=America/Detroit:20230516T130000
DTSTAMP:20260420T143322
CREATED:20230510T203040Z
LAST-MODIFIED:20230510T203040Z
UID:6531-1684231200-1684242000@endhomelessnesskent.org
SUMMARY:Youth Homelessness Demonstration Project Bidders Conference
DESCRIPTION:  \nThe Grand Rapids Area Coalition to End Homelessness is hosting the Youth Homelessness Demonstration Project Bidders Conference: \nTuesday\, May 16 from 10:00am – 1:00pmHeart of West Michigan United Way118 Commerce Ave SW\, Grand Rapids\, MI 49503 \nJoin us to discuss YHDP expectations for agencies and projects. \nRegister here \n\nProjects to be funded include: \n\n\nTransitional housing – Rapid ReHousing\nHost Homes\nOutreach\nPeer Navigation\n\n\nAgencies interested in applying for funding through the YHDP should plan to attend. \n\nView the RFP: YHDP RFP May 10 2023
URL:https://endhomelessnesskent.org/event/youth-homelessness-demonstration-project-bidders-conference/
LOCATION:Heart of West Michigan United Way\, 118 Commerce Ave SW\, Grand Rapids\, MI\, 49503\, United States
END:VEVENT
BEGIN:VEVENT
DTSTART;TZID=America/Detroit:20230511T140000
DTEND;TZID=America/Detroit:20230511T153000
DTSTAMP:20260420T143322
CREATED:20230119T183223Z
LAST-MODIFIED:20230130T161750Z
UID:6266-1683813600-1683819000@endhomelessnesskent.org
SUMMARY:Data Analysis Committee
DESCRIPTION:Join Zoom Meeting: https://us02web.zoom.us/j/4350176715?pwd=bXZ3THM5Mkd6elJlOE1SK2tmUFZUdz09; Meeting ID: 435 017 6715; Passcode: CoC
URL:https://endhomelessnesskent.org/event/data-analysis-committee-41/
LOCATION:Zoom\, MI\, United States
END:VEVENT
BEGIN:VEVENT
DTSTART;TZID=America/Detroit:20230502T140000
DTEND;TZID=America/Detroit:20230502T153000
DTSTAMP:20260420T143322
CREATED:20230119T182909Z
LAST-MODIFIED:20230130T161633Z
UID:6242-1683036000-1683041400@endhomelessnesskent.org
SUMMARY:Coordinated Entry Committee
DESCRIPTION:Join Zoom Meeting:https://us02web.zoom.us/j/81191808810?pwd=b3JiL1FUOXBVTjdRbFgydjRxMzVWdz09 ; Meeting ID: 811 9180 8810; Passcode: 797425
URL:https://endhomelessnesskent.org/event/coordinated-entry-committee-43/
LOCATION:Zoom\, MI\, United States
END:VEVENT
BEGIN:VEVENT
DTSTART;TZID=America/Detroit:20230501T113000
DTEND;TZID=America/Detroit:20230501T123000
DTSTAMP:20260420T143322
CREATED:20230130T161905Z
LAST-MODIFIED:20230130T161905Z
UID:6376-1682940600-1682944200@endhomelessnesskent.org
SUMMARY:Built For Zero Planning Team
DESCRIPTION:Join Zoom Meeting: https://us02web.zoom.us/j/4350176715?pwd=bXZ3THM5Mkd6elJlOE1SK2tmUFZUdz09; Meeting ID: 435 017 6715; Passcode: CoC
URL:https://endhomelessnesskent.org/event/built-for-zero-planning-team-4/
LOCATION:Zoom\, MI\, United States
END:VEVENT
BEGIN:VEVENT
DTSTART;TZID=America/Detroit:20230428T110000
DTEND;TZID=America/Detroit:20230428T123000
DTSTAMP:20260420T143322
CREATED:20230119T183937Z
LAST-MODIFIED:20230130T161820Z
UID:6301-1682679600-1682685000@endhomelessnesskent.org
SUMMARY:Youth Committee
DESCRIPTION:Join Zoom Meeting: https://us02web.zoom.us/j/83296636178?pwd=UXVjRHd1VENiTGNDYXhBTFRBcWVUUT09; Meeting ID: 832 9663 6178 ; Passcode: 722881
URL:https://endhomelessnesskent.org/event/youth-committee-37/
LOCATION:Zoom\, MI\, United States
END:VEVENT
BEGIN:VEVENT
DTSTART;TZID=America/Detroit:20230421T083000
DTEND;TZID=America/Detroit:20230421T103000
DTSTAMP:20260420T143322
CREATED:20230119T183125Z
LAST-MODIFIED:20230130T161650Z
UID:6253-1682065800-1682073000@endhomelessnesskent.org
SUMMARY:Steering Council
DESCRIPTION:Join Zoom Meeting:https://us02web.zoom.us/j/82718363128?pwd=aGlJaWl4OUE4Z1VNTUp1bjJUMzk3dz09 ; Meeting ID: 827 1836 3128; Password: CoC (024224)
URL:https://endhomelessnesskent.org/event/steering-council-45/
LOCATION:Zoom\, MI\, United States
END:VEVENT
BEGIN:VEVENT
DTSTART;TZID=America/Detroit:20230420T093000
DTEND;TZID=America/Detroit:20230420T110000
DTSTAMP:20260420T143322
CREATED:20230130T161720Z
LAST-MODIFIED:20230130T161720Z
UID:6345-1681983000-1681988400@endhomelessnesskent.org
SUMMARY:CoC/CTEH General Membership Meeting
DESCRIPTION:Join Zoom Meeting: https://us02web.zoom.us/j/86380795110?pwd=R1N1eFZpWWFmZWN2UDdKWmhsVjZjdz09 ; Meeting ID: 863 8079 5110\, Passcode: 326434
URL:https://endhomelessnesskent.org/event/coc-cteh-general-membership-meeting-20/
LOCATION:Zoom\, MI\, United States
END:VEVENT
BEGIN:VEVENT
DTSTART;TZID=America/Detroit:20230413T140000
DTEND;TZID=America/Detroit:20230413T153000
DTSTAMP:20260420T143322
CREATED:20230119T183223Z
LAST-MODIFIED:20230405T154732Z
UID:6265-1681394400-1681399800@endhomelessnesskent.org
SUMMARY:Data Analysis Committee
DESCRIPTION:Join Zoom Meeting: https://us02web.zoom.us/j/4350176715?pwd=bXZ3THM5Mkd6elJlOE1SK2tmUFZUdz09; Meeting ID: 435 017 6715; Passcode: CoC
URL:https://endhomelessnesskent.org/event/data-analysis-committee-40/
LOCATION:Zoom\, MI\, United States
END:VEVENT
BEGIN:VEVENT
DTSTART;TZID=America/Detroit:20230404T140000
DTEND;TZID=America/Detroit:20230404T153000
DTSTAMP:20260420T143322
CREATED:20230119T182907Z
LAST-MODIFIED:20230130T161633Z
UID:6241-1680616800-1680622200@endhomelessnesskent.org
SUMMARY:Coordinated Entry Committee
DESCRIPTION:Join Zoom Meeting:https://us02web.zoom.us/j/81191808810?pwd=b3JiL1FUOXBVTjdRbFgydjRxMzVWdz09 ; Meeting ID: 811 9180 8810; Passcode: 797425
URL:https://endhomelessnesskent.org/event/coordinated-entry-committee-42/
LOCATION:Zoom\, MI\, United States
END:VEVENT
BEGIN:VEVENT
DTSTART;TZID=America/Detroit:20230403T113000
DTEND;TZID=America/Detroit:20230403T123000
DTSTAMP:20260420T143322
CREATED:20230130T161850Z
LAST-MODIFIED:20230130T161850Z
UID:6375-1680521400-1680525000@endhomelessnesskent.org
SUMMARY:Built For Zero Planning Team
DESCRIPTION:Join Zoom Meeting: https://us02web.zoom.us/j/4350176715?pwd=bXZ3THM5Mkd6elJlOE1SK2tmUFZUdz09; Meeting ID: 435 017 6715; Passcode: CoC
URL:https://endhomelessnesskent.org/event/built-for-zero-planning-team-3/
LOCATION:Zoom\, MI\, United States
END:VEVENT
BEGIN:VEVENT
DTSTART;TZID=America/Detroit:20230324T110000
DTEND;TZID=America/Detroit:20230324T123000
DTSTAMP:20260420T143322
CREATED:20230119T183937Z
LAST-MODIFIED:20230310T201453Z
UID:6300-1679655600-1679661000@endhomelessnesskent.org
SUMMARY:Youth Committee
DESCRIPTION:Heart of West Michigan United Way – 118 Commerce Ave SW
URL:https://endhomelessnesskent.org/event/youth-committee-36/
LOCATION:Heart of West Michigan United Way\, 118 Commerce Ave SW\, Grand Rapids\, MI\, 49503\, United States
END:VEVENT
BEGIN:VEVENT
DTSTART;TZID=America/Detroit:20230323T093000
DTEND;TZID=America/Detroit:20230323T110000
DTSTAMP:20260420T143322
CREATED:20220106T152830Z
LAST-MODIFIED:20230223T132527Z
UID:5618-1679563800-1679569200@endhomelessnesskent.org
SUMMARY:CoC/CTEH General Membership Meeting
DESCRIPTION:Join Zoom Meeting: https://us02web.zoom.us/j/86380795110?pwd=R1N1eFZpWWFmZWN2UDdKWmhsVjZjdz09 ; Meeting ID: 863 8079 5110\, Passcode: 326434
URL:https://endhomelessnesskent.org/event/coc-cteh-general-membership-meeting-18/
LOCATION:Zoom\, MI\, United States
CATEGORIES:CoC General Membership meeting
END:VEVENT
BEGIN:VEVENT
DTSTART;TZID=America/Detroit:20230317T110000
DTEND;TZID=America/Detroit:20230317T130000
DTSTAMP:20260420T143322
CREATED:20230310T201142Z
LAST-MODIFIED:20230310T201245Z
UID:6417-1679050800-1679058000@endhomelessnesskent.org
SUMMARY:Youth Committee
DESCRIPTION:Heart of West Michigan United Way – 118 Commerce Ave SW
URL:https://endhomelessnesskent.org/event/youth-committee-46/
LOCATION:Heart of West Michigan United Way\, 118 Commerce Ave SW\, Grand Rapids\, MI\, 49503\, United States
END:VEVENT
BEGIN:VEVENT
DTSTART;TZID=America/Detroit:20230317T083000
DTEND;TZID=America/Detroit:20230317T103000
DTSTAMP:20260420T143322
CREATED:20230119T183125Z
LAST-MODIFIED:20230316T190335Z
UID:6252-1679041800-1679049000@endhomelessnesskent.org
SUMMARY:Steering Council
DESCRIPTION:Heart of West Michigan United Way\, 118 Commerce Ave SW\, Grand Rapids\, MI 49503 \nPublic viewing of the March meeting will be available using the below link. Please note those accessing the link will be able to watch the meeting but will be unable to speak or chat with attendees during the meeting. Members of the public who would like to speak during the meeting can attend in person at Heart of West Michigan United Way\, 118 Commerce Ave SW\, Grand Rapids\, MI 49503 \nVirtual Meeting Information: *January\, February\, April\, May\, July\, August\, October\, November only* \nLink will allow for view only access in March\, June\, September\, and December. \n\nJoin Zoom Meeting: https://us02web.zoom.us/j/82718363128?pwd=aGlJaWl4OUE4Z1VNTUp1bjJUMzk3dz09\nMeeting ID: 827 1836 3128\nPasscode: CoC\nOr Dial by your location: +1-301-715-8592 or +1-312-626-6799\, Meeting ID: 827 1836 3128\, Passcode: 828313
URL:https://endhomelessnesskent.org/event/steering-council-44/
LOCATION:Heart of West Michigan United Way\, 118 Commerce Ave SW\, Grand Rapids\, MI\, 49503\, United States
END:VEVENT
BEGIN:VEVENT
DTSTART;TZID=America/Detroit:20230314T140000
DTEND;TZID=America/Detroit:20230314T153000
DTSTAMP:20260420T143322
CREATED:20230119T182907Z
LAST-MODIFIED:20230310T201223Z
UID:6240-1678802400-1678807800@endhomelessnesskent.org
SUMMARY:Coordinated Entry Committee
DESCRIPTION:Heart of West Michigan United Way – 118 Commerce Ave SW
URL:https://endhomelessnesskent.org/event/coordinated-entry-committee-41/
LOCATION:Heart of West Michigan United Way\, 118 Commerce Ave SW\, Grand Rapids\, MI\, 49503\, United States
END:VEVENT
BEGIN:VEVENT
DTSTART;TZID=America/Detroit:20230309T140000
DTEND;TZID=America/Detroit:20230309T153000
DTSTAMP:20260420T143322
CREATED:20230119T183223Z
LAST-MODIFIED:20230130T161750Z
UID:6264-1678370400-1678375800@endhomelessnesskent.org
SUMMARY:Data Analysis Committee
DESCRIPTION:Join Zoom Meeting: https://us02web.zoom.us/j/4350176715?pwd=bXZ3THM5Mkd6elJlOE1SK2tmUFZUdz09; Meeting ID: 435 017 6715; Passcode: CoC
URL:https://endhomelessnesskent.org/event/data-analysis-committee-39/
LOCATION:Zoom\, MI\, United States
END:VEVENT
BEGIN:VEVENT
DTSTART;TZID=America/Detroit:20230306T113000
DTEND;TZID=America/Detroit:20230306T123000
DTSTAMP:20260420T143322
CREATED:20230130T161850Z
LAST-MODIFIED:20230130T161850Z
UID:6374-1678102200-1678105800@endhomelessnesskent.org
SUMMARY:Built For Zero Planning Team
DESCRIPTION:Join Zoom Meeting: https://us02web.zoom.us/j/4350176715?pwd=bXZ3THM5Mkd6elJlOE1SK2tmUFZUdz09; Meeting ID: 435 017 6715; Passcode: CoC
URL:https://endhomelessnesskent.org/event/built-for-zero-planning-team-2/
LOCATION:Zoom\, MI\, United States
END:VEVENT
BEGIN:VEVENT
DTSTART;TZID=America/Detroit:20230224T110000
DTEND;TZID=America/Detroit:20230224T123000
DTSTAMP:20260420T143322
CREATED:20230119T183937Z
LAST-MODIFIED:20230130T161820Z
UID:6299-1677236400-1677241800@endhomelessnesskent.org
SUMMARY:Youth Committee
DESCRIPTION:Join Zoom Meeting: https://us02web.zoom.us/j/83296636178?pwd=UXVjRHd1VENiTGNDYXhBTFRBcWVUUT09; Meeting ID: 832 9663 6178 ; Passcode: 722881
URL:https://endhomelessnesskent.org/event/youth-committee-35/
LOCATION:Zoom\, MI\, United States
END:VEVENT
BEGIN:VEVENT
DTSTART;TZID=America/Detroit:20230217T083000
DTEND;TZID=America/Detroit:20230217T103000
DTSTAMP:20260420T143322
CREATED:20230119T182926Z
LAST-MODIFIED:20230130T161650Z
UID:6251-1676622600-1676629800@endhomelessnesskent.org
SUMMARY:Steering Council
DESCRIPTION:Join Zoom Meeting:https://us02web.zoom.us/j/82718363128?pwd=aGlJaWl4OUE4Z1VNTUp1bjJUMzk3dz09 ; Meeting ID: 827 1836 3128; Password: CoC (024224)
URL:https://endhomelessnesskent.org/event/steering-council-43/
LOCATION:Zoom\, MI\, United States
END:VEVENT
BEGIN:VEVENT
DTSTART;TZID=America/Detroit:20230216T140000
DTEND;TZID=America/Detroit:20230216T153000
DTSTAMP:20260420T143322
CREATED:20230119T183222Z
LAST-MODIFIED:20230209T154013Z
UID:6263-1676556000-1676561400@endhomelessnesskent.org
SUMMARY:Data Analysis Committee
DESCRIPTION:Join Zoom Meeting: https://us02web.zoom.us/j/4350176715?pwd=bXZ3THM5Mkd6elJlOE1SK2tmUFZUdz09; Meeting ID: 435 017 6715; Passcode: CoC
URL:https://endhomelessnesskent.org/event/data-analysis-committee-38/
LOCATION:Zoom\, MI\, United States
END:VEVENT
BEGIN:VEVENT
DTSTART;TZID=America/Detroit:20230214T140000
DTEND;TZID=America/Detroit:20230214T153000
DTSTAMP:20260420T143322
CREATED:20220117T170721Z
LAST-MODIFIED:20230209T154100Z
UID:5679-1676383200-1676388600@endhomelessnesskent.org
SUMMARY:Coordinated Entry Committee
DESCRIPTION:Heart of West Michigan United Way – 118 Commerce Ave SW
URL:https://endhomelessnesskent.org/event/coordinated-entry-committee-40/
LOCATION:Zoom\, MI\, United States
END:VEVENT
BEGIN:VEVENT
DTSTART;TZID=America/Detroit:20230206T113000
DTEND;TZID=America/Detroit:20230206T123000
DTSTAMP:20260420T143322
CREATED:20230130T161850Z
LAST-MODIFIED:20230130T161850Z
UID:6373-1675683000-1675686600@endhomelessnesskent.org
SUMMARY:Built For Zero Planning Team
DESCRIPTION:Join Zoom Meeting: https://us02web.zoom.us/j/4350176715?pwd=bXZ3THM5Mkd6elJlOE1SK2tmUFZUdz09; Meeting ID: 435 017 6715; Passcode: CoC
URL:https://endhomelessnesskent.org/event/built-for-zero-planning-team/
LOCATION:Zoom\, MI\, United States
END:VEVENT
BEGIN:VEVENT
DTSTART;TZID=America/Detroit:20230127T110000
DTEND;TZID=America/Detroit:20230127T123000
DTSTAMP:20260420T143322
CREATED:20230119T183937Z
LAST-MODIFIED:20230119T183937Z
UID:6298-1674817200-1674822600@endhomelessnesskent.org
SUMMARY:Youth Committee
DESCRIPTION:Join Zoom Meeting: https://us02web.zoom.us/j/83296636178?pwd=UXVjRHd1VENiTGNDYXhBTFRBcWVUUT09; Meeting ID: 832 9663 6178 ; Passcode: 722881
URL:https://endhomelessnesskent.org/event/youth-committee-34/
LOCATION:Zoom\, MI\, United States
END:VEVENT
BEGIN:VEVENT
DTSTART;TZID=America/Detroit:20230120T083000
DTEND;TZID=America/Detroit:20230120T103000
DTSTAMP:20260420T143322
CREATED:20230119T182926Z
LAST-MODIFIED:20230130T161650Z
UID:6250-1674203400-1674210600@endhomelessnesskent.org
SUMMARY:Steering Council
DESCRIPTION:Join Zoom Meeting:https://us02web.zoom.us/j/82718363128?pwd=aGlJaWl4OUE4Z1VNTUp1bjJUMzk3dz09 ; Meeting ID: 827 1836 3128; Password: CoC (024224)
URL:https://endhomelessnesskent.org/event/steering-council-42/
LOCATION:Zoom\, MI\, United States
END:VEVENT
BEGIN:VEVENT
DTSTART;TZID=America/Detroit:20230112T140000
DTEND;TZID=America/Detroit:20230112T153000
DTSTAMP:20260420T143322
CREATED:20230119T183222Z
LAST-MODIFIED:20230130T161736Z
UID:6262-1673532000-1673537400@endhomelessnesskent.org
SUMMARY:Data Analysis Committee
DESCRIPTION:Join Zoom Meeting: https://us02web.zoom.us/j/4350176715?pwd=bXZ3THM5Mkd6elJlOE1SK2tmUFZUdz09; Meeting ID: 435 017 6715; Passcode: CoC
URL:https://endhomelessnesskent.org/event/data-analysis-committee-37/
LOCATION:Zoom\, MI\, United States
END:VEVENT
BEGIN:VEVENT
DTSTART;TZID=America/Detroit:20230110T140000
DTEND;TZID=America/Detroit:20230110T153000
DTSTAMP:20260420T143322
CREATED:20220117T165657Z
LAST-MODIFIED:20230119T201012Z
UID:5656-1673359200-1673364600@endhomelessnesskent.org
SUMMARY:Coordinated Entry Committee
DESCRIPTION:Heart of West Michigan; 118 Commerce Ave SW\, Steelcase Room
URL:https://endhomelessnesskent.org/event/coordinated-entry-committee-33/
LOCATION:Zoom\, MI\, United States
END:VEVENT
BEGIN:VEVENT
DTSTART;TZID=America/Detroit:20221216T083000
DTEND;TZID=America/Detroit:20221216T103000
DTSTAMP:20260420T143322
CREATED:20220117T170937Z
LAST-MODIFIED:20220117T170937Z
UID:5688-1671179400-1671186600@endhomelessnesskent.org
SUMMARY:Steering Council
DESCRIPTION:Join Zoom Meeting: https://us02web.zoom.us/j/85850043324?pwd=cGRybXpmVXgyZFJ2bm9YNU82YnhFQT09 ; Meeting ID: 858 5004 3324; Password: CoC (024224)
URL:https://endhomelessnesskent.org/event/steering-council-39/
LOCATION:Zoom\, MI\, United States
END:VEVENT
BEGIN:VEVENT
DTSTART;TZID=America/Detroit:20221215T093000
DTEND;TZID=America/Detroit:20221215T110000
DTSTAMP:20260420T143322
CREATED:20220106T152724Z
LAST-MODIFIED:20220117T165557Z
UID:5615-1671096600-1671102000@endhomelessnesskent.org
SUMMARY:CoC/CTEH General Membership Meeting
DESCRIPTION:Join Zoom Meeting: https://us02web.zoom.us/j/86785111647?pwd=M1NvL0Y4Nmc5eEhKK21oY05aanBWZz09 ; Meeting ID: 867 8511 1647\, Passcode: 40149
URL:https://endhomelessnesskent.org/event/coc-cteh-general-membership-meeting-17/
LOCATION:Zoom\, MI\, United States
CATEGORIES:CoC General Membership meeting
END:VEVENT
END:VCALENDAR