BEGIN:VCALENDAR
VERSION:2.0
PRODID:-//Grand Rapids Area Coalition to End Homelessness - ECPv6.15.20//NONSGML v1.0//EN
CALSCALE:GREGORIAN
METHOD:PUBLISH
X-WR-CALNAME:Grand Rapids Area Coalition to End Homelessness
X-ORIGINAL-URL:https://endhomelessnesskent.org
X-WR-CALDESC:Events for Grand Rapids Area Coalition to End Homelessness
REFRESH-INTERVAL;VALUE=DURATION:PT1H
X-Robots-Tag:noindex
X-PUBLISHED-TTL:PT1H
BEGIN:VTIMEZONE
TZID:America/Detroit
BEGIN:DAYLIGHT
TZOFFSETFROM:-0500
TZOFFSETTO:-0400
TZNAME:EDT
DTSTART:20240310T070000
END:DAYLIGHT
BEGIN:STANDARD
TZOFFSETFROM:-0400
TZOFFSETTO:-0500
TZNAME:EST
DTSTART:20241103T060000
END:STANDARD
BEGIN:DAYLIGHT
TZOFFSETFROM:-0500
TZOFFSETTO:-0400
TZNAME:EDT
DTSTART:20250309T070000
END:DAYLIGHT
BEGIN:STANDARD
TZOFFSETFROM:-0400
TZOFFSETTO:-0500
TZNAME:EST
DTSTART:20251102T060000
END:STANDARD
BEGIN:DAYLIGHT
TZOFFSETFROM:-0500
TZOFFSETTO:-0400
TZNAME:EDT
DTSTART:20260308T070000
END:DAYLIGHT
BEGIN:STANDARD
TZOFFSETFROM:-0400
TZOFFSETTO:-0500
TZNAME:EST
DTSTART:20261101T060000
END:STANDARD
BEGIN:DAYLIGHT
TZOFFSETFROM:-0500
TZOFFSETTO:-0400
TZNAME:EDT
DTSTART:20270314T070000
END:DAYLIGHT
BEGIN:STANDARD
TZOFFSETFROM:-0400
TZOFFSETTO:-0500
TZNAME:EST
DTSTART:20271107T060000
END:STANDARD
END:VTIMEZONE
BEGIN:VEVENT
DTSTART;TZID=America/Detroit:20250919T083000
DTEND;TZID=America/Detroit:20250919T103000
DTSTAMP:20260420T064103
CREATED:20250310T161426Z
LAST-MODIFIED:20250918T192633Z
UID:7545-1758270600-1758277800@endhomelessnesskent.org
SUMMARY:Steering Council
DESCRIPTION:
URL:https://endhomelessnesskent.org/event/steering-council-71/
LOCATION:Zoom\, MI\, United States
END:VEVENT
BEGIN:VEVENT
DTSTART;TZID=America/Detroit:20251014T140000
DTEND;TZID=America/Detroit:20251014T153000
DTSTAMP:20260420T064103
CREATED:20250310T164809Z
LAST-MODIFIED:20250310T164809Z
UID:7577-1760450400-1760455800@endhomelessnesskent.org
SUMMARY:Coordinated Entry Committee
DESCRIPTION:
URL:https://endhomelessnesskent.org/event/coordinated-entry-committee-68/
LOCATION:Heart of West Michigan United Way\, 118 Commerce Ave SW\, Grand Rapids\, MI\, 49503\, United States
END:VEVENT
BEGIN:VEVENT
DTSTART;TZID=America/Detroit:20251023T093000
DTEND;TZID=America/Detroit:20251023T110000
DTSTAMP:20260420T064103
CREATED:20250310T162151Z
LAST-MODIFIED:20250917T171703Z
UID:7559-1761211800-1761217200@endhomelessnesskent.org
SUMMARY:General Membership
DESCRIPTION:
URL:https://endhomelessnesskent.org/event/general-membership-10/
LOCATION:Grand Rapids Public Library\, 111 Library Street NE\, Grand Rapids\, MI\, 49503\, United States
END:VEVENT
BEGIN:VEVENT
DTSTART;TZID=America/Detroit:20251024T083000
DTEND;TZID=America/Detroit:20251024T103000
DTSTAMP:20260420T064103
CREATED:20250310T161518Z
LAST-MODIFIED:20250919T134017Z
UID:7547-1761294600-1761301800@endhomelessnesskent.org
SUMMARY:Steering Council
DESCRIPTION:
URL:https://endhomelessnesskent.org/event/steering-council-72/
LOCATION:Zoom\, MI\, United States
END:VEVENT
BEGIN:VEVENT
DTSTART;TZID=America/Detroit:20251111T140000
DTEND;TZID=America/Detroit:20251111T153000
DTSTAMP:20260420T064103
CREATED:20250310T164844Z
LAST-MODIFIED:20250310T164844Z
UID:7579-1762869600-1762875000@endhomelessnesskent.org
SUMMARY:Coordinated Entry Committee
DESCRIPTION:
URL:https://endhomelessnesskent.org/event/coordinated-entry-committee-69/
LOCATION:Heart of West Michigan United Way\, 118 Commerce Ave SW\, Grand Rapids\, MI\, 49503\, United States
END:VEVENT
BEGIN:VEVENT
DTSTART;TZID=America/Detroit:20251120T140000
DTEND;TZID=America/Detroit:20251120T153000
DTSTAMP:20260420T064103
CREATED:20250310T165519Z
LAST-MODIFIED:20251006T173809Z
UID:7589-1763647200-1763652600@endhomelessnesskent.org
SUMMARY:Data Analysis
DESCRIPTION:Join Zoom Meeting \nhttps://us02web.zoom.us/j/83028970391?pwd=vc4OSiepyYm1b4CUJbUCKGE8OBOmyX.1 \nMeeting ID: 830 2897 0391 \nPasscode: CoC
URL:https://endhomelessnesskent.org/event/data-analysis-13/
LOCATION:Zoom\, MI\, United States
END:VEVENT
BEGIN:VEVENT
DTSTART;TZID=America/Detroit:20251121T083000
DTEND;TZID=America/Detroit:20251121T103000
DTSTAMP:20260420T064103
CREATED:20250310T161617Z
LAST-MODIFIED:20250310T161617Z
UID:7549-1763713800-1763721000@endhomelessnesskent.org
SUMMARY:Steering Council
DESCRIPTION:
URL:https://endhomelessnesskent.org/event/steering-council-73/
LOCATION:Fair Housing Center of West Michigan\, 20 Hall St SE\, Grand Rapids\, MI\, 49507\, United States
END:VEVENT
BEGIN:VEVENT
DTSTART;TZID=America/Detroit:20251209T140000
DTEND;TZID=America/Detroit:20251209T153000
DTSTAMP:20260420T064103
CREATED:20250310T164917Z
LAST-MODIFIED:20250310T164917Z
UID:7581-1765288800-1765294200@endhomelessnesskent.org
SUMMARY:Coordinated Entry Committee
DESCRIPTION:
URL:https://endhomelessnesskent.org/event/coordinated-entry-committee-70/
LOCATION:Heart of West Michigan United Way\, 118 Commerce Ave SW\, Grand Rapids\, MI\, 49503\, United States
END:VEVENT
BEGIN:VEVENT
DTSTART;TZID=America/Detroit:20251218T093000
DTEND;TZID=America/Detroit:20251218T110000
DTSTAMP:20260420T064103
CREATED:20250310T165602Z
LAST-MODIFIED:20251211T202645Z
UID:7591-1766050200-1766055600@endhomelessnesskent.org
SUMMARY:General Membership
DESCRIPTION:
URL:https://endhomelessnesskent.org/event/data-analysis-14/
LOCATION:West Michigan Works! SE Service Center\, 121 Martin Luther King Jr. St. SE\, Grand Rapids\, MI\, 49507\, United States
END:VEVENT
BEGIN:VEVENT
DTSTART;TZID=America/Detroit:20251219T083000
DTEND;TZID=America/Detroit:20251219T103000
DTSTAMP:20260420T064103
CREATED:20250310T161655Z
LAST-MODIFIED:20251218T193954Z
UID:7551-1766133000-1766140200@endhomelessnesskent.org
SUMMARY:Steering Council
DESCRIPTION:
URL:https://endhomelessnesskent.org/event/steering-council-74/
LOCATION:Zoom\, MI\, United States
END:VEVENT
BEGIN:VEVENT
DTSTART;TZID=America/Detroit:20260115T140000
DTEND;TZID=America/Detroit:20260115T153000
DTSTAMP:20260420T064103
CREATED:20251211T204039Z
LAST-MODIFIED:20251211T204742Z
UID:8022-1768485600-1768491000@endhomelessnesskent.org
SUMMARY:Data Analysis
DESCRIPTION:Join Zoom Meeting\nHttps://us02web.zoom.us/j/83028970391?pwd=vc4OSiepyYm1b4CUJbUCKGE8OBOmyX.1 \nMeeting ID: 830 2897 0391\nPasscode: CoC
URL:https://endhomelessnesskent.org/event/data-analysis-15/
LOCATION:Zoom\, MI\, United States
END:VEVENT
BEGIN:VEVENT
DTSTART;TZID=America/Detroit:20260116T093000
DTEND;TZID=America/Detroit:20260116T110000
DTSTAMP:20260420T064103
CREATED:20251211T203032Z
LAST-MODIFIED:20251211T203032Z
UID:8006-1768555800-1768561200@endhomelessnesskent.org
SUMMARY:Steering Council
DESCRIPTION:
URL:https://endhomelessnesskent.org/event/steering-council-75/
LOCATION:Heart of West Michigan United Way\, 118 Commerce Ave SW\, Grand Rapids\, MI\, 49503\, United States
END:VEVENT
BEGIN:VEVENT
DTSTART;TZID=America/Detroit:20260120T140000
DTEND;TZID=America/Detroit:20260120T153000
DTSTAMP:20260420T064103
CREATED:20251211T203509Z
LAST-MODIFIED:20251211T203509Z
UID:8014-1768917600-1768923000@endhomelessnesskent.org
SUMMARY:Coordinated Entry Committee
DESCRIPTION:
URL:https://endhomelessnesskent.org/event/coordinated-entry-committee-71/
LOCATION:106 Gallery\, 106 Division Ave S\, Grand Rapids\, 49503\, United States
END:VEVENT
BEGIN:VEVENT
DTSTART;TZID=America/Detroit:20260217T140000
DTEND;TZID=America/Detroit:20260217T153000
DTSTAMP:20260420T064103
CREATED:20251211T203617Z
LAST-MODIFIED:20251211T203617Z
UID:8016-1771336800-1771342200@endhomelessnesskent.org
SUMMARY:Coordinated Entry Committee
DESCRIPTION:
URL:https://endhomelessnesskent.org/event/coordinated-entry-committee-72/
LOCATION:Heart of West Michigan United Way\, 118 Commerce Ave SW\, Grand Rapids\, MI\, 49503\, United States
END:VEVENT
BEGIN:VEVENT
DTSTART;TZID=America/Detroit:20260219T140000
DTEND;TZID=America/Detroit:20260219T153000
DTSTAMP:20260420T064103
CREATED:20251211T204457Z
LAST-MODIFIED:20251211T204627Z
UID:8027-1771509600-1771515000@endhomelessnesskent.org
SUMMARY:Data Analysis
DESCRIPTION:Join Zoom Meeting: \nHttps://us02web.zoom.us/j/83028970391?pwd=vc4OSiepyYm1b4CUJbUCKGE8OBOmyX.1 \nMeeting ID: 830 2897 0391 \nPasscode: CoC
URL:https://endhomelessnesskent.org/event/data-analysis-16/
LOCATION:Zoom\, MI\, United States
END:VEVENT
BEGIN:VEVENT
DTSTART;TZID=America/Detroit:20260220T093000
DTEND;TZID=America/Detroit:20260220T110000
DTSTAMP:20260420T064103
CREATED:20251211T203140Z
LAST-MODIFIED:20251211T203204Z
UID:8009-1771579800-1771585200@endhomelessnesskent.org
SUMMARY:Steering Council
DESCRIPTION:
URL:https://endhomelessnesskent.org/event/steering-council-76/
LOCATION:Heart of West Michigan United Way\, 118 Commerce Ave SW\, Grand Rapids\, MI\, 49503\, United States
END:VEVENT
BEGIN:VEVENT
DTSTART;TZID=America/Detroit:20260226T093000
DTEND;TZID=America/Detroit:20260226T110000
DTSTAMP:20260420T064103
CREATED:20251211T195544Z
LAST-MODIFIED:20251211T202822Z
UID:7995-1772098200-1772103600@endhomelessnesskent.org
SUMMARY:General Membership
DESCRIPTION:
URL:https://endhomelessnesskent.org/event/general-membership-11/
LOCATION:Location\, TBD
END:VEVENT
BEGIN:VEVENT
DTSTART;TZID=America/Detroit:20260317T140000
DTEND;TZID=America/Detroit:20260317T153000
DTSTAMP:20260420T064103
CREATED:20251211T203708Z
LAST-MODIFIED:20251211T203708Z
UID:8018-1773756000-1773761400@endhomelessnesskent.org
SUMMARY:Coordinated Entry Committee
DESCRIPTION:
URL:https://endhomelessnesskent.org/event/coordinated-entry-committee-73/
LOCATION:Heart of West Michigan United Way\, 118 Commerce Ave SW\, Grand Rapids\, MI\, 49503\, United States
END:VEVENT
BEGIN:VEVENT
DTSTART;TZID=America/Detroit:20260320T093000
DTEND;TZID=America/Detroit:20260320T110000
DTSTAMP:20260420T064103
CREATED:20251211T203238Z
LAST-MODIFIED:20251211T203248Z
UID:8011-1773999000-1774004400@endhomelessnesskent.org
SUMMARY:Steering Council
DESCRIPTION:
URL:https://endhomelessnesskent.org/event/steering-council-77/
LOCATION:Heart of West Michigan United Way\, 118 Commerce Ave SW\, Grand Rapids\, MI\, 49503\, United States
END:VEVENT
BEGIN:VEVENT
DTSTART;TZID=America/Detroit:20260421T140000
DTEND;TZID=America/Detroit:20260421T153000
DTSTAMP:20260420T064103
CREATED:20251211T203811Z
LAST-MODIFIED:20251211T204137Z
UID:8020-1776780000-1776785400@endhomelessnesskent.org
SUMMARY:Coordinated Entry Committee
DESCRIPTION:
URL:https://endhomelessnesskent.org/event/coordinated-entry-committee-74/
LOCATION:Heart of West Michigan United Way\, 118 Commerce Ave SW\, Grand Rapids\, MI\, 49503\, United States
END:VEVENT
BEGIN:VEVENT
DTSTART;TZID=America/Detroit:20260423T093000
DTEND;TZID=America/Detroit:20260423T110000
DTSTAMP:20260420T064103
CREATED:20251211T195627Z
LAST-MODIFIED:20251211T202936Z
UID:7997-1776936600-1776942000@endhomelessnesskent.org
SUMMARY:General Membership
DESCRIPTION:
URL:https://endhomelessnesskent.org/event/general-membership-12/
LOCATION:Location\, TBD
END:VEVENT
END:VCALENDAR