BEGIN:VCALENDAR
VERSION:2.0
PRODID:-//Grand Rapids Area Coalition to End Homelessness - ECPv6.15.20//NONSGML v1.0//EN
CALSCALE:GREGORIAN
METHOD:PUBLISH
X-WR-CALNAME:Grand Rapids Area Coalition to End Homelessness
X-ORIGINAL-URL:https://endhomelessnesskent.org
X-WR-CALDESC:Events for Grand Rapids Area Coalition to End Homelessness
REFRESH-INTERVAL;VALUE=DURATION:PT1H
X-Robots-Tag:noindex
X-PUBLISHED-TTL:PT1H
BEGIN:VTIMEZONE
TZID:America/Detroit
BEGIN:DAYLIGHT
TZOFFSETFROM:-0500
TZOFFSETTO:-0400
TZNAME:EDT
DTSTART:20220313T070000
END:DAYLIGHT
BEGIN:STANDARD
TZOFFSETFROM:-0400
TZOFFSETTO:-0500
TZNAME:EST
DTSTART:20221106T060000
END:STANDARD
BEGIN:DAYLIGHT
TZOFFSETFROM:-0500
TZOFFSETTO:-0400
TZNAME:EDT
DTSTART:20230312T070000
END:DAYLIGHT
BEGIN:STANDARD
TZOFFSETFROM:-0400
TZOFFSETTO:-0500
TZNAME:EST
DTSTART:20231105T060000
END:STANDARD
BEGIN:DAYLIGHT
TZOFFSETFROM:-0500
TZOFFSETTO:-0400
TZNAME:EDT
DTSTART:20240310T070000
END:DAYLIGHT
BEGIN:STANDARD
TZOFFSETFROM:-0400
TZOFFSETTO:-0500
TZNAME:EST
DTSTART:20241103T060000
END:STANDARD
BEGIN:DAYLIGHT
TZOFFSETFROM:-0500
TZOFFSETTO:-0400
TZNAME:EDT
DTSTART:20250309T070000
END:DAYLIGHT
BEGIN:STANDARD
TZOFFSETFROM:-0400
TZOFFSETTO:-0500
TZNAME:EST
DTSTART:20251102T060000
END:STANDARD
END:VTIMEZONE
BEGIN:VEVENT
DTSTART;TZID=America/Detroit:20240419T083000
DTEND;TZID=America/Detroit:20240419T103000
DTSTAMP:20260420T065137
CREATED:20240131T203642Z
LAST-MODIFIED:20240131T203642Z
UID:7020-1713515400-1713522600@endhomelessnesskent.org
SUMMARY:Steering Council
DESCRIPTION:Join Zoom meeting
URL:https://endhomelessnesskent.org/event/steering-council-56/
LOCATION:Zoom\, MI\, United States
END:VEVENT
BEGIN:VEVENT
DTSTART;TZID=America/Detroit:20240411T140000
DTEND;TZID=America/Detroit:20240411T153000
DTSTAMP:20260420T065137
CREATED:20240131T205557Z
LAST-MODIFIED:20240131T205557Z
UID:7069-1712844000-1712849400@endhomelessnesskent.org
SUMMARY:Data Analysis
DESCRIPTION:Join Zoom meeting
URL:https://endhomelessnesskent.org/event/data-analysis-3/
LOCATION:Zoom\, MI\, United States
END:VEVENT
BEGIN:VEVENT
DTSTART;TZID=America/Detroit:20240409T140000
DTEND;TZID=America/Detroit:20240409T153000
DTSTAMP:20260420T065137
CREATED:20240130T165132Z
LAST-MODIFIED:20240130T165132Z
UID:6970-1712671200-1712676600@endhomelessnesskent.org
SUMMARY:Coordinated Entry Committee
DESCRIPTION:
URL:https://endhomelessnesskent.org/event/coordinated-entry-committee-54/
LOCATION:Heart of West Michigan United Way\, 118 Commerce Ave SW\, Grand Rapids\, MI\, 49503\, United States
END:VEVENT
BEGIN:VEVENT
DTSTART;TZID=America/Detroit:20240315T083000
DTEND;TZID=America/Detroit:20240315T103000
DTSTAMP:20260420T065137
CREATED:20240130T171217Z
LAST-MODIFIED:20240131T213521Z
UID:7008-1710491400-1710498600@endhomelessnesskent.org
SUMMARY:Steering Council
DESCRIPTION:
URL:https://endhomelessnesskent.org/event/steering-council-55/
LOCATION:Fair Housing Center of West Michigan\, 20 Hall St SE\, Grand Rapids\, MI\, 49507\, United States
END:VEVENT
BEGIN:VEVENT
DTSTART;TZID=America/Detroit:20240314T140000
DTEND;TZID=America/Detroit:20240314T153000
DTSTAMP:20260420T065137
CREATED:20240131T205512Z
LAST-MODIFIED:20240131T205512Z
UID:7066-1710424800-1710430200@endhomelessnesskent.org
SUMMARY:Data Analysis
DESCRIPTION:Join Zoom meeting
URL:https://endhomelessnesskent.org/event/data-analysis-2/
LOCATION:Zoom\, MI\, United States
END:VEVENT
BEGIN:VEVENT
DTSTART;TZID=America/Detroit:20240312T140000
DTEND;TZID=America/Detroit:20240312T153000
DTSTAMP:20260420T065137
CREATED:20240130T165052Z
LAST-MODIFIED:20240130T165052Z
UID:6967-1710252000-1710257400@endhomelessnesskent.org
SUMMARY:Coordinated Entry Committee
DESCRIPTION:
URL:https://endhomelessnesskent.org/event/coordinated-entry-committee-53/
LOCATION:Heart of West Michigan United Way\, 118 Commerce Ave SW\, Grand Rapids\, MI\, 49503\, United States
END:VEVENT
BEGIN:VEVENT
DTSTART;TZID=America/Detroit:20240222T093000
DTEND;TZID=America/Detroit:20240222T110000
DTSTAMP:20260420T065137
CREATED:20240131T204657Z
LAST-MODIFIED:20240221T192852Z
UID:7048-1708594200-1708599600@endhomelessnesskent.org
SUMMARY:February General Membership Meeting - POSTPONED
DESCRIPTION:More information will be provided as it becomes available.
URL:https://endhomelessnesskent.org/event/general-membership/
LOCATION:MI
END:VEVENT
BEGIN:VEVENT
DTSTART;TZID=America/Detroit:20240216T083000
DTEND;TZID=America/Detroit:20240216T110000
DTSTAMP:20260420T065137
CREATED:20240130T170705Z
LAST-MODIFIED:20240131T203218Z
UID:7001-1708072200-1708081200@endhomelessnesskent.org
SUMMARY:Steering Council
DESCRIPTION:Join Zoom meeting
URL:https://endhomelessnesskent.org/event/steering-council-54/
LOCATION:Zoom\, MI\, United States
END:VEVENT
BEGIN:VEVENT
DTSTART;TZID=America/Detroit:20240215T140000
DTEND;TZID=America/Detroit:20240215T153000
DTSTAMP:20260420T065137
CREATED:20240131T205433Z
LAST-MODIFIED:20240131T205433Z
UID:7063-1708005600-1708011000@endhomelessnesskent.org
SUMMARY:Data Analysis
DESCRIPTION:Join Zoom meeting
URL:https://endhomelessnesskent.org/event/data-analysis/
LOCATION:Zoom\, MI\, United States
END:VEVENT
BEGIN:VEVENT
DTSTART;TZID=America/Detroit:20240213T140000
DTEND;TZID=America/Detroit:20240213T153000
DTSTAMP:20260420T065137
CREATED:20240130T164853Z
LAST-MODIFIED:20240130T164853Z
UID:6964-1707832800-1707838200@endhomelessnesskent.org
SUMMARY:Coordinated Entry Committee
DESCRIPTION:
URL:https://endhomelessnesskent.org/event/coordinated-entry-committee-52/
LOCATION:Heart of West Michigan United Way\, 118 Commerce Ave SW\, Grand Rapids\, MI\, 49503\, United States
END:VEVENT
BEGIN:VEVENT
DTSTART;TZID=America/Detroit:20231215T083000
DTEND;TZID=America/Detroit:20231215T103000
DTSTAMP:20260420T065137
CREATED:20230119T183219Z
LAST-MODIFIED:20230313T204511Z
UID:6261-1702629000-1702636200@endhomelessnesskent.org
SUMMARY:Steering Council
DESCRIPTION:In person\, location TBD
URL:https://endhomelessnesskent.org/event/steering-council-53/
LOCATION:MI
END:VEVENT
BEGIN:VEVENT
DTSTART;TZID=America/Detroit:20231214T140000
DTEND;TZID=America/Detroit:20231214T153000
DTSTAMP:20260420T065137
CREATED:20230119T183253Z
LAST-MODIFIED:20230130T161820Z
UID:6273-1702562400-1702567800@endhomelessnesskent.org
SUMMARY:Data Analysis Committee
DESCRIPTION:Join Zoom Meeting: https://us02web.zoom.us/j/4350176715?pwd=bXZ3THM5Mkd6elJlOE1SK2tmUFZUdz09; Meeting ID: 435 017 6715; Passcode: CoC
URL:https://endhomelessnesskent.org/event/data-analysis-committee-48/
LOCATION:Zoom\, MI\, United States
END:VEVENT
BEGIN:VEVENT
DTSTART;TZID=America/Detroit:20231214T093000
DTEND;TZID=America/Detroit:20231214T110000
DTSTAMP:20260420T065137
CREATED:20230130T161735Z
LAST-MODIFIED:20231023T193725Z
UID:6349-1702546200-1702551600@endhomelessnesskent.org
SUMMARY:CoC/CTEH General Membership Meeting
DESCRIPTION:Join Zoom Meeting: https://us02web.zoom.us/j/86380795110?pwd=R1N1eFZpWWFmZWN2UDdKWmhsVjZjdz09 ; Meeting ID: 863 8079 5110\, Passcode: 326434
URL:https://endhomelessnesskent.org/event/coc-cteh-general-membership-meeting-24/
LOCATION:Zoom\, MI\, United States
END:VEVENT
BEGIN:VEVENT
DTSTART;TZID=America/Detroit:20231205T140000
DTEND;TZID=America/Detroit:20231205T153000
DTSTAMP:20260420T065137
CREATED:20230119T182925Z
LAST-MODIFIED:20230130T161649Z
UID:6249-1701784800-1701790200@endhomelessnesskent.org
SUMMARY:Coordinated Entry Committee
DESCRIPTION:Join Zoom Meeting:https://us02web.zoom.us/j/81191808810?pwd=b3JiL1FUOXBVTjdRbFgydjRxMzVWdz09 ; Meeting ID: 811 9180 8810; Passcode: 797425
URL:https://endhomelessnesskent.org/event/coordinated-entry-committee-50/
LOCATION:Zoom\, MI\, United States
END:VEVENT
BEGIN:VEVENT
DTSTART;TZID=America/Detroit:20231117T083000
DTEND;TZID=America/Detroit:20231117T103000
DTSTAMP:20260420T065137
CREATED:20230119T183219Z
LAST-MODIFIED:20230130T161720Z
UID:6260-1700209800-1700217000@endhomelessnesskent.org
SUMMARY:Steering Council
DESCRIPTION:Join Zoom Meeting:https://us02web.zoom.us/j/82718363128?pwd=aGlJaWl4OUE4Z1VNTUp1bjJUMzk3dz09 ; Meeting ID: 827 1836 3128; Password: CoC (024224)
URL:https://endhomelessnesskent.org/event/steering-council-52/
LOCATION:Zoom\, MI\, United States
END:VEVENT
BEGIN:VEVENT
DTSTART;TZID=America/Detroit:20231113T130000
DTEND;TZID=America/Detroit:20231113T150000
DTSTAMP:20260420T065137
CREATED:20231110T191118Z
LAST-MODIFIED:20231110T191118Z
UID:6861-1699880400-1699887600@endhomelessnesskent.org
SUMMARY:LGBTQ 101 + Homelessness Training
DESCRIPTION:Join the Grand Rapids Area Coalition to End Homelessness for a training presented by Jazz McKinney of the Grand Rapids Pride Center! \nWe are excited to invite our community to this training\, which will include LGBTQ 101\, plus the intersectionality with homelessness\, particularly for youth. This will be an in-person event at the Heart of West Michigan United Way.
URL:https://endhomelessnesskent.org/event/lgbtq-101-homelessness-training/
LOCATION:Heart of West Michigan United Way\, 118 Commerce Ave SW\, Grand Rapids\, MI\, 49503\, United States
END:VEVENT
BEGIN:VEVENT
DTSTART;TZID=America/Detroit:20231109T140000
DTEND;TZID=America/Detroit:20231109T153000
DTSTAMP:20260420T065137
CREATED:20230119T183253Z
LAST-MODIFIED:20230130T161805Z
UID:6272-1699538400-1699543800@endhomelessnesskent.org
SUMMARY:Data Analysis Committee
DESCRIPTION:Join Zoom Meeting: https://us02web.zoom.us/j/4350176715?pwd=bXZ3THM5Mkd6elJlOE1SK2tmUFZUdz09; Meeting ID: 435 017 6715; Passcode: CoC
URL:https://endhomelessnesskent.org/event/data-analysis-committee-47/
LOCATION:Zoom\, MI\, United States
END:VEVENT
BEGIN:VEVENT
DTSTART;TZID=America/Detroit:20231107T140000
DTEND;TZID=America/Detroit:20231107T153000
DTSTAMP:20260420T065137
CREATED:20230119T182925Z
LAST-MODIFIED:20230130T161635Z
UID:6248-1699365600-1699371000@endhomelessnesskent.org
SUMMARY:Coordinated Entry Committee
DESCRIPTION:Join Zoom Meeting:https://us02web.zoom.us/j/81191808810?pwd=b3JiL1FUOXBVTjdRbFgydjRxMzVWdz09 ; Meeting ID: 811 9180 8810; Passcode: 797425
URL:https://endhomelessnesskent.org/event/coordinated-entry-committee-49/
LOCATION:Zoom\, MI\, United States
END:VEVENT
BEGIN:VEVENT
DTSTART;TZID=America/Detroit:20231027T090000
DTEND;TZID=America/Detroit:20231027T140000
DTSTAMP:20260420T065137
CREATED:20231023T194329Z
LAST-MODIFIED:20231023T194329Z
UID:6846-1698397200-1698415200@endhomelessnesskent.org
SUMMARY:Youth Homelessness Demonstration Project Kickoff Event
DESCRIPTION:Our Youth Action Board and HUD Technical Assistance provider will be present and are excited to share the progress that we have made on our Youth Homelessness Demonstration Project and our next steps over the next two years. Come show support for this exciting work and connect with the community around it!
URL:https://endhomelessnesskent.org/event/youth-homelessness-demonstration-project-kickoff-event/
LOCATION:MI
END:VEVENT
BEGIN:VEVENT
DTSTART;TZID=America/Detroit:20231026T093000
DTEND;TZID=America/Detroit:20231026T110000
DTSTAMP:20260420T065137
CREATED:20230130T161735Z
LAST-MODIFIED:20231023T193944Z
UID:6348-1698312600-1698318000@endhomelessnesskent.org
SUMMARY:CoC/CTEH General Membership Meeting
DESCRIPTION:
URL:https://endhomelessnesskent.org/event/coc-cteh-general-membership-meeting-23/
LOCATION:Heart of West Michigan United Way\, 118 Commerce Ave SW\, Grand Rapids\, MI\, 49503\, United States
END:VEVENT
BEGIN:VEVENT
DTSTART;TZID=America/Detroit:20231026T090000
DTEND;TZID=America/Detroit:20231026T140000
DTSTAMP:20260420T065137
CREATED:20231023T194225Z
LAST-MODIFIED:20231023T194252Z
UID:6841-1698310800-1698328800@endhomelessnesskent.org
SUMMARY:Youth Homelessness Demonstration Project Kickoff
DESCRIPTION:Our Youth Action Board and HUD Technical Assistance provider will be present and are excited to share the progress that we have made on our Youth Homelessness Demonstration Project and our next steps over the next two years. Come show support for this exciting work and connect with the community around it!
URL:https://endhomelessnesskent.org/event/youth-homelessness-demonstration-project-kickoff/
LOCATION:Heart of West Michigan United Way\, 118 Commerce Ave SW\, Grand Rapids\, MI\, 49503\, United States
END:VEVENT
BEGIN:VEVENT
DTSTART;TZID=America/Detroit:20231020T083000
DTEND;TZID=America/Detroit:20231020T103000
DTSTAMP:20260420T065137
CREATED:20230119T183218Z
LAST-MODIFIED:20230130T161720Z
UID:6259-1697790600-1697797800@endhomelessnesskent.org
SUMMARY:Steering Council
DESCRIPTION:Join Zoom Meeting:https://us02web.zoom.us/j/82718363128?pwd=aGlJaWl4OUE4Z1VNTUp1bjJUMzk3dz09 ; Meeting ID: 827 1836 3128; Password: CoC (024224)
URL:https://endhomelessnesskent.org/event/steering-council-51/
LOCATION:Zoom\, MI\, United States
END:VEVENT
BEGIN:VEVENT
DTSTART;TZID=America/Detroit:20231012T140000
DTEND;TZID=America/Detroit:20231012T153000
DTSTAMP:20260420T065137
CREATED:20230119T183239Z
LAST-MODIFIED:20230130T161805Z
UID:6271-1697119200-1697124600@endhomelessnesskent.org
SUMMARY:Data Analysis Committee
DESCRIPTION:Join Zoom Meeting: https://us02web.zoom.us/j/4350176715?pwd=bXZ3THM5Mkd6elJlOE1SK2tmUFZUdz09; Meeting ID: 435 017 6715; Passcode: CoC
URL:https://endhomelessnesskent.org/event/data-analysis-committee-46/
LOCATION:Zoom\, MI\, United States
END:VEVENT
BEGIN:VEVENT
DTSTART;TZID=America/Detroit:20231005T093000
DTEND;TZID=America/Detroit:20231005T110000
DTSTAMP:20260420T065137
CREATED:20230912T162827Z
LAST-MODIFIED:20230912T193605Z
UID:6794-1696498200-1696503600@endhomelessnesskent.org
SUMMARY:Fair Housing Training
DESCRIPTION:Join the Grand Rapids Area Coalition to End Homelessness for a Fair Housing training by the Fair Housing Center West Michigan.  \nThis training is geared toward providers about how to effectively implement the Equal Access to Housing in HUD Programs Regardless of Sexual Orientation or Gender Identity Rule\, and the Equal Access in Accordance with an Individual’s Gender Identity in Community Planning and Development Programs Rule. It will also address the CoC-wide anti-discrimination policy ensuring that LGBTQ+ individuals and families receive supportive services\, shelter\, and housing free from discrimination. This event is free and open to the public. \nJoin Zoom Meeting\nhttps://us02web.zoom.us/j/84346301464?pwd=NEtHZWM5eFo1MmQyYUNOWCtuWnd4Zz09\nMeeting ID: 843 4630 1464\nPasscode: 5589
URL:https://endhomelessnesskent.org/event/fair-housing-training/
LOCATION:Zoom\, MI\, United States
END:VEVENT
BEGIN:VEVENT
DTSTART;TZID=America/Detroit:20231003T140000
DTEND;TZID=America/Detroit:20231003T153000
DTSTAMP:20260420T065137
CREATED:20230119T182925Z
LAST-MODIFIED:20230130T161635Z
UID:6247-1696341600-1696347000@endhomelessnesskent.org
SUMMARY:Coordinated Entry Committee
DESCRIPTION:Join Zoom Meeting:https://us02web.zoom.us/j/81191808810?pwd=b3JiL1FUOXBVTjdRbFgydjRxMzVWdz09 ; Meeting ID: 811 9180 8810; Passcode: 797425
URL:https://endhomelessnesskent.org/event/coordinated-entry-committee-48/
LOCATION:Zoom\, MI\, United States
END:VEVENT
BEGIN:VEVENT
DTSTART;TZID=America/Detroit:20231002T113000
DTEND;TZID=America/Detroit:20231002T123000
DTSTAMP:20260420T065137
CREATED:20230130T161920Z
LAST-MODIFIED:20230130T161920Z
UID:6381-1696246200-1696249800@endhomelessnesskent.org
SUMMARY:Built For Zero Planning Team
DESCRIPTION:Join Zoom Meeting: https://us02web.zoom.us/j/4350176715?pwd=bXZ3THM5Mkd6elJlOE1SK2tmUFZUdz09; Meeting ID: 435 017 6715; Passcode: CoC
URL:https://endhomelessnesskent.org/event/built-for-zero-planning-team-9/
LOCATION:Zoom\, MI\, United States
END:VEVENT
BEGIN:VEVENT
DTSTART;TZID=America/Detroit:20230922T110000
DTEND;TZID=America/Detroit:20230922T123000
DTSTAMP:20260420T065137
CREATED:20230119T184138Z
LAST-MODIFIED:20230130T161835Z
UID:6306-1695380400-1695385800@endhomelessnesskent.org
SUMMARY:Youth Committee
DESCRIPTION:Join Zoom Meeting: https://us02web.zoom.us/j/83296636178?pwd=UXVjRHd1VENiTGNDYXhBTFRBcWVUUT09; Meeting ID: 832 9663 6178 ; Passcode: 722881
URL:https://endhomelessnesskent.org/event/youth-committee-42/
LOCATION:Zoom\, MI\, United States
END:VEVENT
BEGIN:VEVENT
DTSTART;TZID=America/Detroit:20230915T083000
DTEND;TZID=America/Detroit:20230915T103000
DTSTAMP:20260420T065137
CREATED:20230119T183217Z
LAST-MODIFIED:20230313T204521Z
UID:6258-1694766600-1694773800@endhomelessnesskent.org
SUMMARY:Steering Council
DESCRIPTION:In person\, location TBD
URL:https://endhomelessnesskent.org/event/steering-council-50/
LOCATION:MI
END:VEVENT
BEGIN:VEVENT
DTSTART;TZID=America/Detroit:20230914T140000
DTEND;TZID=America/Detroit:20230914T153000
DTSTAMP:20260420T065137
CREATED:20230119T183239Z
LAST-MODIFIED:20230130T161805Z
UID:6270-1694700000-1694705400@endhomelessnesskent.org
SUMMARY:Data Analysis Committee
DESCRIPTION:Join Zoom Meeting: https://us02web.zoom.us/j/4350176715?pwd=bXZ3THM5Mkd6elJlOE1SK2tmUFZUdz09; Meeting ID: 435 017 6715; Passcode: CoC
URL:https://endhomelessnesskent.org/event/data-analysis-committee-45/
LOCATION:Zoom\, MI\, United States
END:VEVENT
BEGIN:VEVENT
DTSTART;TZID=America/Detroit:20230905T140000
DTEND;TZID=America/Detroit:20230905T153000
DTSTAMP:20260420T065137
CREATED:20230119T182910Z
LAST-MODIFIED:20230130T161635Z
UID:6246-1693922400-1693927800@endhomelessnesskent.org
SUMMARY:Coordinated Entry Committee
DESCRIPTION:Join Zoom Meeting:https://us02web.zoom.us/j/81191808810?pwd=b3JiL1FUOXBVTjdRbFgydjRxMzVWdz09 ; Meeting ID: 811 9180 8810; Passcode: 797425
URL:https://endhomelessnesskent.org/event/coordinated-entry-committee-47/
LOCATION:Zoom\, MI\, United States
END:VEVENT
END:VCALENDAR