BEGIN:VCALENDAR
VERSION:2.0
PRODID:-//Grand Rapids Area Coalition to End Homelessness - ECPv6.15.20//NONSGML v1.0//EN
CALSCALE:GREGORIAN
METHOD:PUBLISH
X-WR-CALNAME:Grand Rapids Area Coalition to End Homelessness
X-ORIGINAL-URL:https://endhomelessnesskent.org
X-WR-CALDESC:Events for Grand Rapids Area Coalition to End Homelessness
REFRESH-INTERVAL;VALUE=DURATION:PT1H
X-Robots-Tag:noindex
X-PUBLISHED-TTL:PT1H
BEGIN:VTIMEZONE
TZID:America/Detroit
BEGIN:DAYLIGHT
TZOFFSETFROM:-0500
TZOFFSETTO:-0400
TZNAME:EDT
DTSTART:20150308T070000
END:DAYLIGHT
BEGIN:STANDARD
TZOFFSETFROM:-0400
TZOFFSETTO:-0500
TZNAME:EST
DTSTART:20151101T060000
END:STANDARD
BEGIN:DAYLIGHT
TZOFFSETFROM:-0500
TZOFFSETTO:-0400
TZNAME:EDT
DTSTART:20160313T070000
END:DAYLIGHT
BEGIN:STANDARD
TZOFFSETFROM:-0400
TZOFFSETTO:-0500
TZNAME:EST
DTSTART:20161106T060000
END:STANDARD
BEGIN:DAYLIGHT
TZOFFSETFROM:-0500
TZOFFSETTO:-0400
TZNAME:EDT
DTSTART:20170312T070000
END:DAYLIGHT
BEGIN:STANDARD
TZOFFSETFROM:-0400
TZOFFSETTO:-0500
TZNAME:EST
DTSTART:20171105T060000
END:STANDARD
BEGIN:DAYLIGHT
TZOFFSETFROM:-0500
TZOFFSETTO:-0400
TZNAME:EDT
DTSTART:20180311T070000
END:DAYLIGHT
BEGIN:STANDARD
TZOFFSETFROM:-0400
TZOFFSETTO:-0500
TZNAME:EST
DTSTART:20181104T060000
END:STANDARD
BEGIN:DAYLIGHT
TZOFFSETFROM:-0500
TZOFFSETTO:-0400
TZNAME:EDT
DTSTART:20190310T070000
END:DAYLIGHT
BEGIN:STANDARD
TZOFFSETFROM:-0400
TZOFFSETTO:-0500
TZNAME:EST
DTSTART:20191103T060000
END:STANDARD
BEGIN:DAYLIGHT
TZOFFSETFROM:-0500
TZOFFSETTO:-0400
TZNAME:EDT
DTSTART:20200308T070000
END:DAYLIGHT
BEGIN:STANDARD
TZOFFSETFROM:-0400
TZOFFSETTO:-0500
TZNAME:EST
DTSTART:20201101T060000
END:STANDARD
END:VTIMEZONE
BEGIN:VEVENT
DTSTART;TZID=America/Detroit:20190822T093000
DTEND;TZID=America/Detroit:20190822T093000
DTSTAMP:20260422T040047
CREATED:20190205T152541Z
LAST-MODIFIED:20190208T174035Z
UID:3016-1566466200-1566466200@endhomelessnesskent.org
SUMMARY:CoC General Membership Meeting
DESCRIPTION:
URL:https://endhomelessnesskent.org/event/coc-general-membership-meeting-4/
LOCATION:MI
END:VEVENT
BEGIN:VEVENT
DTSTART;TZID=America/Detroit:20190816T083000
DTEND;TZID=America/Detroit:20190816T103000
DTSTAMP:20260422T040047
CREATED:20190514T135229Z
LAST-MODIFIED:20190523T131646Z
UID:3307-1565944200-1565951400@endhomelessnesskent.org
SUMMARY:Steering Council
DESCRIPTION:
URL:https://endhomelessnesskent.org/event/steering-council-6/
LOCATION:Wyoming City Hall\, 1155 28th St. SW\, Wyoming\, MI\, 49509\, United States
CATEGORIES:Steering Council
END:VEVENT
BEGIN:VEVENT
DTSTART;TZID=America/Detroit:20190627T093000
DTEND;TZID=America/Detroit:20190627T110000
DTSTAMP:20260422T040047
CREATED:20190205T152540Z
LAST-MODIFIED:20190218T143142Z
UID:3015-1561627800-1561633200@endhomelessnesskent.org
SUMMARY:CoC General Membership Meeting
DESCRIPTION:
URL:https://endhomelessnesskent.org/event/coc-general-membership-meeting-3/
LOCATION:Salvation Army Kroc Center\, 2500 S Division\, Grand Rapids\, MI\, 49507\, United States
END:VEVENT
BEGIN:VEVENT
DTSTART;TZID=America/Detroit:20190621T083000
DTEND;TZID=America/Detroit:20190621T103000
DTSTAMP:20260422T040047
CREATED:20190514T134614Z
LAST-MODIFIED:20190523T131737Z
UID:3301-1561105800-1561113000@endhomelessnesskent.org
SUMMARY:Steering Council
DESCRIPTION:
URL:https://endhomelessnesskent.org/event/steering-council-4/
LOCATION:Wyoming City Hall\, 1155 28th St. SW\, Wyoming\, MI\, 49509\, United States
CATEGORIES:Steering Council
END:VEVENT
BEGIN:VEVENT
DTSTART;TZID=America/Detroit:20190604T180000
DTEND;TZID=America/Detroit:20190604T200000
DTSTAMP:20260422T040047
CREATED:20190528T160218Z
LAST-MODIFIED:20190528T160540Z
UID:3445-1559671200-1559678400@endhomelessnesskent.org
SUMMARY:Owned: Screening and Panel Discussion
DESCRIPTION:Owned: A Tale of Two Americas is a documentary by Giorgio Angelini that details the policy decisions that resulted in systemic housing segregation and neighborhood inequality throughout America. The film explores the racist roots of American housing policy and details the choices that led to widespread commoditization of housing and the economic collapse of 2008. The film will be followed by a community-driven panel discussion. The screening part of the Our Homes\, Our Voices National Week of Housing Action by the National Low-Income Housing Coalition\, in partnership with the Michigan Coalition Against Homelessness and the Community Economic Development Association of Michigan. \nThe trailer for this film can be viewed by clicking HERE. \nRegister for the event HERE.
URL:https://endhomelessnesskent.org/event/owned-screening-and-panel-discussion/
LOCATION:GVSU Loosemore Auditorium\, 401 Fulton St\, W\, Grand Rapids\, 49505\, United States
ATTACH;FMTTYPE=image/png:https://endhomelessnesskent.org/wp-content/uploads/2019/05/HousingWeekOfAction_GrandRapids.png
END:VEVENT
BEGIN:VEVENT
DTSTART;TZID=America/Detroit:20190517T083000
DTEND;TZID=America/Detroit:20190517T220000
DTSTAMP:20260422T040047
CREATED:20190422T195228Z
LAST-MODIFIED:20190422T195228Z
UID:3235-1558081800-1558130400@endhomelessnesskent.org
SUMMARY:Steering Council
DESCRIPTION:
URL:https://endhomelessnesskent.org/event/steering-council-3/
LOCATION:Kent District Library – Wyoming\, 3350 Michael Ave SW\, Wyoming\, MI\, 49509\, United States
CATEGORIES:Steering Council
END:VEVENT
BEGIN:VEVENT
DTSTART;TZID=America/Detroit:20190503T090000
DTEND;TZID=America/Detroit:20190503T100000
DTSTAMP:20260422T040047
CREATED:20190429T172522Z
LAST-MODIFIED:20190429T172522Z
UID:3272-1556874000-1556877600@endhomelessnesskent.org
SUMMARY:Special Steering Council Meeting
DESCRIPTION:A special meeting of the Steering Council of the Grand Rapids/Wyoming/ Kent County Continuum of Care will be held at Heart of West Michigan United Way on May 3rd at 9am to review the petition of the Youth Committee\, which requires action prior to the May Steering Council meeting. The petition includes: \n\nRequest that the Steering Committee reconsider its decision to not apply for the Youth Homelessness Demonstration Project grant this year; and\nRequest that the Steering Committee delegates\, for this funding source in this year’s round only\, their authority to the Youth Committee and Youth Action Board to select a lead agency and apply for the Youth Homelessness Demonstration Project grant\n\nQuestions or accommodations requests can be directed to Courtney Myers-Keaton or Brianne Czyzio
URL:https://endhomelessnesskent.org/event/special-steering-council-meeting/
LOCATION:Heart of West Michigan United Way\, 118 Commerce Ave SW\, Grand Rapids\, MI\, 49503\, United States
CATEGORIES:Steering Council
END:VEVENT
BEGIN:VEVENT
DTSTART;TZID=America/Detroit:20190419T083000
DTEND;TZID=America/Detroit:20190419T220000
DTSTAMP:20260422T040047
CREATED:20190422T195141Z
LAST-MODIFIED:20190422T195141Z
UID:3229-1555662600-1555711200@endhomelessnesskent.org
SUMMARY:Steering Council
DESCRIPTION:
URL:https://endhomelessnesskent.org/event/steering-council-2/
LOCATION:Kent District Library – Wyoming\, 3350 Michael Ave SW\, Wyoming\, MI\, 49509\, United States
CATEGORIES:Steering Council
END:VEVENT
BEGIN:VEVENT
DTSTART;TZID=America/Detroit:20190418T093000
DTEND;TZID=America/Detroit:20190418T110000
DTSTAMP:20260422T040047
CREATED:20190205T152540Z
LAST-MODIFIED:20190205T152700Z
UID:3014-1555579800-1555585200@endhomelessnesskent.org
SUMMARY:CoC General Membership Meeting
DESCRIPTION:
URL:https://endhomelessnesskent.org/event/coc-general-membership-meeting-2/
LOCATION:Salvation Army Kroc Center\, 2500 S Division\, Grand Rapids\, MI\, 49507\, United States
END:VEVENT
BEGIN:VEVENT
DTSTART;TZID=America/Detroit:20190315T083000
DTEND;TZID=America/Detroit:20190315T100000
DTSTAMP:20260422T040047
CREATED:20190218T143013Z
LAST-MODIFIED:20190313T154351Z
UID:3184-1552638600-1552644000@endhomelessnesskent.org
SUMMARY:Steering Council
DESCRIPTION:2019 Steering Council Dates \nJanuary 18 \nFebruary 15 \nMarch 15 \nApril 19 \nMay 17 \nJune 21 \nJuly 19 \nAugust 16 \nSeptember 20 \nOctober 18 \nNovember 15
URL:https://endhomelessnesskent.org/event/steering-council/
LOCATION:Kent ISD\, 2930 Knapp NE\, Grand Rapids\, MI\, 49546\, United States
END:VEVENT
BEGIN:VEVENT
DTSTART;TZID=America/Detroit:20190228T093000
DTEND;TZID=America/Detroit:20190228T110000
DTSTAMP:20260422T040047
CREATED:20190205T152539Z
LAST-MODIFIED:20190226T164935Z
UID:3013-1551346200-1551351600@endhomelessnesskent.org
SUMMARY:CoC General Membership Meeting
DESCRIPTION:
URL:https://endhomelessnesskent.org/event/coc-general-membership-meeting/
LOCATION:Salvation Army Kroc Center\, 2500 S Division\, Grand Rapids\, MI\, 49507\, United States
END:VEVENT
BEGIN:VEVENT
DTSTART;TZID=America/Detroit:20190118T083000
DTEND;TZID=America/Detroit:20190118T100000
DTSTAMP:20260422T040047
CREATED:20190107T164304Z
LAST-MODIFIED:20190107T164347Z
UID:2683-1547800200-1547805600@endhomelessnesskent.org
SUMMARY:Steering Council Meeting
DESCRIPTION:
URL:https://endhomelessnesskent.org/event/steering-council-meeting-16/
LOCATION:St. James Place\, 750 First St. NW\, Grand Rapids\, 49504\, United States
END:VEVENT
BEGIN:VEVENT
DTSTART;TZID=America/Detroit:20181213T043000
DTEND;TZID=America/Detroit:20181213T060000
DTSTAMP:20260422T040047
CREATED:20181119T230026Z
LAST-MODIFIED:20181119T230146Z
UID:2539-1544675400-1544680800@endhomelessnesskent.org
SUMMARY:Coalition to End Homelessness (CoC) Meeting
DESCRIPTION:
URL:https://endhomelessnesskent.org/event/coalition-to-end-homelessness-coc-meeting/
LOCATION:Salvation Army Kroc Center\, 2500 S Division\, Grand Rapids\, MI\, 49507\, United States
END:VEVENT
BEGIN:VEVENT
DTSTART;TZID=America/Detroit:20180730T200000
DTEND;TZID=America/Detroit:20180730T200000
DTSTAMP:20260422T040047
CREATED:20180801T214918Z
LAST-MODIFIED:20180802T204851Z
UID:2415-1532980800-1532980800@endhomelessnesskent.org
SUMMARY:July HMIS Users Meeting
DESCRIPTION:https://endhomelessnesskent.org/wp-content/uploads/2018/08/July-HMIS-Users-Meeting.mp4\n  \n  \nSurvey Monkey Evaluation 
URL:https://endhomelessnesskent.org/event/july-hmis-users-meeting/
LOCATION:MI
END:VEVENT
BEGIN:VEVENT
DTSTART;TZID=America/Detroit:20180316T043000
DTEND;TZID=America/Detroit:20180316T060000
DTSTAMP:20260422T040047
CREATED:20180111T212914Z
LAST-MODIFIED:20180111T212914Z
UID:2306-1521174600-1521180000@endhomelessnesskent.org
SUMMARY:Steering Council Meeting
DESCRIPTION:To facilitate effective execution of Coalition goals\, a Steering Council performs the functions of a CoC board\, with certain specific responsibilities assigned by the Continuum of Care through the Governance Charter.
URL:https://endhomelessnesskent.org/event/steering-council-meeting-15/
LOCATION:Community Rebuilders\, 1120 Monroe Ave NW\, Grand Rapids\, MI\, 49503
END:VEVENT
BEGIN:VEVENT
DTSTART;TZID=America/Detroit:20180227T053000
DTEND;TZID=America/Detroit:20180227T063000
DTSTAMP:20260422T040047
CREATED:20180313T185300Z
LAST-MODIFIED:20180313T185506Z
UID:2348-1519709400-1519713000@endhomelessnesskent.org
SUMMARY:February HMIS Users Meeting
DESCRIPTION:Audio/video document that accompanied this meeting. \n  \nhttps://endhomelessnesskent.org/wp-content/uploads/2018/03/February-HMIS-users-meeting.mp4
URL:https://endhomelessnesskent.org/event/february-hmis-users-meeting/
LOCATION:MI
END:VEVENT
BEGIN:VEVENT
DTSTART;TZID=America/Detroit:20180222T043000
DTEND;TZID=America/Detroit:20180222T060000
DTSTAMP:20260422T040047
CREATED:20180111T213346Z
LAST-MODIFIED:20180111T213346Z
UID:2308-1519273800-1519279200@endhomelessnesskent.org
SUMMARY:Coalition to End Homelessness (CoC) Meeting
DESCRIPTION:The work of this committee is seeking to accomplish the goal:  All Kent County residents have stable-affordable housing. \nThese meetings are open to anyone who seeks to participate in this conversation.
URL:https://endhomelessnesskent.org/event/coalition-end-homelessness-coc-meeting/
LOCATION:Salvation Army Kroc Center\, 2500 S Division\, Grand Rapids\, MI\, 49507\, United States
END:VEVENT
BEGIN:VEVENT
DTSTART;TZID=America/Detroit:20180216T033000
DTEND;TZID=America/Detroit:20180216T050000
DTSTAMP:20260422T040047
CREATED:20180111T212817Z
LAST-MODIFIED:20180215T185411Z
UID:2304-1518751800-1518757200@endhomelessnesskent.org
SUMMARY:Steering Council Meeting
DESCRIPTION:To facilitate effective execution of Coalition goals\, a Steering Council performs the functions of a CoC board\, with certain specific responsibilities assigned by the Continuum of Care through the Governance Charter.
URL:https://endhomelessnesskent.org/event/steering-council-meeting-14/
LOCATION:Community Rebuilders\, 1120 Monroe Ave NW\, Grand Rapids\, MI\, 49503
END:VEVENT
BEGIN:VEVENT
DTSTART;TZID=America/Detroit:20180119T033000
DTEND;TZID=America/Detroit:20180119T050000
DTSTAMP:20260422T040047
CREATED:20180111T212318Z
LAST-MODIFIED:20180111T212318Z
UID:2300-1516332600-1516338000@endhomelessnesskent.org
SUMMARY:Steering Council Meeting
DESCRIPTION:To facilitate effective execution of Coalition goals\, a Steering Council performs the functions of a CoC board\, with certain specific responsibilities assigned by the Continuum of Care through the Governance Charter.
URL:https://endhomelessnesskent.org/event/steering-council-meeting-13/
LOCATION:Community Rebuilders\, 1120 Monroe Ave NW\, Grand Rapids\, MI\, 49503
END:VEVENT
BEGIN:VEVENT
DTSTART;TZID=America/Detroit:20171117T033000
DTEND;TZID=America/Detroit:20171117T050000
DTSTAMP:20260422T040047
CREATED:20171115T230217Z
LAST-MODIFIED:20171115T230217Z
UID:2274-1510889400-1510894800@endhomelessnesskent.org
SUMMARY:Steering Committee Meeting
DESCRIPTION:The Coalition Continuum of Care represents many community stakeholders in carrying out the mission of leading the community in finding solutions for preventing and ending homelessness. To facilitate effective execution of Coalition goals\, a Steering Council performs the functions of a CoC board\, with certain specific responsibilities assigned by the Continuum of Care through the Governance Charter. Positions are held for representatives from the Cities of Grand Rapids and Wyoming and Kent County\, all other seats are elected to three year terms
URL:https://endhomelessnesskent.org/event/steering-committee-meeting/
LOCATION:MI
END:VEVENT
BEGIN:VEVENT
DTSTART;TZID=America/Detroit:20161216T033000
DTEND;TZID=America/Detroit:20161216T050000
DTSTAMP:20260422T040047
CREATED:20160419T165941Z
LAST-MODIFIED:20160419T165941Z
UID:1604-1481859000-1481864400@endhomelessnesskent.org
SUMMARY:Steering Council Meeting
DESCRIPTION:
URL:https://endhomelessnesskent.org/event/steering-council-meeting-12/
LOCATION:network 180\, 790 Fuller NE\, Grand Rapids\, MI\, 49503\, United States
END:VEVENT
BEGIN:VEVENT
DTSTART;TZID=America/Detroit:20161215T043000
DTEND;TZID=America/Detroit:20161215T060000
DTSTAMP:20260422T040047
CREATED:20160419T165334Z
LAST-MODIFIED:20160419T165334Z
UID:1593-1481776200-1481781600@endhomelessnesskent.org
SUMMARY:CoC Meeting
DESCRIPTION:
URL:https://endhomelessnesskent.org/event/coc-meeting-6/
LOCATION:Salvation Army Kroc Center\, 2500 S Division\, Grand Rapids\, MI\, 49507\, United States
END:VEVENT
BEGIN:VEVENT
DTSTART;TZID=America/Detroit:20161118T033000
DTEND;TZID=America/Detroit:20161118T050000
DTSTAMP:20260422T040047
CREATED:20160419T165916Z
LAST-MODIFIED:20160419T165916Z
UID:1603-1479439800-1479445200@endhomelessnesskent.org
SUMMARY:Steering Council Meeting
DESCRIPTION:
URL:https://endhomelessnesskent.org/event/steering-council-meeting-11/
LOCATION:network 180\, 790 Fuller NE\, Grand Rapids\, MI\, 49503\, United States
END:VEVENT
BEGIN:VEVENT
DTSTART;TZID=America/Detroit:20161117T070000
DTEND;TZID=America/Detroit:20161117T080000
DTSTAMP:20260422T040047
CREATED:20161114T194901Z
LAST-MODIFIED:20161114T200504Z
UID:1912-1479366000-1479369600@endhomelessnesskent.org
SUMMARY:Coalition Book Club-Evicted
DESCRIPTION:Join us for a discussion of the Matthew Desmond’s book Evicted: Poverty and Profit in the American City. Free and open to all\, just bring your own lunch! \n 
URL:https://endhomelessnesskent.org/event/coalition-book-club-evicted/
LOCATION:Heart of West Michigan United Way\, 118 Commerce Ave SW\, Grand Rapids\, MI\, 49503\, United States
END:VEVENT
BEGIN:VEVENT
DTSTART;TZID=America/Detroit:20161116T130000
DTEND;TZID=America/Detroit:20161116T140000
DTSTAMP:20260422T040047
CREATED:20161114T193946Z
LAST-MODIFIED:20161114T200412Z
UID:1911-1479301200-1479304800@endhomelessnesskent.org
SUMMARY:Free Public Talk on Housing First
DESCRIPTION:Public Talk by Dr. Sam Tsemberis\, founder of Housing First
URL:https://endhomelessnesskent.org/event/free-public-talk-housing-first/
LOCATION:Fountain Street Church\, 24 Fountain\, Grand Rapids\, MI\, 49503\, United States
END:VEVENT
BEGIN:VEVENT
DTSTART;TZID=America/Detroit:20161027T053000
DTEND;TZID=America/Detroit:20161027T070000
DTSTAMP:20260422T040047
CREATED:20160419T165259Z
LAST-MODIFIED:20160419T165259Z
UID:1592-1477546200-1477551600@endhomelessnesskent.org
SUMMARY:CoC Meeting
DESCRIPTION:
URL:https://endhomelessnesskent.org/event/coc-meeting-5/
LOCATION:Salvation Army Kroc Center\, 2500 S Division\, Grand Rapids\, MI\, 49507\, United States
END:VEVENT
BEGIN:VEVENT
DTSTART;TZID=America/Detroit:20161021T043000
DTEND;TZID=America/Detroit:20161021T060000
DTSTAMP:20260422T040047
CREATED:20160419T165852Z
LAST-MODIFIED:20160419T165852Z
UID:1602-1477024200-1477029600@endhomelessnesskent.org
SUMMARY:Steering Council Meeting
DESCRIPTION:
URL:https://endhomelessnesskent.org/event/steering-council-meeting-10/
LOCATION:network 180\, 790 Fuller NE\, Grand Rapids\, MI\, 49503\, United States
END:VEVENT
BEGIN:VEVENT
DTSTART;TZID=America/Detroit:20160916T043000
DTEND;TZID=America/Detroit:20160916T060000
DTSTAMP:20260422T040047
CREATED:20160419T165824Z
LAST-MODIFIED:20160419T165824Z
UID:1601-1474000200-1474005600@endhomelessnesskent.org
SUMMARY:Steering Council Meeting
DESCRIPTION:
URL:https://endhomelessnesskent.org/event/steering-council-meeting-9/
LOCATION:network 180\, 790 Fuller NE\, Grand Rapids\, MI\, 49503\, United States
END:VEVENT
BEGIN:VEVENT
DTSTART;TZID=America/Detroit:20160825T053000
DTEND;TZID=America/Detroit:20160825T070000
DTSTAMP:20260422T040047
CREATED:20160419T165229Z
LAST-MODIFIED:20160419T165229Z
UID:1591-1472103000-1472108400@endhomelessnesskent.org
SUMMARY:CoC Meeting
DESCRIPTION:
URL:https://endhomelessnesskent.org/event/coc-meeting-4/
LOCATION:Salvation Army Kroc Center\, 2500 S Division\, Grand Rapids\, MI\, 49507\, United States
END:VEVENT
BEGIN:VEVENT
DTSTART;TZID=America/Detroit:20160819T043000
DTEND;TZID=America/Detroit:20160819T060000
DTSTAMP:20260422T040047
CREATED:20160419T165756Z
LAST-MODIFIED:20160419T165756Z
UID:1600-1471581000-1471586400@endhomelessnesskent.org
SUMMARY:Steering Council Meeting
DESCRIPTION:
URL:https://endhomelessnesskent.org/event/steering-council-meeting-8/
LOCATION:network 180\, 790 Fuller NE\, Grand Rapids\, MI\, 49503\, United States
END:VEVENT
END:VCALENDAR