BEGIN:VCALENDAR
VERSION:2.0
PRODID:-//Grand Rapids Area Coalition to End Homelessness - ECPv6.15.20//NONSGML v1.0//EN
CALSCALE:GREGORIAN
METHOD:PUBLISH
X-WR-CALNAME:Grand Rapids Area Coalition to End Homelessness
X-ORIGINAL-URL:https://endhomelessnesskent.org
X-WR-CALDESC:Events for Grand Rapids Area Coalition to End Homelessness
REFRESH-INTERVAL;VALUE=DURATION:PT1H
X-Robots-Tag:noindex
X-PUBLISHED-TTL:PT1H
BEGIN:VTIMEZONE
TZID:America/Detroit
BEGIN:DAYLIGHT
TZOFFSETFROM:-0500
TZOFFSETTO:-0400
TZNAME:EDT
DTSTART:20190310T070000
END:DAYLIGHT
BEGIN:STANDARD
TZOFFSETFROM:-0400
TZOFFSETTO:-0500
TZNAME:EST
DTSTART:20191103T060000
END:STANDARD
BEGIN:DAYLIGHT
TZOFFSETFROM:-0500
TZOFFSETTO:-0400
TZNAME:EDT
DTSTART:20200308T070000
END:DAYLIGHT
BEGIN:STANDARD
TZOFFSETFROM:-0400
TZOFFSETTO:-0500
TZNAME:EST
DTSTART:20201101T060000
END:STANDARD
BEGIN:DAYLIGHT
TZOFFSETFROM:-0500
TZOFFSETTO:-0400
TZNAME:EDT
DTSTART:20210314T070000
END:DAYLIGHT
BEGIN:STANDARD
TZOFFSETFROM:-0400
TZOFFSETTO:-0500
TZNAME:EST
DTSTART:20211107T060000
END:STANDARD
END:VTIMEZONE
BEGIN:VEVENT
DTSTART;TZID=America/Detroit:20200821T083000
DTEND;TZID=America/Detroit:20200821T103000
DTSTAMP:20260421T194729
CREATED:20200127T190722Z
LAST-MODIFIED:20200127T192220Z
UID:4128-1597998600-1598005800@endhomelessnesskent.org
SUMMARY:Steering Council
DESCRIPTION:
URL:https://endhomelessnesskent.org/event/steering-council-15/
LOCATION:Wyoming City Hall\, 1155 28th St. SW\, Wyoming\, MI\, 49509\, United States
CATEGORIES:Steering Council
END:VEVENT
BEGIN:VEVENT
DTSTART;TZID=America/Detroit:20200820T130000
DTEND;TZID=America/Detroit:20200820T143000
DTSTAMP:20260421T194729
CREATED:20200127T190713Z
LAST-MODIFIED:20200127T190713Z
UID:4118-1597928400-1597933800@endhomelessnesskent.org
SUMMARY:Data Analysis Committee
DESCRIPTION:
URL:https://endhomelessnesskent.org/event/data-analysis-committee-10/
LOCATION:Heart of West Michigan United Way\, 118 Commerce Ave SW\, Grand Rapids\, MI\, 49503\, United States
END:VEVENT
BEGIN:VEVENT
DTSTART;TZID=America/Detroit:20200804T130000
DTEND;TZID=America/Detroit:20200804T143000
DTSTAMP:20260421T194729
CREATED:20200127T190732Z
LAST-MODIFIED:20200127T190732Z
UID:4139-1596546000-1596551400@endhomelessnesskent.org
SUMMARY:Coordinated Entry Committee
DESCRIPTION:
URL:https://endhomelessnesskent.org/event/coordinated-entry-committee-9/
LOCATION:Heart of West Michigan United Way\, 118 Commerce Ave SW\, Grand Rapids\, MI\, 49503\, United States
END:VEVENT
BEGIN:VEVENT
DTSTART;TZID=America/Detroit:20200728T150000
DTEND;TZID=America/Detroit:20200728T160000
DTSTAMP:20260421T194729
CREATED:20200127T190749Z
LAST-MODIFIED:20200127T190749Z
UID:4160-1595948400-1595952000@endhomelessnesskent.org
SUMMARY:Outreach Workgroup
DESCRIPTION:
URL:https://endhomelessnesskent.org/event/outreach-workgroup-10/
LOCATION:Heart of West Michigan United Way\, 118 Commerce Ave SW\, Grand Rapids\, MI\, 49503\, United States
END:VEVENT
BEGIN:VEVENT
DTSTART;TZID=America/Detroit:20200724T090000
DTEND;TZID=America/Detroit:20200724T110000
DTSTAMP:20260421T194729
CREATED:20200127T190740Z
LAST-MODIFIED:20200127T190740Z
UID:4149-1595581200-1595588400@endhomelessnesskent.org
SUMMARY:Youth Committee
DESCRIPTION:
URL:https://endhomelessnesskent.org/event/youth-committee-8/
LOCATION:Heart of West Michigan United Way\, 118 Commerce Ave SW\, Grand Rapids\, MI\, 49503\, United States
END:VEVENT
BEGIN:VEVENT
DTSTART;TZID=America/Detroit:20200716T130000
DTEND;TZID=America/Detroit:20200716T143000
DTSTAMP:20260421T194729
CREATED:20200127T190713Z
LAST-MODIFIED:20200127T190713Z
UID:4117-1594904400-1594909800@endhomelessnesskent.org
SUMMARY:Data Analysis Committee
DESCRIPTION:
URL:https://endhomelessnesskent.org/event/data-analysis-committee-9/
LOCATION:Heart of West Michigan United Way\, 118 Commerce Ave SW\, Grand Rapids\, MI\, 49503\, United States
END:VEVENT
BEGIN:VEVENT
DTSTART;TZID=America/Detroit:20200707T130000
DTEND;TZID=America/Detroit:20200707T143000
DTSTAMP:20260421T194729
CREATED:20200127T190731Z
LAST-MODIFIED:20200127T190731Z
UID:4138-1594126800-1594132200@endhomelessnesskent.org
SUMMARY:Coordinated Entry Committee
DESCRIPTION:
URL:https://endhomelessnesskent.org/event/coordinated-entry-committee-8/
LOCATION:Heart of West Michigan United Way\, 118 Commerce Ave SW\, Grand Rapids\, MI\, 49503\, United States
END:VEVENT
BEGIN:VEVENT
DTSTART;TZID=America/Detroit:20200630T150000
DTEND;TZID=America/Detroit:20200630T160000
DTSTAMP:20260421T194729
CREATED:20200127T190749Z
LAST-MODIFIED:20200127T190749Z
UID:4159-1593529200-1593532800@endhomelessnesskent.org
SUMMARY:Outreach Workgroup
DESCRIPTION:
URL:https://endhomelessnesskent.org/event/outreach-workgroup-9/
LOCATION:Heart of West Michigan United Way\, 118 Commerce Ave SW\, Grand Rapids\, MI\, 49503\, United States
END:VEVENT
BEGIN:VEVENT
DTSTART;TZID=America/Detroit:20200626T090000
DTEND;TZID=America/Detroit:20200626T110000
DTSTAMP:20260421T194729
CREATED:20200127T190740Z
LAST-MODIFIED:20200625T114517Z
UID:4148-1593162000-1593169200@endhomelessnesskent.org
SUMMARY:Youth Committee
DESCRIPTION:Join Zoom Meeting\nhttps://us02web.zoom.us/j/88015844182?pwd=RWplS2hqb3dZYURPWUNhU0NjczA4Zz09 \nMeeting ID: 880 1584 4182\nPassword: CoC\nOne tap mobile\n+19292056099\,\,88015844182#\,\,\,\,0#\,\,964592# US (New York)\n+13017158592\,\,88015844182#\,\,\,\,0#\,\,964592# US (Germantown) \nDial by your location\n+1 929 205 6099 US (New York)\n+1 301 715 8592 US (Germantown)\n+1 312 626 6799 US (Chicago)\n+1 669 900 6833 US (San Jose)\n+1 253 215 8782 US (Tacoma)\n+1 346 248 7799 US (Houston)\nMeeting ID: 880 1584 4182\nPassword: 964592\nFind your local number: https://us02web.zoom.us/u/kbVl9ZHzCh
URL:https://endhomelessnesskent.org/event/youth-committee-7/
LOCATION:Heart of West Michigan United Way\, 118 Commerce Ave SW\, Grand Rapids\, MI\, 49503\, United States
END:VEVENT
BEGIN:VEVENT
DTSTART;TZID=America/Detroit:20200625T130000
DTEND;TZID=America/Detroit:20200625T143000
DTSTAMP:20260421T194729
CREATED:20200127T190713Z
LAST-MODIFIED:20200616T164712Z
UID:4116-1593090000-1593095400@endhomelessnesskent.org
SUMMARY:Data Analysis Committee
DESCRIPTION:Join Zoom Meeting: https://us02web.zoom.us/j/88655373546?pwd=bkQwRSt5WUdrVzJGVFVKczdJRkNXdz09 \n  \nMeeting ID: 886 5537 3546 \nPassword: CoC \nOne tap mobile \n+13017158592\,\,88655373546#\,\,\,\,0#\,\,123289# US (Germantown) \n+13126266799\,\,88655373546#\,\,\,\,0#\,\,123289# US (Chicago) \n  \nDial by your location \n+1 301 715 8592 US (Germantown) \n+1 312 626 6799 US (Chicago) \n+1 929 205 6099 US (New York) \n+1 253 215 8782 US (Tacoma) \n+1 346 248 7799 US (Houston) \n+1 669 900 6833 US (San Jose) \nMeeting ID: 886 5537 3546 \nPassword: 123289 \nFind your local number: https://us02web.zoom.us/u/k3T9yqoVE
URL:https://endhomelessnesskent.org/event/data-analysis-committee-8/
LOCATION:MI\, United States
END:VEVENT
BEGIN:VEVENT
DTSTART;TZID=America/Detroit:20200625T093000
DTEND;TZID=America/Detroit:20200625T110000
DTSTAMP:20260421T194729
CREATED:20200127T190704Z
LAST-MODIFIED:20200622T143712Z
UID:4103-1593077400-1593082800@endhomelessnesskent.org
SUMMARY:CoC/CTEH General Membership Meeting
DESCRIPTION:Join Zoom Meeting\nhttps://us02web.zoom.us/j/87662774758?pwd=ajIwWjJYb0lzWTFOTHpBdUtabWJ1Zz09 \nMeeting ID: 876 6277 4758\nPassword: 612745\nOne tap mobile\n+19292056099\,\,87662774758#\,\,\,\,0#\,\,612745# US (New York)\n+13017158592\,\,87662774758#\,\,\,\,0#\,\,612745# US (Germantown) \nDial by your location\n+1 929 205 6099 US (New York)\n+1 301 715 8592 US (Germantown)\n+1 312 626 6799 US (Chicago)\n+1 669 900 6833 US (San Jose)\n+1 253 215 8782 US (Tacoma)\n+1 346 248 7799 US (Houston)\nMeeting ID: 876 6277 4758\nPassword: 612745
URL:https://endhomelessnesskent.org/event/coc-cteh-general-membership-meeting-3/
LOCATION:MI\, United States
CATEGORIES:CoC General Membership meeting
END:VEVENT
BEGIN:VEVENT
DTSTART;TZID=America/Detroit:20200619T083000
DTEND;TZID=America/Detroit:20200619T103000
DTSTAMP:20260421T194729
CREATED:20200127T190721Z
LAST-MODIFIED:20200616T164615Z
UID:4127-1592555400-1592562600@endhomelessnesskent.org
SUMMARY:Steering Council
DESCRIPTION:Join Zoom Meeting: https://us02web.zoom.us/j/85850043324?pwd=cGRybXpmVXgyZFJ2bm9YNU82YnhFQT09\, Meeting ID: 858 5004 3324\, Password: CoC \nOr Dial by your location: +1-301-715-8592 or +1-312-626-6799\, Meeting ID: 858 5004 3324\, Password: 024224
URL:https://endhomelessnesskent.org/event/steering-council-14/
LOCATION:MI\, United States
CATEGORIES:Steering Council
END:VEVENT
BEGIN:VEVENT
DTSTART;TZID=America/Detroit:20200602T130000
DTEND;TZID=America/Detroit:20200602T143000
DTSTAMP:20260421T194729
CREATED:20200127T190730Z
LAST-MODIFIED:20200127T190730Z
UID:4137-1591102800-1591108200@endhomelessnesskent.org
SUMMARY:Coordinated Entry Committee
DESCRIPTION:
URL:https://endhomelessnesskent.org/event/coordinated-entry-committee-7/
LOCATION:Heart of West Michigan United Way\, 118 Commerce Ave SW\, Grand Rapids\, MI\, 49503\, United States
END:VEVENT
BEGIN:VEVENT
DTSTART;TZID=America/Detroit:20200526T140000
DTEND;TZID=America/Detroit:20200526T143000
DTSTAMP:20260421T194729
CREATED:20200127T190748Z
LAST-MODIFIED:20200521T152748Z
UID:4158-1590501600-1590503400@endhomelessnesskent.org
SUMMARY:Outreach Workgroup
DESCRIPTION:Join Zoom Meeting \nhttps://us02web.zoom.us/j/700044402?pwd=MzEycjFQQ09nalZmSUlFeFYyUzNaQT09 \nMeeting ID: 700 044 402 \nPassword: 083949 \n  \nOne tap mobile \n+13126266799\,\,700044402# US (Chicago) \n  \nDial by your location \n+1 312 626 6799 US (Chicago) \nMeeting ID: 700 044 402 \nPassword: 083949
URL:https://endhomelessnesskent.org/event/outreach-workgroup-8/
LOCATION:MI\, United States
END:VEVENT
BEGIN:VEVENT
DTSTART;TZID=America/Detroit:20200522T093000
DTEND;TZID=America/Detroit:20200522T103000
DTSTAMP:20260421T194729
CREATED:20200127T190739Z
LAST-MODIFIED:20200521T152631Z
UID:4147-1590139800-1590143400@endhomelessnesskent.org
SUMMARY:Youth Committee
DESCRIPTION:Join Zoom Meeting: https://us02web.zoom.us/j/88015844182?pwd=RWplS2hqb3dZYURPWUNhU0NjczA4Zz09 \nMeeting ID: 880 1584 4182 \nPassword: CoC \n  \nOne tap mobile \n+19292056099\,\,88015844182#\,\,1#\,964592# US (New York) \n+13017158592\,\,88015844182#\,\,1#\,964592# US (Germantown) \n  \nDial by your location \n+1 929 205 6099 US (New York) \n+1 301 715 8592 US (Germantown) \n+1 312 626 6799 US (Chicago) \n+1 669 900 6833 US (San Jose) \n+1 253 215 8782 US (Tacoma) \n+1 346 248 7799 US (Houston) \nMeeting ID: 880 1584 4182 \nPassword: 964592
URL:https://endhomelessnesskent.org/event/youth-committee-6/
LOCATION:MI\, United States
END:VEVENT
BEGIN:VEVENT
DTSTART;TZID=America/Detroit:20200521T130000
DTEND;TZID=America/Detroit:20200521T143000
DTSTAMP:20260421T194729
CREATED:20200127T190710Z
LAST-MODIFIED:20200521T152848Z
UID:4115-1590066000-1590071400@endhomelessnesskent.org
SUMMARY:Data Analysis Committee
DESCRIPTION:Webex Meeting:  \nMeeting number: 126 552 2166 \nPassword: SZEJ786 (7935786 from phones and video systems) \nJoin meeting: https://meetingsamer2.webex.com/meetingsamer2/j.php?MTID=m3f3081caff2a8151d5cc425fa4647e9e \n  \nOr join by phone \n+1-408-418-9388 \nAccess code: 126 552 2166
URL:https://endhomelessnesskent.org/event/data-analysis-committee-7/
LOCATION:Heart of West Michigan United Way\, 118 Commerce Ave SW\, Grand Rapids\, MI\, 49503\, United States
END:VEVENT
BEGIN:VEVENT
DTSTART;TZID=America/Detroit:20200515T083000
DTEND;TZID=America/Detroit:20200515T103000
DTSTAMP:20260421T194729
CREATED:20200127T190721Z
LAST-MODIFIED:20200513T182216Z
UID:4126-1589531400-1589538600@endhomelessnesskent.org
SUMMARY:Steering Council
DESCRIPTION:Click here to join Webex meeting.\nMeeting number: 626 958 755\nPassword: 33bhxw (332499 from phones and video systems) \nJoin by video system\nDial 626958755@meetingsamer2.webex.com\nYou can also dial 173.243.2.68 and enter your meeting number. \nJoin by phone\n+1-408-418-9388 United States Toll\nAccess code: 626 958 755
URL:https://endhomelessnesskent.org/event/steering-council-13/
LOCATION:MI\, United States
CATEGORIES:Steering Council
END:VEVENT
BEGIN:VEVENT
DTSTART;TZID=America/Detroit:20200505T130000
DTEND;TZID=America/Detroit:20200505T143000
DTSTAMP:20260421T194729
CREATED:20200127T190730Z
LAST-MODIFIED:20200127T190730Z
UID:4136-1588683600-1588689000@endhomelessnesskent.org
SUMMARY:Coordinated Entry Committee
DESCRIPTION:
URL:https://endhomelessnesskent.org/event/coordinated-entry-committee-6/
LOCATION:Heart of West Michigan United Way\, 118 Commerce Ave SW\, Grand Rapids\, MI\, 49503\, United States
END:VEVENT
BEGIN:VEVENT
DTSTART;TZID=America/Detroit:20200428T140000
DTEND;TZID=America/Detroit:20200428T143000
DTSTAMP:20260421T194729
CREATED:20200127T190748Z
LAST-MODIFIED:20200427T190654Z
UID:4157-1588082400-1588084200@endhomelessnesskent.org
SUMMARY:Outreach Workgroup
DESCRIPTION:Join Zoom Meeting: https://us02web.zoom.us/j/700044402?pwd=MzEycjFQQ09nalZmSUlFeFYyUzNaQT09 \nMeeting ID: 700 044 402\nPassword: 083949\nOne tap mobile\n+13017158592\,\,700044402#\,\,1#\,083949# US (Germantown)\n+13126266799\,\,700044402#\,\,1#\,083949# US (Chicago) \nDial by your location\n+1 301 715 8592 US (Germantown)\n+1 312 626 6799 US (Chicago)\nMeeting ID: 700 044 402\nPassword: 083949
URL:https://endhomelessnesskent.org/event/outreach-workgroup-7/
LOCATION:Zoom\, MI\, United States
END:VEVENT
BEGIN:VEVENT
DTSTART;TZID=America/Detroit:20200424T090000
DTEND;TZID=America/Detroit:20200424T110000
DTSTAMP:20260421T194729
CREATED:20200127T190739Z
LAST-MODIFIED:20200127T190739Z
UID:4146-1587718800-1587726000@endhomelessnesskent.org
SUMMARY:Youth Committee
DESCRIPTION:
URL:https://endhomelessnesskent.org/event/youth-committee-5/
LOCATION:Heart of West Michigan United Way\, 118 Commerce Ave SW\, Grand Rapids\, MI\, 49503\, United States
END:VEVENT
BEGIN:VEVENT
DTSTART;TZID=America/Detroit:20200423T130000
DTEND;TZID=America/Detroit:20200423T143000
DTSTAMP:20260421T194729
CREATED:20200127T190710Z
LAST-MODIFIED:20200416T143607Z
UID:4114-1587646800-1587652200@endhomelessnesskent.org
SUMMARY:Data Analysis Committee
DESCRIPTION:
URL:https://endhomelessnesskent.org/event/data-analysis-committee-6/
LOCATION:MI\, United States
END:VEVENT
BEGIN:VEVENT
DTSTART;TZID=America/Detroit:20200423T093000
DTEND;TZID=America/Detroit:20200423T110000
DTSTAMP:20260421T194729
CREATED:20200127T190704Z
LAST-MODIFIED:20200127T192410Z
UID:4102-1587634200-1587639600@endhomelessnesskent.org
SUMMARY:CoC/CTEH General Membership Meeting
DESCRIPTION:
URL:https://endhomelessnesskent.org/event/coc-cteh-general-membership-meeting-2/
LOCATION:Salvation Army Kroc Center\, 2500 S Division\, Grand Rapids\, MI\, 49507\, United States
CATEGORIES:CoC General Membership meeting
END:VEVENT
BEGIN:VEVENT
DTSTART;TZID=America/Detroit:20200417T083000
DTEND;TZID=America/Detroit:20200417T103000
DTSTAMP:20260421T194729
CREATED:20200127T190719Z
LAST-MODIFIED:20200127T192328Z
UID:4125-1587112200-1587119400@endhomelessnesskent.org
SUMMARY:Steering Council
DESCRIPTION:
URL:https://endhomelessnesskent.org/event/steering-council-12/
LOCATION:Wyoming City Hall\, 1155 28th St. SW\, Wyoming\, MI\, 49509\, United States
CATEGORIES:Steering Council
END:VEVENT
BEGIN:VEVENT
DTSTART;TZID=America/Detroit:20200407T130000
DTEND;TZID=America/Detroit:20200407T143000
DTSTAMP:20260421T194729
CREATED:20200127T190728Z
LAST-MODIFIED:20200127T190728Z
UID:4135-1586264400-1586269800@endhomelessnesskent.org
SUMMARY:Coordinated Entry Committee
DESCRIPTION:
URL:https://endhomelessnesskent.org/event/coordinated-entry-committee-5/
LOCATION:Heart of West Michigan United Way\, 118 Commerce Ave SW\, Grand Rapids\, MI\, 49503\, United States
END:VEVENT
BEGIN:VEVENT
DTSTART;TZID=America/Detroit:20200331T150000
DTEND;TZID=America/Detroit:20200331T160000
DTSTAMP:20260421T194729
CREATED:20200127T190747Z
LAST-MODIFIED:20200127T190747Z
UID:4156-1585666800-1585670400@endhomelessnesskent.org
SUMMARY:Outreach Workgroup
DESCRIPTION:
URL:https://endhomelessnesskent.org/event/outreach-workgroup-6/
LOCATION:Heart of West Michigan United Way\, 118 Commerce Ave SW\, Grand Rapids\, MI\, 49503\, United States
END:VEVENT
BEGIN:VEVENT
DTSTART;TZID=America/Detroit:20200327T090000
DTEND;TZID=America/Detroit:20200327T110000
DTSTAMP:20260421T194729
CREATED:20200127T190737Z
LAST-MODIFIED:20200127T190737Z
UID:4145-1585299600-1585306800@endhomelessnesskent.org
SUMMARY:Youth Committee
DESCRIPTION:
URL:https://endhomelessnesskent.org/event/youth-committee-4/
LOCATION:Heart of West Michigan United Way\, 118 Commerce Ave SW\, Grand Rapids\, MI\, 49503\, United States
END:VEVENT
BEGIN:VEVENT
DTSTART;TZID=America/Detroit:20200320T083000
DTEND;TZID=America/Detroit:20200320T103000
DTSTAMP:20260421T194729
CREATED:20200127T190718Z
LAST-MODIFIED:20200304T144830Z
UID:4124-1584693000-1584700200@endhomelessnesskent.org
SUMMARY:Steering Council
DESCRIPTION:
URL:https://endhomelessnesskent.org/event/steering-council-11/
LOCATION:Wyoming City Hall\, 1155 28th St. SW\, Wyoming\, MI\, 49509\, United States
CATEGORIES:Steering Council
END:VEVENT
BEGIN:VEVENT
DTSTART;TZID=America/Detroit:20200319T130000
DTEND;TZID=America/Detroit:20200319T143000
DTSTAMP:20260421T194729
CREATED:20200127T190710Z
LAST-MODIFIED:20200127T190710Z
UID:4113-1584622800-1584628200@endhomelessnesskent.org
SUMMARY:Data Analysis Committee
DESCRIPTION:
URL:https://endhomelessnesskent.org/event/data-analysis-committee-5/
LOCATION:Heart of West Michigan United Way\, 118 Commerce Ave SW\, Grand Rapids\, MI\, 49503\, United States
END:VEVENT
BEGIN:VEVENT
DTSTART;TZID=America/Detroit:20200306T090000
DTEND;TZID=America/Detroit:20200306T110000
DTSTAMP:20260421T194729
CREATED:20200127T190736Z
LAST-MODIFIED:20200220T174945Z
UID:4144-1583485200-1583492400@endhomelessnesskent.org
SUMMARY:Youth Committee
DESCRIPTION:
URL:https://endhomelessnesskent.org/event/youth-committee-3/
LOCATION:Heart of West Michigan United Way\, 118 Commerce Ave SW\, Grand Rapids\, MI\, 49503\, United States
END:VEVENT
BEGIN:VEVENT
DTSTART;TZID=America/Detroit:20200303T130000
DTEND;TZID=America/Detroit:20200303T143000
DTSTAMP:20260421T194729
CREATED:20200127T190727Z
LAST-MODIFIED:20200127T190727Z
UID:4134-1583240400-1583245800@endhomelessnesskent.org
SUMMARY:Coordinated Entry Committee
DESCRIPTION:
URL:https://endhomelessnesskent.org/event/coordinated-entry-committee-4/
LOCATION:Heart of West Michigan United Way\, 118 Commerce Ave SW\, Grand Rapids\, MI\, 49503\, United States
END:VEVENT
END:VCALENDAR