BEGIN:VCALENDAR
VERSION:2.0
PRODID:-//Grand Rapids Area Coalition to End Homelessness - ECPv6.15.20//NONSGML v1.0//EN
CALSCALE:GREGORIAN
METHOD:PUBLISH
X-WR-CALNAME:Grand Rapids Area Coalition to End Homelessness
X-ORIGINAL-URL:https://endhomelessnesskent.org
X-WR-CALDESC:Events for Grand Rapids Area Coalition to End Homelessness
REFRESH-INTERVAL;VALUE=DURATION:PT1H
X-Robots-Tag:noindex
X-PUBLISHED-TTL:PT1H
BEGIN:VTIMEZONE
TZID:America/Detroit
BEGIN:DAYLIGHT
TZOFFSETFROM:-0500
TZOFFSETTO:-0400
TZNAME:EDT
DTSTART:20190310T070000
END:DAYLIGHT
BEGIN:STANDARD
TZOFFSETFROM:-0400
TZOFFSETTO:-0500
TZNAME:EST
DTSTART:20191103T060000
END:STANDARD
BEGIN:DAYLIGHT
TZOFFSETFROM:-0500
TZOFFSETTO:-0400
TZNAME:EDT
DTSTART:20200308T070000
END:DAYLIGHT
BEGIN:STANDARD
TZOFFSETFROM:-0400
TZOFFSETTO:-0500
TZNAME:EST
DTSTART:20201101T060000
END:STANDARD
BEGIN:DAYLIGHT
TZOFFSETFROM:-0500
TZOFFSETTO:-0400
TZNAME:EDT
DTSTART:20210314T070000
END:DAYLIGHT
BEGIN:STANDARD
TZOFFSETFROM:-0400
TZOFFSETTO:-0500
TZNAME:EST
DTSTART:20211107T060000
END:STANDARD
BEGIN:DAYLIGHT
TZOFFSETFROM:-0500
TZOFFSETTO:-0400
TZNAME:EDT
DTSTART:20220313T070000
END:DAYLIGHT
BEGIN:STANDARD
TZOFFSETFROM:-0400
TZOFFSETTO:-0500
TZNAME:EST
DTSTART:20221106T060000
END:STANDARD
END:VTIMEZONE
BEGIN:VEVENT
DTSTART;TZID=America/Detroit:20210103T140000
DTEND;TZID=America/Detroit:20210103T153000
DTSTAMP:20260421T164923
CREATED:20210316T183409Z
LAST-MODIFIED:20210316T183409Z
UID:4766-1609682400-1609687800@endhomelessnesskent.org
SUMMARY:Executive Committee
DESCRIPTION:Join Zoom Meeting: https://us02web.zoom.us/j/82003450763?pwd=ZEk4Sjl3VVppSG50R0pXc3Z2ejNEdz09 : Meeting ID: 820 0345 0763; Passcode: 37596
URL:https://endhomelessnesskent.org/event/executive-committee-10/
LOCATION:Zoom\, MI\, United States
END:VEVENT
BEGIN:VEVENT
DTSTART;TZID=America/Detroit:20201217T130000
DTEND;TZID=America/Detroit:20201217T143000
DTSTAMP:20260421T164923
CREATED:20200127T190717Z
LAST-MODIFIED:20200127T190717Z
UID:4122-1608210000-1608215400@endhomelessnesskent.org
SUMMARY:Data Analysis Committee
DESCRIPTION:
URL:https://endhomelessnesskent.org/event/data-analysis-committee-14/
LOCATION:Heart of West Michigan United Way\, 118 Commerce Ave SW\, Grand Rapids\, MI\, 49503\, United States
END:VEVENT
BEGIN:VEVENT
DTSTART;TZID=America/Detroit:20201217T093000
DTEND;TZID=America/Detroit:20201217T110000
DTSTAMP:20260421T164923
CREATED:20200127T190709Z
LAST-MODIFIED:20200127T192130Z
UID:4111-1608197400-1608202800@endhomelessnesskent.org
SUMMARY:CoC/CTEH General Membership Meeting
DESCRIPTION:
URL:https://endhomelessnesskent.org/event/coc-cteh-general-membership-meeting-6/
LOCATION:Salvation Army Kroc Center\, 2500 S Division\, Grand Rapids\, MI\, 49507\, United States
CATEGORIES:CoC General Membership meeting
END:VEVENT
BEGIN:VEVENT
DTSTART;TZID=America/Detroit:20201211T083000
DTEND;TZID=America/Detroit:20201211T103000
DTSTAMP:20260421T164923
CREATED:20200127T190726Z
LAST-MODIFIED:20200127T192137Z
UID:4132-1607675400-1607682600@endhomelessnesskent.org
SUMMARY:Steering Council
DESCRIPTION:
URL:https://endhomelessnesskent.org/event/steering-council-19/
LOCATION:Wyoming City Hall\, 1155 28th St. SW\, Wyoming\, MI\, 49509\, United States
CATEGORIES:Steering Council
END:VEVENT
BEGIN:VEVENT
DTSTART;TZID=America/Detroit:20201201T130000
DTEND;TZID=America/Detroit:20201201T143000
DTSTAMP:20260421T164923
CREATED:20200127T190735Z
LAST-MODIFIED:20200127T190735Z
UID:4143-1606827600-1606833000@endhomelessnesskent.org
SUMMARY:Coordinated Entry Committee
DESCRIPTION:
URL:https://endhomelessnesskent.org/event/coordinated-entry-committee-13/
LOCATION:Heart of West Michigan United Way\, 118 Commerce Ave SW\, Grand Rapids\, MI\, 49503\, United States
END:VEVENT
BEGIN:VEVENT
DTSTART;TZID=America/Detroit:20201127T090000
DTEND;TZID=America/Detroit:20201127T110000
DTSTAMP:20260421T164923
CREATED:20200127T190744Z
LAST-MODIFIED:20200127T190744Z
UID:4153-1606467600-1606474800@endhomelessnesskent.org
SUMMARY:Youth Committee
DESCRIPTION:
URL:https://endhomelessnesskent.org/event/youth-committee-12/
LOCATION:Heart of West Michigan United Way\, 118 Commerce Ave SW\, Grand Rapids\, MI\, 49503\, United States
END:VEVENT
BEGIN:VEVENT
DTSTART;TZID=America/Detroit:20201120T083000
DTEND;TZID=America/Detroit:20201120T103000
DTSTAMP:20260421T164923
CREATED:20200127T190726Z
LAST-MODIFIED:20200127T192145Z
UID:4131-1605861000-1605868200@endhomelessnesskent.org
SUMMARY:Steering Council
DESCRIPTION:
URL:https://endhomelessnesskent.org/event/steering-council-18/
LOCATION:Wyoming City Hall\, 1155 28th St. SW\, Wyoming\, MI\, 49509\, United States
CATEGORIES:Steering Council
END:VEVENT
BEGIN:VEVENT
DTSTART;TZID=America/Detroit:20201119T130000
DTEND;TZID=America/Detroit:20201119T143000
DTSTAMP:20260421T164923
CREATED:20200127T190716Z
LAST-MODIFIED:20200127T190716Z
UID:4121-1605790800-1605796200@endhomelessnesskent.org
SUMMARY:Data Analysis Committee
DESCRIPTION:
URL:https://endhomelessnesskent.org/event/data-analysis-committee-13/
LOCATION:Heart of West Michigan United Way\, 118 Commerce Ave SW\, Grand Rapids\, MI\, 49503\, United States
END:VEVENT
BEGIN:VEVENT
DTSTART;TZID=America/Detroit:20201103T130000
DTEND;TZID=America/Detroit:20201103T143000
DTSTAMP:20260421T164923
CREATED:20200127T190735Z
LAST-MODIFIED:20200127T190735Z
UID:4142-1604408400-1604413800@endhomelessnesskent.org
SUMMARY:Coordinated Entry Committee
DESCRIPTION:
URL:https://endhomelessnesskent.org/event/coordinated-entry-committee-12/
LOCATION:Heart of West Michigan United Way\, 118 Commerce Ave SW\, Grand Rapids\, MI\, 49503\, United States
END:VEVENT
BEGIN:VEVENT
DTSTART;TZID=America/Detroit:20201023T090000
DTEND;TZID=America/Detroit:20201023T110000
DTSTAMP:20260421T164923
CREATED:20200127T190743Z
LAST-MODIFIED:20200127T190743Z
UID:4152-1603443600-1603450800@endhomelessnesskent.org
SUMMARY:Youth Committee
DESCRIPTION:
URL:https://endhomelessnesskent.org/event/youth-committee-11/
LOCATION:Heart of West Michigan United Way\, 118 Commerce Ave SW\, Grand Rapids\, MI\, 49503\, United States
END:VEVENT
BEGIN:VEVENT
DTSTART;TZID=America/Detroit:20201022T093000
DTEND;TZID=America/Detroit:20201022T110000
DTSTAMP:20260421T164923
CREATED:20200127T190705Z
LAST-MODIFIED:20200127T192232Z
UID:4105-1603359000-1603364400@endhomelessnesskent.org
SUMMARY:CoC/CTEH General Membership Meeting
DESCRIPTION:
URL:https://endhomelessnesskent.org/event/coc-cteh-general-membership-meeting-5/
LOCATION:Salvation Army Kroc Center\, 2500 S Division\, Grand Rapids\, MI\, 49507\, United States
CATEGORIES:CoC General Membership meeting
END:VEVENT
BEGIN:VEVENT
DTSTART;TZID=America/Detroit:20201016T083000
DTEND;TZID=America/Detroit:20201016T103000
DTSTAMP:20260421T164923
CREATED:20200127T190723Z
LAST-MODIFIED:20200127T191004Z
UID:4130-1602837000-1602844200@endhomelessnesskent.org
SUMMARY:Steering Council
DESCRIPTION:
URL:https://endhomelessnesskent.org/event/steering-council-17/
LOCATION:Wyoming City Hall\, 1155 28th St. SW\, Wyoming\, MI\, 49509\, United States
CATEGORIES:Steering Council
END:VEVENT
BEGIN:VEVENT
DTSTART;TZID=America/Detroit:20201015T130000
DTEND;TZID=America/Detroit:20201015T143000
DTSTAMP:20260421T164923
CREATED:20200127T190714Z
LAST-MODIFIED:20200127T190714Z
UID:4120-1602766800-1602772200@endhomelessnesskent.org
SUMMARY:Data Analysis Committee
DESCRIPTION:
URL:https://endhomelessnesskent.org/event/data-analysis-committee-12/
LOCATION:Heart of West Michigan United Way\, 118 Commerce Ave SW\, Grand Rapids\, MI\, 49503\, United States
END:VEVENT
BEGIN:VEVENT
DTSTART;TZID=America/Detroit:20201006T130000
DTEND;TZID=America/Detroit:20201006T143000
DTSTAMP:20260421T164923
CREATED:20200127T190734Z
LAST-MODIFIED:20200127T190734Z
UID:4141-1601989200-1601994600@endhomelessnesskent.org
SUMMARY:Coordinated Entry Committee
DESCRIPTION:
URL:https://endhomelessnesskent.org/event/coordinated-entry-committee-11/
LOCATION:Heart of West Michigan United Way\, 118 Commerce Ave SW\, Grand Rapids\, MI\, 49503\, United States
END:VEVENT
BEGIN:VEVENT
DTSTART;TZID=America/Detroit:20200925T090000
DTEND;TZID=America/Detroit:20200925T110000
DTSTAMP:20260421T164923
CREATED:20200127T190743Z
LAST-MODIFIED:20200127T190743Z
UID:4151-1601024400-1601031600@endhomelessnesskent.org
SUMMARY:Youth Committee
DESCRIPTION:
URL:https://endhomelessnesskent.org/event/youth-committee-10/
LOCATION:Heart of West Michigan United Way\, 118 Commerce Ave SW\, Grand Rapids\, MI\, 49503\, United States
END:VEVENT
BEGIN:VEVENT
DTSTART;TZID=America/Detroit:20200918T083000
DTEND;TZID=America/Detroit:20200918T103000
DTSTAMP:20260421T164923
CREATED:20200127T190723Z
LAST-MODIFIED:20200127T192208Z
UID:4129-1600417800-1600425000@endhomelessnesskent.org
SUMMARY:Steering Council
DESCRIPTION:
URL:https://endhomelessnesskent.org/event/steering-council-16/
LOCATION:Wyoming City Hall\, 1155 28th St. SW\, Wyoming\, MI\, 49509\, United States
CATEGORIES:Steering Council
END:VEVENT
BEGIN:VEVENT
DTSTART;TZID=America/Detroit:20200917T130000
DTEND;TZID=America/Detroit:20200917T143000
DTSTAMP:20260421T164923
CREATED:20200127T190714Z
LAST-MODIFIED:20200127T190714Z
UID:4119-1600347600-1600353000@endhomelessnesskent.org
SUMMARY:Data Analysis Committee
DESCRIPTION:
URL:https://endhomelessnesskent.org/event/data-analysis-committee-11/
LOCATION:Heart of West Michigan United Way\, 118 Commerce Ave SW\, Grand Rapids\, MI\, 49503\, United States
END:VEVENT
BEGIN:VEVENT
DTSTART;TZID=America/Detroit:20200901T130000
DTEND;TZID=America/Detroit:20200901T143000
DTSTAMP:20260421T164923
CREATED:20200127T190732Z
LAST-MODIFIED:20200127T190732Z
UID:4140-1598965200-1598970600@endhomelessnesskent.org
SUMMARY:Coordinated Entry Committee
DESCRIPTION:
URL:https://endhomelessnesskent.org/event/coordinated-entry-committee-10/
LOCATION:Heart of West Michigan United Way\, 118 Commerce Ave SW\, Grand Rapids\, MI\, 49503\, United States
END:VEVENT
BEGIN:VEVENT
DTSTART;TZID=America/Detroit:20200828T090000
DTEND;TZID=America/Detroit:20200828T110000
DTSTAMP:20260421T164923
CREATED:20200127T190741Z
LAST-MODIFIED:20200127T190741Z
UID:4150-1598605200-1598612400@endhomelessnesskent.org
SUMMARY:Youth Committee
DESCRIPTION:
URL:https://endhomelessnesskent.org/event/youth-committee-9/
LOCATION:Heart of West Michigan United Way\, 118 Commerce Ave SW\, Grand Rapids\, MI\, 49503\, United States
END:VEVENT
BEGIN:VEVENT
DTSTART;TZID=America/Detroit:20200827T093000
DTEND;TZID=America/Detroit:20200827T110000
DTSTAMP:20260421T164923
CREATED:20200127T190705Z
LAST-MODIFIED:20200824T195654Z
UID:4104-1598520600-1598526000@endhomelessnesskent.org
SUMMARY:CoC/CTEH General Membership Meeting
DESCRIPTION:Join Zoom Meeting \nhttps://us02web.zoom.us/j/83423191762?pwd=MXVac1BScEM1RFRxRGJGTFRhQjRwdz09 \n  \nMeeting ID: 834 2319 1762 \nPasscode: 205714 \nOne tap mobile \n+19292056099\,\,83423191762#\,\,\,\,\,\,0#\,\,205714# US (New York) \n+13017158592\,\,83423191762#\,\,\,\,\,\,0#\,\,205714# US (Germantown) \n  \nDial by your location \n+1 929 205 6099 US (New York) \n+1 301 715 8592 US (Germantown) \n+1 312 626 6799 US (Chicago) \n+1 669 900 6833 US (San Jose) \n+1 253 215 8782 US (Tacoma) \n+1 346 248 7799 US (Houston) \nMeeting ID: 834 2319 1762 \nPasscode: 205714 \nFind your local number: https://us02web.zoom.us/u/kenWkQEoMI
URL:https://endhomelessnesskent.org/event/coc-cteh-general-membership-meeting-4/
LOCATION:MI\, United States
CATEGORIES:CoC General Membership meeting
END:VEVENT
BEGIN:VEVENT
DTSTART;TZID=America/Detroit:20200821T083000
DTEND;TZID=America/Detroit:20200821T103000
DTSTAMP:20260421T164923
CREATED:20200127T190722Z
LAST-MODIFIED:20200127T192220Z
UID:4128-1597998600-1598005800@endhomelessnesskent.org
SUMMARY:Steering Council
DESCRIPTION:
URL:https://endhomelessnesskent.org/event/steering-council-15/
LOCATION:Wyoming City Hall\, 1155 28th St. SW\, Wyoming\, MI\, 49509\, United States
CATEGORIES:Steering Council
END:VEVENT
BEGIN:VEVENT
DTSTART;TZID=America/Detroit:20200820T130000
DTEND;TZID=America/Detroit:20200820T143000
DTSTAMP:20260421T164923
CREATED:20200127T190713Z
LAST-MODIFIED:20200127T190713Z
UID:4118-1597928400-1597933800@endhomelessnesskent.org
SUMMARY:Data Analysis Committee
DESCRIPTION:
URL:https://endhomelessnesskent.org/event/data-analysis-committee-10/
LOCATION:Heart of West Michigan United Way\, 118 Commerce Ave SW\, Grand Rapids\, MI\, 49503\, United States
END:VEVENT
BEGIN:VEVENT
DTSTART;TZID=America/Detroit:20200804T130000
DTEND;TZID=America/Detroit:20200804T143000
DTSTAMP:20260421T164923
CREATED:20200127T190732Z
LAST-MODIFIED:20200127T190732Z
UID:4139-1596546000-1596551400@endhomelessnesskent.org
SUMMARY:Coordinated Entry Committee
DESCRIPTION:
URL:https://endhomelessnesskent.org/event/coordinated-entry-committee-9/
LOCATION:Heart of West Michigan United Way\, 118 Commerce Ave SW\, Grand Rapids\, MI\, 49503\, United States
END:VEVENT
BEGIN:VEVENT
DTSTART;TZID=America/Detroit:20200728T150000
DTEND;TZID=America/Detroit:20200728T160000
DTSTAMP:20260421T164923
CREATED:20200127T190749Z
LAST-MODIFIED:20200127T190749Z
UID:4160-1595948400-1595952000@endhomelessnesskent.org
SUMMARY:Outreach Workgroup
DESCRIPTION:
URL:https://endhomelessnesskent.org/event/outreach-workgroup-10/
LOCATION:Heart of West Michigan United Way\, 118 Commerce Ave SW\, Grand Rapids\, MI\, 49503\, United States
END:VEVENT
BEGIN:VEVENT
DTSTART;TZID=America/Detroit:20200724T090000
DTEND;TZID=America/Detroit:20200724T110000
DTSTAMP:20260421T164923
CREATED:20200127T190740Z
LAST-MODIFIED:20200127T190740Z
UID:4149-1595581200-1595588400@endhomelessnesskent.org
SUMMARY:Youth Committee
DESCRIPTION:
URL:https://endhomelessnesskent.org/event/youth-committee-8/
LOCATION:Heart of West Michigan United Way\, 118 Commerce Ave SW\, Grand Rapids\, MI\, 49503\, United States
END:VEVENT
BEGIN:VEVENT
DTSTART;TZID=America/Detroit:20200716T130000
DTEND;TZID=America/Detroit:20200716T143000
DTSTAMP:20260421T164923
CREATED:20200127T190713Z
LAST-MODIFIED:20200127T190713Z
UID:4117-1594904400-1594909800@endhomelessnesskent.org
SUMMARY:Data Analysis Committee
DESCRIPTION:
URL:https://endhomelessnesskent.org/event/data-analysis-committee-9/
LOCATION:Heart of West Michigan United Way\, 118 Commerce Ave SW\, Grand Rapids\, MI\, 49503\, United States
END:VEVENT
BEGIN:VEVENT
DTSTART;TZID=America/Detroit:20200707T130000
DTEND;TZID=America/Detroit:20200707T143000
DTSTAMP:20260421T164923
CREATED:20200127T190731Z
LAST-MODIFIED:20200127T190731Z
UID:4138-1594126800-1594132200@endhomelessnesskent.org
SUMMARY:Coordinated Entry Committee
DESCRIPTION:
URL:https://endhomelessnesskent.org/event/coordinated-entry-committee-8/
LOCATION:Heart of West Michigan United Way\, 118 Commerce Ave SW\, Grand Rapids\, MI\, 49503\, United States
END:VEVENT
BEGIN:VEVENT
DTSTART;TZID=America/Detroit:20200630T150000
DTEND;TZID=America/Detroit:20200630T160000
DTSTAMP:20260421T164923
CREATED:20200127T190749Z
LAST-MODIFIED:20200127T190749Z
UID:4159-1593529200-1593532800@endhomelessnesskent.org
SUMMARY:Outreach Workgroup
DESCRIPTION:
URL:https://endhomelessnesskent.org/event/outreach-workgroup-9/
LOCATION:Heart of West Michigan United Way\, 118 Commerce Ave SW\, Grand Rapids\, MI\, 49503\, United States
END:VEVENT
BEGIN:VEVENT
DTSTART;TZID=America/Detroit:20200626T090000
DTEND;TZID=America/Detroit:20200626T110000
DTSTAMP:20260421T164923
CREATED:20200127T190740Z
LAST-MODIFIED:20200625T114517Z
UID:4148-1593162000-1593169200@endhomelessnesskent.org
SUMMARY:Youth Committee
DESCRIPTION:Join Zoom Meeting\nhttps://us02web.zoom.us/j/88015844182?pwd=RWplS2hqb3dZYURPWUNhU0NjczA4Zz09 \nMeeting ID: 880 1584 4182\nPassword: CoC\nOne tap mobile\n+19292056099\,\,88015844182#\,\,\,\,0#\,\,964592# US (New York)\n+13017158592\,\,88015844182#\,\,\,\,0#\,\,964592# US (Germantown) \nDial by your location\n+1 929 205 6099 US (New York)\n+1 301 715 8592 US (Germantown)\n+1 312 626 6799 US (Chicago)\n+1 669 900 6833 US (San Jose)\n+1 253 215 8782 US (Tacoma)\n+1 346 248 7799 US (Houston)\nMeeting ID: 880 1584 4182\nPassword: 964592\nFind your local number: https://us02web.zoom.us/u/kbVl9ZHzCh
URL:https://endhomelessnesskent.org/event/youth-committee-7/
LOCATION:Heart of West Michigan United Way\, 118 Commerce Ave SW\, Grand Rapids\, MI\, 49503\, United States
END:VEVENT
BEGIN:VEVENT
DTSTART;TZID=America/Detroit:20200625T130000
DTEND;TZID=America/Detroit:20200625T143000
DTSTAMP:20260421T164923
CREATED:20200127T190713Z
LAST-MODIFIED:20200616T164712Z
UID:4116-1593090000-1593095400@endhomelessnesskent.org
SUMMARY:Data Analysis Committee
DESCRIPTION:Join Zoom Meeting: https://us02web.zoom.us/j/88655373546?pwd=bkQwRSt5WUdrVzJGVFVKczdJRkNXdz09 \n  \nMeeting ID: 886 5537 3546 \nPassword: CoC \nOne tap mobile \n+13017158592\,\,88655373546#\,\,\,\,0#\,\,123289# US (Germantown) \n+13126266799\,\,88655373546#\,\,\,\,0#\,\,123289# US (Chicago) \n  \nDial by your location \n+1 301 715 8592 US (Germantown) \n+1 312 626 6799 US (Chicago) \n+1 929 205 6099 US (New York) \n+1 253 215 8782 US (Tacoma) \n+1 346 248 7799 US (Houston) \n+1 669 900 6833 US (San Jose) \nMeeting ID: 886 5537 3546 \nPassword: 123289 \nFind your local number: https://us02web.zoom.us/u/k3T9yqoVE
URL:https://endhomelessnesskent.org/event/data-analysis-committee-8/
LOCATION:MI\, United States
END:VEVENT
END:VCALENDAR