BEGIN:VCALENDAR
VERSION:2.0
PRODID:-//Grand Rapids Area Coalition to End Homelessness - ECPv6.15.20//NONSGML v1.0//EN
CALSCALE:GREGORIAN
METHOD:PUBLISH
X-WR-CALNAME:Grand Rapids Area Coalition to End Homelessness
X-ORIGINAL-URL:https://endhomelessnesskent.org
X-WR-CALDESC:Events for Grand Rapids Area Coalition to End Homelessness
REFRESH-INTERVAL;VALUE=DURATION:PT1H
X-Robots-Tag:noindex
X-PUBLISHED-TTL:PT1H
BEGIN:VTIMEZONE
TZID:America/Detroit
BEGIN:DAYLIGHT
TZOFFSETFROM:-0500
TZOFFSETTO:-0400
TZNAME:EDT
DTSTART:20200308T070000
END:DAYLIGHT
BEGIN:STANDARD
TZOFFSETFROM:-0400
TZOFFSETTO:-0500
TZNAME:EST
DTSTART:20201101T060000
END:STANDARD
BEGIN:DAYLIGHT
TZOFFSETFROM:-0500
TZOFFSETTO:-0400
TZNAME:EDT
DTSTART:20210314T070000
END:DAYLIGHT
BEGIN:STANDARD
TZOFFSETFROM:-0400
TZOFFSETTO:-0500
TZNAME:EST
DTSTART:20211107T060000
END:STANDARD
BEGIN:DAYLIGHT
TZOFFSETFROM:-0500
TZOFFSETTO:-0400
TZNAME:EDT
DTSTART:20220313T070000
END:DAYLIGHT
BEGIN:STANDARD
TZOFFSETFROM:-0400
TZOFFSETTO:-0500
TZNAME:EST
DTSTART:20221106T060000
END:STANDARD
END:VTIMEZONE
BEGIN:VEVENT
DTSTART;TZID=America/Detroit:20210812T140000
DTEND;TZID=America/Detroit:20210812T153000
DTSTAMP:20260421T112311
CREATED:20210316T183333Z
LAST-MODIFIED:20210316T183333Z
UID:4719-1628776800-1628782200@endhomelessnesskent.org
SUMMARY:Data Analysis Committee
DESCRIPTION:Join Zoom Meeting: https://us02web.zoom.us/j/83738855179?pwd=M3E4bkh4UjNaMmZvN01IbkJBZUpoQT09 ; Meeting ID: 837 3885 5179; Passcode: 14895
URL:https://endhomelessnesskent.org/event/data-analysis-committee-19/
LOCATION:Zoom\, MI\, United States
END:VEVENT
BEGIN:VEVENT
DTSTART;TZID=America/Detroit:20210803T140000
DTEND;TZID=America/Detroit:20210803T150000
DTSTAMP:20260421T112311
CREATED:20210316T183348Z
LAST-MODIFIED:20210316T183348Z
UID:4740-1627999200-1628002800@endhomelessnesskent.org
SUMMARY:Coordinated Entry Committee
DESCRIPTION:Join Zoom Meeting: https://us02web.zoom.us/j/85634559343?pwd=THFxTUE2ZHhDS0E0MEhCb1IyckJ4dz09 ; Meeting ID: 856 3455 9343; Passcode: 234150
URL:https://endhomelessnesskent.org/event/coordinated-entry-committee-18/
LOCATION:Zoom\, MI\, United States
END:VEVENT
BEGIN:VEVENT
DTSTART;TZID=America/Detroit:20210802T140000
DTEND;TZID=America/Detroit:20210802T153000
DTSTAMP:20260421T112311
CREATED:20210316T183405Z
LAST-MODIFIED:20210316T183405Z
UID:4761-1627912800-1627918200@endhomelessnesskent.org
SUMMARY:Executive Committee
DESCRIPTION:Join Zoom Meeting: https://us02web.zoom.us/j/82003450763?pwd=ZEk4Sjl3VVppSG50R0pXc3Z2ejNEdz09 : Meeting ID: 820 0345 0763; Passcode: 37591
URL:https://endhomelessnesskent.org/event/executive-committee-5/
LOCATION:Zoom\, MI\, United States
END:VEVENT
BEGIN:VEVENT
DTSTART;TZID=America/Detroit:20210723T093000
DTEND;TZID=America/Detroit:20210723T103000
DTSTAMP:20260421T112311
CREATED:20210316T183357Z
LAST-MODIFIED:20210316T183357Z
UID:4751-1627032600-1627036200@endhomelessnesskent.org
SUMMARY:Youth Committee
DESCRIPTION:Join Zoom Meeting: https://us02web.zoom.us/j/88015844182?pwd=RWplS2hqb3dZYURPWUNhU0NjczA4Zz09 ; Meeting ID: 880 1584 4182; Passcode: CoC (964592)
URL:https://endhomelessnesskent.org/event/youth-committee-17/
LOCATION:Zoom\, MI\, United States
END:VEVENT
BEGIN:VEVENT
DTSTART;TZID=America/Detroit:20210720T130000
DTEND;TZID=America/Detroit:20210720T143000
DTSTAMP:20260421T112311
CREATED:20210316T183347Z
LAST-MODIFIED:20210713T150449Z
UID:4739-1626786000-1626791400@endhomelessnesskent.org
SUMMARY:Coordinated Entry Committee
DESCRIPTION:Join Zoom Meeting: https://us02web.zoom.us/j/85634559343?pwd=THFxTUE2ZHhDS0E0MEhCb1IyckJ4dz09 ; Meeting ID: 856 3455 9343; Passcode: 234149
URL:https://endhomelessnesskent.org/event/coordinated-entry-committee-17/
LOCATION:Zoom\, MI\, United States
END:VEVENT
BEGIN:VEVENT
DTSTART;TZID=America/Detroit:20210716T083000
DTEND;TZID=America/Detroit:20210716T103000
DTSTAMP:20260421T112311
CREATED:20210316T183340Z
LAST-MODIFIED:20210316T183340Z
UID:4730-1626424200-1626431400@endhomelessnesskent.org
SUMMARY:Steering Council
DESCRIPTION:Join Zoom Meeting: https://us02web.zoom.us/j/85850043324?pwd=cGRybXpmVXgyZFJ2bm9YNU82YnhFQT09 ; Meeting ID: 858 5004 3324; Password: CoC (024224)
URL:https://endhomelessnesskent.org/event/steering-council-24/
LOCATION:Zoom\, MI\, United States
END:VEVENT
BEGIN:VEVENT
DTSTART;TZID=America/Detroit:20210708T140000
DTEND;TZID=America/Detroit:20210708T153000
DTSTAMP:20260421T112311
CREATED:20210316T183330Z
LAST-MODIFIED:20210316T183330Z
UID:4718-1625752800-1625758200@endhomelessnesskent.org
SUMMARY:Data Analysis Committee
DESCRIPTION:Join Zoom Meeting: https://us02web.zoom.us/j/83738855179?pwd=M3E4bkh4UjNaMmZvN01IbkJBZUpoQT09 ; Meeting ID: 837 3885 5179; Passcode: 14894
URL:https://endhomelessnesskent.org/event/data-analysis-committee-18/
LOCATION:Zoom\, MI\, United States
END:VEVENT
BEGIN:VEVENT
DTSTART;TZID=America/Detroit:20210705T140000
DTEND;TZID=America/Detroit:20210705T153000
DTSTAMP:20260421T112311
CREATED:20210316T183405Z
LAST-MODIFIED:20210316T183405Z
UID:4760-1625493600-1625499000@endhomelessnesskent.org
SUMMARY:Executive Committee
DESCRIPTION:Join Zoom Meeting: https://us02web.zoom.us/j/82003450763?pwd=ZEk4Sjl3VVppSG50R0pXc3Z2ejNEdz09 : Meeting ID: 820 0345 0763; Passcode: 37590
URL:https://endhomelessnesskent.org/event/executive-committee-4/
LOCATION:Zoom\, MI\, United States
END:VEVENT
BEGIN:VEVENT
DTSTART;TZID=America/Detroit:20210625T093000
DTEND;TZID=America/Detroit:20210625T103000
DTSTAMP:20260421T112311
CREATED:20210316T183356Z
LAST-MODIFIED:20210316T183356Z
UID:4750-1624613400-1624617000@endhomelessnesskent.org
SUMMARY:Youth Committee
DESCRIPTION:Join Zoom Meeting: https://us02web.zoom.us/j/88015844182?pwd=RWplS2hqb3dZYURPWUNhU0NjczA4Zz09 ; Meeting ID: 880 1584 4182; Passcode: CoC (964592)
URL:https://endhomelessnesskent.org/event/youth-committee-16/
LOCATION:Zoom\, MI\, United States
END:VEVENT
BEGIN:VEVENT
DTSTART;TZID=America/Detroit:20210624T093000
DTEND;TZID=America/Detroit:20210624T110000
DTSTAMP:20260421T112311
CREATED:20210316T183324Z
LAST-MODIFIED:20210316T183324Z
UID:4710-1624527000-1624532400@endhomelessnesskent.org
SUMMARY:CoC/CTEH General Membership Meeting
DESCRIPTION:Join Zoom Meeting: https://us02web.zoom.us/j/86785111647?pwd=M1NvL0Y4Nmc5eEhKK21oY05aanBWZz09 ; Meeting ID: 867 8511 1647\, Passcode: 40146
URL:https://endhomelessnesskent.org/event/coc-cteh-general-membership-meeting-8/
LOCATION:Zoom\, MI\, United States
END:VEVENT
BEGIN:VEVENT
DTSTART;TZID=America/Detroit:20210618T083000
DTEND;TZID=America/Detroit:20210618T103000
DTSTAMP:20260421T112311
CREATED:20210316T183340Z
LAST-MODIFIED:20210316T183340Z
UID:4729-1624005000-1624012200@endhomelessnesskent.org
SUMMARY:Steering Council
DESCRIPTION:Join Zoom Meeting: https://us02web.zoom.us/j/85850043324?pwd=cGRybXpmVXgyZFJ2bm9YNU82YnhFQT09 ; Meeting ID: 858 5004 3324; Password: CoC (024224)
URL:https://endhomelessnesskent.org/event/steering-council-23/
LOCATION:Zoom\, MI\, United States
END:VEVENT
BEGIN:VEVENT
DTSTART;TZID=America/Detroit:20210610T140000
DTEND;TZID=America/Detroit:20210610T153000
DTSTAMP:20260421T112311
CREATED:20210316T183330Z
LAST-MODIFIED:20210316T183330Z
UID:4717-1623333600-1623339000@endhomelessnesskent.org
SUMMARY:Data Analysis Committee
DESCRIPTION:Join Zoom Meeting: https://us02web.zoom.us/j/83738855179?pwd=M3E4bkh4UjNaMmZvN01IbkJBZUpoQT09 ; Meeting ID: 837 3885 5179; Passcode: 14893
URL:https://endhomelessnesskent.org/event/data-analysis-committee-17/
LOCATION:Zoom\, MI\, United States
END:VEVENT
BEGIN:VEVENT
DTSTART;TZID=America/Detroit:20210607T140000
DTEND;TZID=America/Detroit:20210607T153000
DTSTAMP:20260421T112311
CREATED:20210316T183404Z
LAST-MODIFIED:20210316T183404Z
UID:4759-1623074400-1623079800@endhomelessnesskent.org
SUMMARY:Executive Committee
DESCRIPTION:Join Zoom Meeting: https://us02web.zoom.us/j/82003450763?pwd=ZEk4Sjl3VVppSG50R0pXc3Z2ejNEdz09 : Meeting ID: 820 0345 0763; Passcode: 37589
URL:https://endhomelessnesskent.org/event/executive-committee-3/
LOCATION:Zoom\, MI\, United States
END:VEVENT
BEGIN:VEVENT
DTSTART;TZID=America/Detroit:20210601T140000
DTEND;TZID=America/Detroit:20210601T150000
DTSTAMP:20260421T112311
CREATED:20210316T183345Z
LAST-MODIFIED:20210316T183345Z
UID:4738-1622556000-1622559600@endhomelessnesskent.org
SUMMARY:Coordinated Entry Committee
DESCRIPTION:Join Zoom Meeting: https://us02web.zoom.us/j/85634559343?pwd=THFxTUE2ZHhDS0E0MEhCb1IyckJ4dz09 ; Meeting ID: 856 3455 9343; Passcode: 234148
URL:https://endhomelessnesskent.org/event/coordinated-entry-committee-16/
LOCATION:Zoom\, MI\, United States
END:VEVENT
BEGIN:VEVENT
DTSTART;TZID=America/Detroit:20210528T093000
DTEND;TZID=America/Detroit:20210528T103000
DTSTAMP:20260421T112311
CREATED:20210316T183356Z
LAST-MODIFIED:20210316T183356Z
UID:4749-1622194200-1622197800@endhomelessnesskent.org
SUMMARY:Youth Committee
DESCRIPTION:Join Zoom Meeting: https://us02web.zoom.us/j/88015844182?pwd=RWplS2hqb3dZYURPWUNhU0NjczA4Zz09 ; Meeting ID: 880 1584 4182; Passcode: CoC (964592)
URL:https://endhomelessnesskent.org/event/youth-committee-15/
LOCATION:Zoom\, MI\, United States
END:VEVENT
BEGIN:VEVENT
DTSTART;TZID=America/Detroit:20210521T083000
DTEND;TZID=America/Detroit:20210521T103000
DTSTAMP:20260421T112311
CREATED:20210316T183338Z
LAST-MODIFIED:20210316T183338Z
UID:4728-1621585800-1621593000@endhomelessnesskent.org
SUMMARY:Steering Council
DESCRIPTION:Join Zoom Meeting: https://us02web.zoom.us/j/85850043324?pwd=cGRybXpmVXgyZFJ2bm9YNU82YnhFQT09 ; Meeting ID: 858 5004 3324; Password: CoC (024224)
URL:https://endhomelessnesskent.org/event/steering-council-22/
LOCATION:Zoom\, MI\, United States
END:VEVENT
BEGIN:VEVENT
DTSTART;TZID=America/Detroit:20210513T140000
DTEND;TZID=America/Detroit:20210513T153000
DTSTAMP:20260421T112311
CREATED:20210316T183330Z
LAST-MODIFIED:20210316T183330Z
UID:4716-1620914400-1620919800@endhomelessnesskent.org
SUMMARY:Data Analysis Committee
DESCRIPTION:Join Zoom Meeting: https://us02web.zoom.us/j/83738855179?pwd=M3E4bkh4UjNaMmZvN01IbkJBZUpoQT09 ; Meeting ID: 837 3885 5179; Passcode: 14892
URL:https://endhomelessnesskent.org/event/data-analysis-committee-16/
LOCATION:Zoom\, MI\, United States
END:VEVENT
BEGIN:VEVENT
DTSTART;TZID=America/Detroit:20210512T100000
DTEND;TZID=America/Detroit:20210512T113000
DTSTAMP:20260421T112311
CREATED:20210504T131515Z
LAST-MODIFIED:20210504T131630Z
UID:4856-1620813600-1620819000@endhomelessnesskent.org
SUMMARY:CoC Core Values Session
DESCRIPTION:Registration Link: https://us02web.zoom.us/meeting/register/tZAucuuhqT8pG9UonGuASNQKilMHtcl4omet \nAs the CoC continues to move through the strategic planning process\, we invite you to join us on May 12th at 10:00am for a Core Values Session with the Mission Matters team. The session on May 12th will be an opportunity for community partners to speak into the strategic planning efforts by providing input on the drafting of a set of core values. Please register for the session using the above link. After registering\, you will receive an email with the meeting information and a calendar invitation. \n﻿
URL:https://endhomelessnesskent.org/event/coc-core-values-session/
LOCATION:MI
END:VEVENT
BEGIN:VEVENT
DTSTART;TZID=America/Detroit:20210511T140000
DTEND;TZID=America/Detroit:20210511T150000
DTSTAMP:20260421T112311
CREATED:20210316T183345Z
LAST-MODIFIED:20210504T131207Z
UID:4737-1620741600-1620745200@endhomelessnesskent.org
SUMMARY:Coordinated Entry Committee
DESCRIPTION:Join Zoom Meeting: https://us02web.zoom.us/j/85634559343?pwd=THFxTUE2ZHhDS0E0MEhCb1IyckJ4dz09 ; Meeting ID: 856 3455 9343; Passcode: 234147
URL:https://endhomelessnesskent.org/event/coordinated-entry-committee-15/
LOCATION:Zoom\, MI\, United States
END:VEVENT
BEGIN:VEVENT
DTSTART;TZID=America/Detroit:20210503T140000
DTEND;TZID=America/Detroit:20210503T153000
DTSTAMP:20260421T112311
CREATED:20210316T183402Z
LAST-MODIFIED:20210316T183402Z
UID:4758-1620050400-1620055800@endhomelessnesskent.org
SUMMARY:Executive Committee
DESCRIPTION:Join Zoom Meeting: https://us02web.zoom.us/j/82003450763?pwd=ZEk4Sjl3VVppSG50R0pXc3Z2ejNEdz09 : Meeting ID: 820 0345 0763; Passcode: 37588
URL:https://endhomelessnesskent.org/event/executive-committee-2/
LOCATION:Zoom\, MI\, United States
END:VEVENT
BEGIN:VEVENT
DTSTART;TZID=America/Detroit:20210429T093000
DTEND;TZID=America/Detroit:20210429T110000
DTSTAMP:20260421T112311
CREATED:20210316T183323Z
LAST-MODIFIED:20210316T183323Z
UID:4709-1619688600-1619694000@endhomelessnesskent.org
SUMMARY:CoC/CTEH General Membership Meeting
DESCRIPTION:Join Zoom Meeting: https://us02web.zoom.us/j/86785111647?pwd=M1NvL0Y4Nmc5eEhKK21oY05aanBWZz09 ; Meeting ID: 867 8511 1647\, Passcode: 40145
URL:https://endhomelessnesskent.org/event/coc-cteh-general-membership-meeting-7/
LOCATION:Zoom\, MI\, United States
END:VEVENT
BEGIN:VEVENT
DTSTART;TZID=America/Detroit:20210423T093000
DTEND;TZID=America/Detroit:20210423T103000
DTSTAMP:20260421T112311
CREATED:20210316T183353Z
LAST-MODIFIED:20210316T183353Z
UID:4748-1619170200-1619173800@endhomelessnesskent.org
SUMMARY:Youth Committee
DESCRIPTION:Join Zoom Meeting: https://us02web.zoom.us/j/88015844182?pwd=RWplS2hqb3dZYURPWUNhU0NjczA4Zz09 ; Meeting ID: 880 1584 4182; Passcode: CoC (964592)
URL:https://endhomelessnesskent.org/event/youth-committee-14/
LOCATION:Zoom\, MI\, United States
END:VEVENT
BEGIN:VEVENT
DTSTART;TZID=America/Detroit:20210416T083000
DTEND;TZID=America/Detroit:20210416T103000
DTSTAMP:20260421T112311
CREATED:20210316T183337Z
LAST-MODIFIED:20210316T183337Z
UID:4727-1618561800-1618569000@endhomelessnesskent.org
SUMMARY:Steering Council
DESCRIPTION:Join Zoom Meeting: https://us02web.zoom.us/j/85850043324?pwd=cGRybXpmVXgyZFJ2bm9YNU82YnhFQT09 ; Meeting ID: 858 5004 3324; Password: CoC (024224)
URL:https://endhomelessnesskent.org/event/steering-council-21/
LOCATION:Zoom\, MI\, United States
END:VEVENT
BEGIN:VEVENT
DTSTART;TZID=America/Detroit:20210408T140000
DTEND;TZID=America/Detroit:20210408T153000
DTSTAMP:20260421T112311
CREATED:20210316T183329Z
LAST-MODIFIED:20210316T183329Z
UID:4715-1617890400-1617895800@endhomelessnesskent.org
SUMMARY:Data Analysis Committee
DESCRIPTION:Join Zoom Meeting: https://us02web.zoom.us/j/83738855179?pwd=M3E4bkh4UjNaMmZvN01IbkJBZUpoQT09 ; Meeting ID: 837 3885 5179; Passcode: 14891
URL:https://endhomelessnesskent.org/event/data-analysis-committee-15/
LOCATION:Zoom\, MI\, United States
END:VEVENT
BEGIN:VEVENT
DTSTART;TZID=America/Detroit:20210406T140000
DTEND;TZID=America/Detroit:20210406T150000
DTSTAMP:20260421T112311
CREATED:20210316T183345Z
LAST-MODIFIED:20210316T183345Z
UID:4736-1617717600-1617721200@endhomelessnesskent.org
SUMMARY:Coordinated Entry Committee
DESCRIPTION:Join Zoom Meeting: https://us02web.zoom.us/j/85634559343?pwd=THFxTUE2ZHhDS0E0MEhCb1IyckJ4dz09 ; Meeting ID: 856 3455 9343; Passcode: 234146
URL:https://endhomelessnesskent.org/event/coordinated-entry-committee-14/
LOCATION:Zoom\, MI\, United States
END:VEVENT
BEGIN:VEVENT
DTSTART;TZID=America/Detroit:20210331T090000
DTEND;TZID=America/Detroit:20210331T103000
DTSTAMP:20260421T112311
CREATED:20210316T183401Z
LAST-MODIFIED:20210316T183401Z
UID:4757-1617181200-1617186600@endhomelessnesskent.org
SUMMARY:Executive Committee
DESCRIPTION:Join Zoom Meeting: https://us02web.zoom.us/j/82003450763?pwd=ZEk4Sjl3VVppSG50R0pXc3Z2ejNEdz09 : Meeting ID: 820 0345 0763; Passcode: 37587
URL:https://endhomelessnesskent.org/event/executive-committee/
LOCATION:Zoom\, MI\, United States
END:VEVENT
BEGIN:VEVENT
DTSTART;TZID=America/Detroit:20210326T093000
DTEND;TZID=America/Detroit:20210326T103000
DTSTAMP:20260421T112311
CREATED:20210316T183353Z
LAST-MODIFIED:20210316T183353Z
UID:4747-1616751000-1616754600@endhomelessnesskent.org
SUMMARY:Youth Committee
DESCRIPTION:Join Zoom Meeting: https://us02web.zoom.us/j/88015844182?pwd=RWplS2hqb3dZYURPWUNhU0NjczA4Zz09 ; Meeting ID: 880 1584 4182; Passcode: CoC (964592)
URL:https://endhomelessnesskent.org/event/youth-committee-13/
LOCATION:Zoom\, MI\, United States
END:VEVENT
BEGIN:VEVENT
DTSTART;TZID=America/Detroit:20210319T083000
DTEND;TZID=America/Detroit:20210319T103000
DTSTAMP:20260421T112311
CREATED:20210316T183337Z
LAST-MODIFIED:20210316T183337Z
UID:4726-1616142600-1616149800@endhomelessnesskent.org
SUMMARY:Steering Council
DESCRIPTION:Join Zoom Meeting: https://us02web.zoom.us/j/85850043324?pwd=cGRybXpmVXgyZFJ2bm9YNU82YnhFQT09 ; Meeting ID: 858 5004 3324; Password: CoC (024224)
URL:https://endhomelessnesskent.org/event/steering-council-20/
LOCATION:Zoom\, MI\, United States
END:VEVENT
BEGIN:VEVENT
DTSTART;TZID=America/Detroit:20210210T140000
DTEND;TZID=America/Detroit:20210210T153000
DTSTAMP:20260421T112311
CREATED:20210316T183337Z
LAST-MODIFIED:20210316T183337Z
UID:4725-1612965600-1612971000@endhomelessnesskent.org
SUMMARY:Data Analysis Committee
DESCRIPTION:Join Zoom Meeting: https://us02web.zoom.us/j/83738855179?pwd=M3E4bkh4UjNaMmZvN01IbkJBZUpoQT09 ; Meeting ID: 837 3885 5179; Passcode: 14901
URL:https://endhomelessnesskent.org/event/data-analysis-committee-25/
LOCATION:Zoom\, MI\, United States
END:VEVENT
BEGIN:VEVENT
DTSTART;TZID=America/Detroit:20210113T140000
DTEND;TZID=America/Detroit:20210113T153000
DTSTAMP:20260421T112311
CREATED:20210316T183336Z
LAST-MODIFIED:20210316T183336Z
UID:4724-1610546400-1610551800@endhomelessnesskent.org
SUMMARY:Data Analysis Committee
DESCRIPTION:Join Zoom Meeting: https://us02web.zoom.us/j/83738855179?pwd=M3E4bkh4UjNaMmZvN01IbkJBZUpoQT09 ; Meeting ID: 837 3885 5179; Passcode: 14900
URL:https://endhomelessnesskent.org/event/data-analysis-committee-24/
LOCATION:Zoom\, MI\, United States
END:VEVENT
END:VCALENDAR