BEGIN:VCALENDAR
VERSION:2.0
PRODID:-//Grand Rapids Area Coalition to End Homelessness - ECPv6.15.20//NONSGML v1.0//EN
CALSCALE:GREGORIAN
METHOD:PUBLISH
X-WR-CALNAME:Grand Rapids Area Coalition to End Homelessness
X-ORIGINAL-URL:https://endhomelessnesskent.org
X-WR-CALDESC:Events for Grand Rapids Area Coalition to End Homelessness
REFRESH-INTERVAL;VALUE=DURATION:PT1H
X-Robots-Tag:noindex
X-PUBLISHED-TTL:PT1H
BEGIN:VTIMEZONE
TZID:America/Detroit
BEGIN:DAYLIGHT
TZOFFSETFROM:-0500
TZOFFSETTO:-0400
TZNAME:EDT
DTSTART:20200308T070000
END:DAYLIGHT
BEGIN:STANDARD
TZOFFSETFROM:-0400
TZOFFSETTO:-0500
TZNAME:EST
DTSTART:20201101T060000
END:STANDARD
BEGIN:DAYLIGHT
TZOFFSETFROM:-0500
TZOFFSETTO:-0400
TZNAME:EDT
DTSTART:20210314T070000
END:DAYLIGHT
BEGIN:STANDARD
TZOFFSETFROM:-0400
TZOFFSETTO:-0500
TZNAME:EST
DTSTART:20211107T060000
END:STANDARD
BEGIN:DAYLIGHT
TZOFFSETFROM:-0500
TZOFFSETTO:-0400
TZNAME:EDT
DTSTART:20220313T070000
END:DAYLIGHT
BEGIN:STANDARD
TZOFFSETFROM:-0400
TZOFFSETTO:-0500
TZNAME:EST
DTSTART:20221106T060000
END:STANDARD
BEGIN:DAYLIGHT
TZOFFSETFROM:-0500
TZOFFSETTO:-0400
TZNAME:EDT
DTSTART:20230312T070000
END:DAYLIGHT
BEGIN:STANDARD
TZOFFSETFROM:-0400
TZOFFSETTO:-0500
TZNAME:EST
DTSTART:20231105T060000
END:STANDARD
END:VTIMEZONE
BEGIN:VEVENT
DTSTART;TZID=America/Detroit:20220527T093000
DTEND;TZID=America/Detroit:20220527T103000
DTSTAMP:20260421T023534
CREATED:20220117T165712Z
LAST-MODIFIED:20220117T165712Z
UID:5661-1653643800-1653647400@endhomelessnesskent.org
SUMMARY:Youth Committee
DESCRIPTION:Join Zoom Meeting: https://us02web.zoom.us/j/88015844182?pwd=RWplS2hqb3dZYURPWUNhU0NjczA4Zz09 ; Meeting ID: 880 1584 4182; Passcode: CoC (964592)
URL:https://endhomelessnesskent.org/event/youth-committee-27/
LOCATION:Zoom\, MI\, United States
END:VEVENT
BEGIN:VEVENT
DTSTART;TZID=America/Detroit:20220520T083000
DTEND;TZID=America/Detroit:20220520T103000
DTSTAMP:20260421T023534
CREATED:20220117T172014Z
LAST-MODIFIED:20220117T172014Z
UID:5717-1653035400-1653042600@endhomelessnesskent.org
SUMMARY:Steering Council
DESCRIPTION:Join Zoom Meeting: https://us02web.zoom.us/j/85850043324?pwd=cGRybXpmVXgyZFJ2bm9YNU82YnhFQT09 ; Meeting ID: 858 5004 3324; Password: CoC (024224)
URL:https://endhomelessnesskent.org/event/steering-council-40/
LOCATION:Zoom\, MI\, United States
END:VEVENT
BEGIN:VEVENT
DTSTART;TZID=America/Detroit:20220517T140000
DTEND;TZID=America/Detroit:20220517T153000
DTSTAMP:20260421T023534
CREATED:20220117T170718Z
LAST-MODIFIED:20220516T191711Z
UID:5673-1652796000-1652801400@endhomelessnesskent.org
SUMMARY:Coordinated Entry Committee
DESCRIPTION:Join Zoom Meeting: https://us02web.zoom.us/j/85634559343?pwd=THFxTUE2ZHhDS0E0MEhCb1IyckJ4dz09 ; Meeting ID: 856 3455 9343; Passcode: 234149
URL:https://endhomelessnesskent.org/event/coordinated-entry-committee-34/
LOCATION:Zoom\, MI\, United States
END:VEVENT
BEGIN:VEVENT
DTSTART;TZID=America/Detroit:20220422T093000
DTEND;TZID=America/Detroit:20220422T103000
DTSTAMP:20260421T023534
CREATED:20220117T165711Z
LAST-MODIFIED:20220421T205027Z
UID:5660-1650619800-1650623400@endhomelessnesskent.org
SUMMARY:Youth Committee
DESCRIPTION:________________________________________________________________________________ \nMicrosoft Teams meeting \nJoin on your computer or mobile app \nClick here to join the meeting \nOr call in (audio only) \n+1 616-258-6755\,\,26971100#   United States\, Grand Rapids \nPhone Conference ID: 269 711 00# \nFind a local number | Reset PIN \nLearn More | Meeting options \n________________________________________________________________________________
URL:https://endhomelessnesskent.org/event/youth-committee-26/
LOCATION:Teams\, MI\, United States
END:VEVENT
BEGIN:VEVENT
DTSTART;TZID=America/Detroit:20220422T083000
DTEND;TZID=America/Detroit:20220422T103000
DTSTAMP:20260421T023534
CREATED:20220117T170721Z
LAST-MODIFIED:20220317T182052Z
UID:5682-1650616200-1650623400@endhomelessnesskent.org
SUMMARY:Steering Council
DESCRIPTION:Join Zoom Meeting: https://us02web.zoom.us/j/85850043324?pwd=cGRybXpmVXgyZFJ2bm9YNU82YnhFQT09 ; Meeting ID: 858 5004 3324; Password: CoC (024224)
URL:https://endhomelessnesskent.org/event/steering-council-33/
LOCATION:Zoom\, MI\, United States
END:VEVENT
BEGIN:VEVENT
DTSTART;TZID=America/Detroit:20220421T140000
DTEND;TZID=America/Detroit:20220421T153000
DTSTAMP:20260421T023534
CREATED:20220117T165558Z
LAST-MODIFIED:20220405T135437Z
UID:5638-1650549600-1650555000@endhomelessnesskent.org
SUMMARY:Data Analysis Committee
DESCRIPTION:Join Zoom Meeting: https://us02web.zoom.us/j/83738855179?pwd=M3E4bkh4UjNaMmZvN01IbkJBZUpoQT09 ; Meeting ID: 837 3885 5179; Passcode: 14892
URL:https://endhomelessnesskent.org/event/data-analysis-committee-27/
LOCATION:Zoom\, MI\, United States
END:VEVENT
BEGIN:VEVENT
DTSTART;TZID=America/Detroit:20220421T093000
DTEND;TZID=America/Detroit:20220421T110000
DTSTAMP:20260421T023534
CREATED:20220106T151849Z
LAST-MODIFIED:20220111T160237Z
UID:5597-1650533400-1650538800@endhomelessnesskent.org
SUMMARY:CoC/CTEH General Membership Meeting
DESCRIPTION:Visit our CoC Membership Meeting page to download the agenda packets for meetings. \nJoin Zoom Meeting: https://us02web.zoom.us/j/86785111647?pwd=M1NvL0Y4Nmc5eEhKK21oY05aanBWZz09 ; Meeting ID: 867 8511 1647\, Passcode: 40145
URL:https://endhomelessnesskent.org/event/coc-cteh-general-membership-meeting-13/
LOCATION:Zoom\, MI\, United States
CATEGORIES:CoC General Membership meeting
END:VEVENT
BEGIN:VEVENT
DTSTART;TZID=America/Detroit:20220420T130000
DTEND;TZID=America/Detroit:20220420T140000
DTSTAMP:20260421T023534
CREATED:20220128T141557Z
LAST-MODIFIED:20220128T141606Z
UID:5753-1650459600-1650463200@endhomelessnesskent.org
SUMMARY:Family Functional Zero
DESCRIPTION:Join Zoom Meeting: https://us02web.zoom.us/j/88475925404?pwd=RzRWTzVqZnBFOFVwMzViWWswVm9pdz09 or dial 312-626-6799 \n\nMeeting ID: 884 7592 5404\nPasscode: 1523
URL:https://endhomelessnesskent.org/event/family-functional-zero-2/
LOCATION:Zoom\, MI\, United States
END:VEVENT
BEGIN:VEVENT
DTSTART;TZID=America/Detroit:20220419T140000
DTEND;TZID=America/Detroit:20220419T153000
DTSTAMP:20260421T023534
CREATED:20220117T165641Z
LAST-MODIFIED:20220325T134150Z
UID:5649-1650376800-1650382200@endhomelessnesskent.org
SUMMARY:Coordinated Entry Committee
DESCRIPTION:Join Zoom Meeting: https://us02web.zoom.us/j/85634559343?pwd=THFxTUE2ZHhDS0E0MEhCb1IyckJ4dz09 ; Meeting ID: 856 3455 9343; Passcode: 234147
URL:https://endhomelessnesskent.org/event/coordinated-entry-committee-26/
LOCATION:Zoom\, MI\, United States
END:VEVENT
BEGIN:VEVENT
DTSTART;TZID=America/Detroit:20220418T150000
DTEND;TZID=America/Detroit:20220418T160000
DTSTAMP:20260421T023534
CREATED:20220325T131153Z
LAST-MODIFIED:20220325T131153Z
UID:5839-1650294000-1650297600@endhomelessnesskent.org
SUMMARY:Family Functional Zero Orientation
DESCRIPTION:Zoom link coming soon!
URL:https://endhomelessnesskent.org/event/family-functional-zero-orientation-2/
LOCATION:Zoom\, MI\, United States
END:VEVENT
BEGIN:VEVENT
DTSTART;TZID=America/Detroit:20220318T083000
DTEND;TZID=America/Detroit:20220318T100000
DTSTAMP:20260421T023534
CREATED:20220117T170721Z
LAST-MODIFIED:20220317T182130Z
UID:5681-1647592200-1647597600@endhomelessnesskent.org
SUMMARY:Steering Council
DESCRIPTION:Join Zoom Meeting: https://us02web.zoom.us/j/85850043324?pwd=cGRybXpmVXgyZFJ2bm9YNU82YnhFQT09 ; Meeting ID: 858 5004 3324; Password: CoC (024224)
URL:https://endhomelessnesskent.org/event/steering-council-32/
LOCATION:Zoom\, MI\, United States
END:VEVENT
BEGIN:VEVENT
DTSTART;TZID=America/Detroit:20220316T130000
DTEND;TZID=America/Detroit:20220316T140000
DTSTAMP:20260421T023534
CREATED:20220128T141447Z
LAST-MODIFIED:20220128T141447Z
UID:5750-1647435600-1647439200@endhomelessnesskent.org
SUMMARY:Family Functional Zero
DESCRIPTION:Join Zoom Meeting: https://us02web.zoom.us/j/88475925404?pwd=RzRWTzVqZnBFOFVwMzViWWswVm9pdz09 or dial 312-626-6799 \n\nMeeting ID: 884 7592 5404\nPasscode: 1523
URL:https://endhomelessnesskent.org/event/family-functional-zero/
LOCATION:Zoom\, MI\, United States
END:VEVENT
BEGIN:VEVENT
DTSTART;TZID=America/Detroit:20220315T140000
DTEND;TZID=America/Detroit:20220315T153000
DTSTAMP:20260421T023534
CREATED:20220117T165641Z
LAST-MODIFIED:20220228T152510Z
UID:5648-1647352800-1647358200@endhomelessnesskent.org
SUMMARY:Coordinated Entry Committee
DESCRIPTION:Join Zoom Meeting: https://us02web.zoom.us/j/85634559343?pwd=THFxTUE2ZHhDS0E0MEhCb1IyckJ4dz09 ; Meeting ID: 856 3455 9343; Passcode: 234146
URL:https://endhomelessnesskent.org/event/coordinated-entry-committee-25/
LOCATION:Zoom\, MI\, United States
END:VEVENT
BEGIN:VEVENT
DTSTART;TZID=America/Detroit:20220310T140000
DTEND;TZID=America/Detroit:20220310T153000
DTSTAMP:20260421T023534
CREATED:20220117T165558Z
LAST-MODIFIED:20220117T165558Z
UID:5637-1646920800-1646926200@endhomelessnesskent.org
SUMMARY:Data Analysis Committee
DESCRIPTION:Join Zoom Meeting: https://us02web.zoom.us/j/83738855179?pwd=M3E4bkh4UjNaMmZvN01IbkJBZUpoQT09 ; Meeting ID: 837 3885 5179; Passcode: 14891
URL:https://endhomelessnesskent.org/event/data-analysis-committee-26/
LOCATION:Zoom\, MI\, United States
END:VEVENT
BEGIN:VEVENT
DTSTART;TZID=America/Detroit:20220304T093000
DTEND;TZID=America/Detroit:20220304T103000
DTSTAMP:20260421T023534
CREATED:20220117T165711Z
LAST-MODIFIED:20220222T185009Z
UID:5658-1646386200-1646389800@endhomelessnesskent.org
SUMMARY:Youth Committee
DESCRIPTION:Join Zoom Meeting: https://us02web.zoom.us/j/88015844182?pwd=RWplS2hqb3dZYURPWUNhU0NjczA4Zz09 ; Meeting ID: 880 1584 4182; Passcode: CoC (964592)
URL:https://endhomelessnesskent.org/event/youth-committee-24/
LOCATION:Zoom\, MI\, United States
END:VEVENT
BEGIN:VEVENT
DTSTART;TZID=America/Detroit:20220224T093000
DTEND;TZID=America/Detroit:20220224T110000
DTSTAMP:20260421T023534
CREATED:20210316T183329Z
LAST-MODIFIED:20220106T152320Z
UID:4714-1645695000-1645700400@endhomelessnesskent.org
SUMMARY:CoC/CTEH General Membership Meeting
DESCRIPTION:Visit our CoC Membership Meeting page to download the agenda packets for meetings. \nJoin Zoom Meeting: https://us02web.zoom.us/j/86785111647?pwd=M1NvL0Y4Nmc5eEhKK21oY05aanBWZz09 ; Meeting ID: 867 8511 1647\, Passcode: 40145
URL:https://endhomelessnesskent.org/event/coc-cteh-general-membership-meeting-12/
LOCATION:Zoom\, MI\, United States
CATEGORIES:CoC General Membership meeting
END:VEVENT
BEGIN:VEVENT
DTSTART;TZID=America/Detroit:20220222T140000
DTEND;TZID=America/Detroit:20220222T153000
DTSTAMP:20260421T023534
CREATED:20210316T183352Z
LAST-MODIFIED:20220221T145435Z
UID:4746-1645538400-1645543800@endhomelessnesskent.org
SUMMARY:Coordinated Entry Committee
DESCRIPTION:Join Zoom Meeting: https://us02web.zoom.us/j/85634559343?pwd=THFxTUE2ZHhDS0E0MEhCb1IyckJ4dz09 ; Meeting ID: 856 3455 9343; Passcode: 234156
URL:https://endhomelessnesskent.org/event/coordinated-entry-committee-24/
LOCATION:Zoom\, MI\, United States
END:VEVENT
BEGIN:VEVENT
DTSTART;TZID=America/Detroit:20220218T083000
DTEND;TZID=America/Detroit:20220218T103000
DTSTAMP:20260421T023534
CREATED:20220117T170721Z
LAST-MODIFIED:20220117T170721Z
UID:5680-1645173000-1645180200@endhomelessnesskent.org
SUMMARY:Steering Council
DESCRIPTION:Join Zoom Meeting: https://us02web.zoom.us/j/85850043324?pwd=cGRybXpmVXgyZFJ2bm9YNU82YnhFQT09 ; Meeting ID: 858 5004 3324; Password: CoC (024224)
URL:https://endhomelessnesskent.org/event/steering-council-31/
LOCATION:Zoom\, MI\, United States
END:VEVENT
BEGIN:VEVENT
DTSTART;TZID=America/Detroit:20220217T140000
DTEND;TZID=America/Detroit:20220217T153000
DTSTAMP:20260421T023534
CREATED:20220117T165614Z
LAST-MODIFIED:20220210T142938Z
UID:5646-1645106400-1645111800@endhomelessnesskent.org
SUMMARY:Data Analysis Committee
DESCRIPTION:Join Zoom Meeting: https://us02web.zoom.us/j/83738855179?pwd=M3E4bkh4UjNaMmZvN01IbkJBZUpoQT09 ; Meeting ID: 837 3885 5179; Passcode: 14901
URL:https://endhomelessnesskent.org/event/data-analysis-committee-35/
LOCATION:Zoom\, MI\, United States
END:VEVENT
BEGIN:VEVENT
DTSTART;TZID=America/Detroit:20220216T130000
DTEND;TZID=America/Detroit:20220216T140000
DTSTAMP:20260421T023534
CREATED:20220128T141353Z
LAST-MODIFIED:20220128T141353Z
UID:5747-1645016400-1645020000@endhomelessnesskent.org
SUMMARY:Family Functional Zero Meeting
DESCRIPTION:Join Zoom Meeting: https://us02web.zoom.us/j/88475925404?pwd=RzRWTzVqZnBFOFVwMzViWWswVm9pdz09 or dial 312-626-6799 \n\nMeeting ID: 884 7592 5404\nPasscode: 1523\n\n  \n 
URL:https://endhomelessnesskent.org/event/family-functional-zero-meeting-3/
LOCATION:Zoom\, MI\, United States
END:VEVENT
BEGIN:VEVENT
DTSTART;TZID=America/Detroit:20220208T150000
DTEND;TZID=America/Detroit:20220208T160000
DTSTAMP:20260421T023534
CREATED:20220126T154327Z
LAST-MODIFIED:20220126T154647Z
UID:5744-1644332400-1644336000@endhomelessnesskent.org
SUMMARY:Family Functional Zero Orientation
DESCRIPTION:Join Zoom Meeting: https://us06web.zoom.us/j/85496142051?pwd=NWtUR2JJeVhOMHZkSDk5TjlkSXpGZz09 \n\nMeeting ID: 854 9614 2051\nPasscode: 657544\n\nDial by your location \n\n+1 301 715 8592\n+1 312 626 6799\n\nMeeting ID: 854 9614 2051
URL:https://endhomelessnesskent.org/event/family-functional-zero-orientation/
LOCATION:Zoom\, MI\, United States
END:VEVENT
BEGIN:VEVENT
DTSTART;TZID=America/Detroit:20220128T093000
DTEND;TZID=America/Detroit:20220128T103000
DTSTAMP:20260421T023534
CREATED:20220117T165711Z
LAST-MODIFIED:20220117T165711Z
UID:5657-1643362200-1643365800@endhomelessnesskent.org
SUMMARY:Youth Committee
DESCRIPTION:Join Zoom Meeting: https://us02web.zoom.us/j/88015844182?pwd=RWplS2hqb3dZYURPWUNhU0NjczA4Zz09 ; Meeting ID: 880 1584 4182; Passcode: CoC (964592)
URL:https://endhomelessnesskent.org/event/youth-committee-23/
LOCATION:Zoom\, MI\, United States
END:VEVENT
BEGIN:VEVENT
DTSTART;TZID=America/Detroit:20220121T083000
DTEND;TZID=America/Detroit:20220121T103000
DTSTAMP:20260421T023534
CREATED:20220117T165641Z
LAST-MODIFIED:20220117T165641Z
UID:5647-1642753800-1642761000@endhomelessnesskent.org
SUMMARY:Steering Council
DESCRIPTION:Join Zoom Meeting: https://us02web.zoom.us/j/85850043324?pwd=cGRybXpmVXgyZFJ2bm9YNU82YnhFQT09 ; Meeting ID: 858 5004 3324; Password: CoC (024224)
URL:https://endhomelessnesskent.org/event/steering-council-30/
LOCATION:Zoom\, MI\, United States
END:VEVENT
BEGIN:VEVENT
DTSTART;TZID=America/Detroit:20220118T140000
DTEND;TZID=America/Detroit:20220118T153000
DTSTAMP:20260421T023534
CREATED:20210316T183352Z
LAST-MODIFIED:20220117T171800Z
UID:4745-1642514400-1642519800@endhomelessnesskent.org
SUMMARY:Coordinated Entry Committee
DESCRIPTION:Join Zoom Meeting: https://us02web.zoom.us/j/85634559343?pwd=THFxTUE2ZHhDS0E0MEhCb1IyckJ4dz09 ; Meeting ID: 856 3455 9343; Passcode: 234155
URL:https://endhomelessnesskent.org/event/coordinated-entry-committee-23/
LOCATION:Zoom\, MI\, United States
END:VEVENT
BEGIN:VEVENT
DTSTART;TZID=America/Detroit:20211217T083000
DTEND;TZID=America/Detroit:20211217T103000
DTSTAMP:20260421T023534
CREATED:20210316T183344Z
LAST-MODIFIED:20210316T183344Z
UID:4735-1639729800-1639737000@endhomelessnesskent.org
SUMMARY:Steering Council
DESCRIPTION:Join Zoom Meeting: https://us02web.zoom.us/j/85850043324?pwd=cGRybXpmVXgyZFJ2bm9YNU82YnhFQT09 ; Meeting ID: 858 5004 3324; Password: CoC (024224)
URL:https://endhomelessnesskent.org/event/steering-council-29/
LOCATION:Zoom\, MI\, United States
END:VEVENT
BEGIN:VEVENT
DTSTART;TZID=America/Detroit:20211216T093000
DTEND;TZID=America/Detroit:20211216T110000
DTSTAMP:20260421T023534
CREATED:20210316T183325Z
LAST-MODIFIED:20210316T183325Z
UID:4713-1639647000-1639652400@endhomelessnesskent.org
SUMMARY:CoC/CTEH General Membership Meeting
DESCRIPTION:Join Zoom Meeting: https://us02web.zoom.us/j/86785111647?pwd=M1NvL0Y4Nmc5eEhKK21oY05aanBWZz09 ; Meeting ID: 867 8511 1647\, Passcode: 40149
URL:https://endhomelessnesskent.org/event/coc-cteh-general-membership-meeting-11/
LOCATION:Zoom\, MI\, United States
END:VEVENT
BEGIN:VEVENT
DTSTART;TZID=America/Detroit:20211209T140000
DTEND;TZID=America/Detroit:20211209T153000
DTSTAMP:20260421T023534
CREATED:20210316T183334Z
LAST-MODIFIED:20210316T183334Z
UID:4723-1639058400-1639063800@endhomelessnesskent.org
SUMMARY:Data Analysis Committee
DESCRIPTION:Join Zoom Meeting: https://us02web.zoom.us/j/83738855179?pwd=M3E4bkh4UjNaMmZvN01IbkJBZUpoQT09 ; Meeting ID: 837 3885 5179; Passcode: 14899
URL:https://endhomelessnesskent.org/event/data-analysis-committee-23/
LOCATION:Zoom\, MI\, United States
END:VEVENT
BEGIN:VEVENT
DTSTART;TZID=America/Detroit:20211207T140000
DTEND;TZID=America/Detroit:20211207T150000
DTSTAMP:20260421T023534
CREATED:20210316T183351Z
LAST-MODIFIED:20210316T183351Z
UID:4744-1638885600-1638889200@endhomelessnesskent.org
SUMMARY:Coordinated Entry Committee
DESCRIPTION:Join Zoom Meeting: https://us02web.zoom.us/j/85634559343?pwd=THFxTUE2ZHhDS0E0MEhCb1IyckJ4dz09 ; Meeting ID: 856 3455 9343; Passcode: 234154
URL:https://endhomelessnesskent.org/event/coordinated-entry-committee-22/
LOCATION:Zoom\, MI\, United States
END:VEVENT
BEGIN:VEVENT
DTSTART;TZID=America/Detroit:20211206T140000
DTEND;TZID=America/Detroit:20211206T153000
DTSTAMP:20260421T023534
CREATED:20210316T183408Z
LAST-MODIFIED:20210316T183408Z
UID:4765-1638799200-1638804600@endhomelessnesskent.org
SUMMARY:Executive Committee
DESCRIPTION:Join Zoom Meeting: https://us02web.zoom.us/j/82003450763?pwd=ZEk4Sjl3VVppSG50R0pXc3Z2ejNEdz09 : Meeting ID: 820 0345 0763; Passcode: 37595
URL:https://endhomelessnesskent.org/event/executive-committee-9/
LOCATION:Zoom\, MI\, United States
END:VEVENT
BEGIN:VEVENT
DTSTART;TZID=America/Detroit:20211126T093000
DTEND;TZID=America/Detroit:20211126T103000
DTSTAMP:20260421T023534
CREATED:20210316T183400Z
LAST-MODIFIED:20210316T183400Z
UID:4755-1637919000-1637922600@endhomelessnesskent.org
SUMMARY:Youth Committee
DESCRIPTION:Join Zoom Meeting: https://us02web.zoom.us/j/88015844182?pwd=RWplS2hqb3dZYURPWUNhU0NjczA4Zz09 ; Meeting ID: 880 1584 4182; Passcode: CoC (964592)
URL:https://endhomelessnesskent.org/event/youth-committee-21/
LOCATION:Zoom\, MI\, United States
END:VEVENT
END:VCALENDAR