BEGIN:VCALENDAR
VERSION:2.0
PRODID:-//Grand Rapids Area Coalition to End Homelessness - ECPv6.15.20//NONSGML v1.0//EN
CALSCALE:GREGORIAN
METHOD:PUBLISH
X-WR-CALNAME:Grand Rapids Area Coalition to End Homelessness
X-ORIGINAL-URL:https://endhomelessnesskent.org
X-WR-CALDESC:Events for Grand Rapids Area Coalition to End Homelessness
REFRESH-INTERVAL;VALUE=DURATION:PT1H
X-Robots-Tag:noindex
X-PUBLISHED-TTL:PT1H
BEGIN:VTIMEZONE
TZID:America/Detroit
BEGIN:DAYLIGHT
TZOFFSETFROM:-0500
TZOFFSETTO:-0400
TZNAME:EDT
DTSTART:20210314T070000
END:DAYLIGHT
BEGIN:STANDARD
TZOFFSETFROM:-0400
TZOFFSETTO:-0500
TZNAME:EST
DTSTART:20211107T060000
END:STANDARD
BEGIN:DAYLIGHT
TZOFFSETFROM:-0500
TZOFFSETTO:-0400
TZNAME:EDT
DTSTART:20220313T070000
END:DAYLIGHT
BEGIN:STANDARD
TZOFFSETFROM:-0400
TZOFFSETTO:-0500
TZNAME:EST
DTSTART:20221106T060000
END:STANDARD
BEGIN:DAYLIGHT
TZOFFSETFROM:-0500
TZOFFSETTO:-0400
TZNAME:EDT
DTSTART:20230312T070000
END:DAYLIGHT
BEGIN:STANDARD
TZOFFSETFROM:-0400
TZOFFSETTO:-0500
TZNAME:EST
DTSTART:20231105T060000
END:STANDARD
BEGIN:DAYLIGHT
TZOFFSETFROM:-0500
TZOFFSETTO:-0400
TZNAME:EDT
DTSTART:20240310T070000
END:DAYLIGHT
BEGIN:STANDARD
TZOFFSETFROM:-0400
TZOFFSETTO:-0500
TZNAME:EST
DTSTART:20241103T060000
END:STANDARD
END:VTIMEZONE
BEGIN:VEVENT
DTSTART;TZID=America/Detroit:20230217T083000
DTEND;TZID=America/Detroit:20230217T103000
DTSTAMP:20260420T175700
CREATED:20230119T182926Z
LAST-MODIFIED:20230130T161650Z
UID:6251-1676622600-1676629800@endhomelessnesskent.org
SUMMARY:Steering Council
DESCRIPTION:Join Zoom Meeting:https://us02web.zoom.us/j/82718363128?pwd=aGlJaWl4OUE4Z1VNTUp1bjJUMzk3dz09 ; Meeting ID: 827 1836 3128; Password: CoC (024224)
URL:https://endhomelessnesskent.org/event/steering-council-43/
LOCATION:Zoom\, MI\, United States
END:VEVENT
BEGIN:VEVENT
DTSTART;TZID=America/Detroit:20230216T140000
DTEND;TZID=America/Detroit:20230216T153000
DTSTAMP:20260420T175700
CREATED:20230119T183222Z
LAST-MODIFIED:20230209T154013Z
UID:6263-1676556000-1676561400@endhomelessnesskent.org
SUMMARY:Data Analysis Committee
DESCRIPTION:Join Zoom Meeting: https://us02web.zoom.us/j/4350176715?pwd=bXZ3THM5Mkd6elJlOE1SK2tmUFZUdz09; Meeting ID: 435 017 6715; Passcode: CoC
URL:https://endhomelessnesskent.org/event/data-analysis-committee-38/
LOCATION:Zoom\, MI\, United States
END:VEVENT
BEGIN:VEVENT
DTSTART;TZID=America/Detroit:20230214T140000
DTEND;TZID=America/Detroit:20230214T153000
DTSTAMP:20260420T175700
CREATED:20220117T170721Z
LAST-MODIFIED:20230209T154100Z
UID:5679-1676383200-1676388600@endhomelessnesskent.org
SUMMARY:Coordinated Entry Committee
DESCRIPTION:Heart of West Michigan United Way – 118 Commerce Ave SW
URL:https://endhomelessnesskent.org/event/coordinated-entry-committee-40/
LOCATION:Zoom\, MI\, United States
END:VEVENT
BEGIN:VEVENT
DTSTART;TZID=America/Detroit:20230206T113000
DTEND;TZID=America/Detroit:20230206T123000
DTSTAMP:20260420T175700
CREATED:20230130T161850Z
LAST-MODIFIED:20230130T161850Z
UID:6373-1675683000-1675686600@endhomelessnesskent.org
SUMMARY:Built For Zero Planning Team
DESCRIPTION:Join Zoom Meeting: https://us02web.zoom.us/j/4350176715?pwd=bXZ3THM5Mkd6elJlOE1SK2tmUFZUdz09; Meeting ID: 435 017 6715; Passcode: CoC
URL:https://endhomelessnesskent.org/event/built-for-zero-planning-team/
LOCATION:Zoom\, MI\, United States
END:VEVENT
BEGIN:VEVENT
DTSTART;TZID=America/Detroit:20230127T110000
DTEND;TZID=America/Detroit:20230127T123000
DTSTAMP:20260420T175700
CREATED:20230119T183937Z
LAST-MODIFIED:20230119T183937Z
UID:6298-1674817200-1674822600@endhomelessnesskent.org
SUMMARY:Youth Committee
DESCRIPTION:Join Zoom Meeting: https://us02web.zoom.us/j/83296636178?pwd=UXVjRHd1VENiTGNDYXhBTFRBcWVUUT09; Meeting ID: 832 9663 6178 ; Passcode: 722881
URL:https://endhomelessnesskent.org/event/youth-committee-34/
LOCATION:Zoom\, MI\, United States
END:VEVENT
BEGIN:VEVENT
DTSTART;TZID=America/Detroit:20230120T083000
DTEND;TZID=America/Detroit:20230120T103000
DTSTAMP:20260420T175700
CREATED:20230119T182926Z
LAST-MODIFIED:20230130T161650Z
UID:6250-1674203400-1674210600@endhomelessnesskent.org
SUMMARY:Steering Council
DESCRIPTION:Join Zoom Meeting:https://us02web.zoom.us/j/82718363128?pwd=aGlJaWl4OUE4Z1VNTUp1bjJUMzk3dz09 ; Meeting ID: 827 1836 3128; Password: CoC (024224)
URL:https://endhomelessnesskent.org/event/steering-council-42/
LOCATION:Zoom\, MI\, United States
END:VEVENT
BEGIN:VEVENT
DTSTART;TZID=America/Detroit:20230112T140000
DTEND;TZID=America/Detroit:20230112T153000
DTSTAMP:20260420T175700
CREATED:20230119T183222Z
LAST-MODIFIED:20230130T161736Z
UID:6262-1673532000-1673537400@endhomelessnesskent.org
SUMMARY:Data Analysis Committee
DESCRIPTION:Join Zoom Meeting: https://us02web.zoom.us/j/4350176715?pwd=bXZ3THM5Mkd6elJlOE1SK2tmUFZUdz09; Meeting ID: 435 017 6715; Passcode: CoC
URL:https://endhomelessnesskent.org/event/data-analysis-committee-37/
LOCATION:Zoom\, MI\, United States
END:VEVENT
BEGIN:VEVENT
DTSTART;TZID=America/Detroit:20230110T140000
DTEND;TZID=America/Detroit:20230110T153000
DTSTAMP:20260420T175700
CREATED:20220117T165657Z
LAST-MODIFIED:20230119T201012Z
UID:5656-1673359200-1673364600@endhomelessnesskent.org
SUMMARY:Coordinated Entry Committee
DESCRIPTION:Heart of West Michigan; 118 Commerce Ave SW\, Steelcase Room
URL:https://endhomelessnesskent.org/event/coordinated-entry-committee-33/
LOCATION:Zoom\, MI\, United States
END:VEVENT
BEGIN:VEVENT
DTSTART;TZID=America/Detroit:20221216T083000
DTEND;TZID=America/Detroit:20221216T103000
DTSTAMP:20260420T175700
CREATED:20220117T170937Z
LAST-MODIFIED:20220117T170937Z
UID:5688-1671179400-1671186600@endhomelessnesskent.org
SUMMARY:Steering Council
DESCRIPTION:Join Zoom Meeting: https://us02web.zoom.us/j/85850043324?pwd=cGRybXpmVXgyZFJ2bm9YNU82YnhFQT09 ; Meeting ID: 858 5004 3324; Password: CoC (024224)
URL:https://endhomelessnesskent.org/event/steering-council-39/
LOCATION:Zoom\, MI\, United States
END:VEVENT
BEGIN:VEVENT
DTSTART;TZID=America/Detroit:20221215T093000
DTEND;TZID=America/Detroit:20221215T110000
DTSTAMP:20260420T175700
CREATED:20220106T152724Z
LAST-MODIFIED:20220117T165557Z
UID:5615-1671096600-1671102000@endhomelessnesskent.org
SUMMARY:CoC/CTEH General Membership Meeting
DESCRIPTION:Join Zoom Meeting: https://us02web.zoom.us/j/86785111647?pwd=M1NvL0Y4Nmc5eEhKK21oY05aanBWZz09 ; Meeting ID: 867 8511 1647\, Passcode: 40149
URL:https://endhomelessnesskent.org/event/coc-cteh-general-membership-meeting-17/
LOCATION:Zoom\, MI\, United States
CATEGORIES:CoC General Membership meeting
END:VEVENT
BEGIN:VEVENT
DTSTART;TZID=America/Detroit:20221213T140000
DTEND;TZID=America/Detroit:20221213T153000
DTSTAMP:20260420T175700
CREATED:20220117T165614Z
LAST-MODIFIED:20221129T155142Z
UID:5645-1670940000-1670945400@endhomelessnesskent.org
SUMMARY:Data Analysis Committee
DESCRIPTION:Join Zoom Meeting: https://us02web.zoom.us/j/83738855179?pwd=M3E4bkh4UjNaMmZvN01IbkJBZUpoQT09 ; Meeting ID: 837 3885 5179; Passcode: 14900
URL:https://endhomelessnesskent.org/event/data-analysis-committee-34/
LOCATION:Zoom\, MI\, United States
END:VEVENT
BEGIN:VEVENT
DTSTART;TZID=America/Detroit:20221118T083000
DTEND;TZID=America/Detroit:20221118T103000
DTSTAMP:20260420T175700
CREATED:20220117T172304Z
LAST-MODIFIED:20220117T172304Z
UID:5726-1668760200-1668767400@endhomelessnesskent.org
SUMMARY:Steering Council
DESCRIPTION:Join Zoom Meeting: https://us02web.zoom.us/j/85850043324?pwd=cGRybXpmVXgyZFJ2bm9YNU82YnhFQT09 ; Meeting ID: 858 5004 3324; Password: CoC (024224)
URL:https://endhomelessnesskent.org/event/steering-council-41/
LOCATION:Zoom\, MI\, United States
END:VEVENT
BEGIN:VEVENT
DTSTART;TZID=America/Detroit:20221116T130000
DTEND;TZID=America/Detroit:20221116T140000
DTSTAMP:20260420T175700
CREATED:20220128T142213Z
LAST-MODIFIED:20220128T142213Z
UID:5778-1668603600-1668607200@endhomelessnesskent.org
SUMMARY:Family Functional Zero
DESCRIPTION:Join Zoom Meeting: https://us02web.zoom.us/j/88475925404?pwd=RzRWTzVqZnBFOFVwMzViWWswVm9pdz09 or dial 312-626-6799 \n\nMeeting ID: 884 7592 5404\nPasscode: 1523
URL:https://endhomelessnesskent.org/event/family-functional-zero-9/
LOCATION:Zoom\, MI\, United States
END:VEVENT
BEGIN:VEVENT
DTSTART;TZID=America/Detroit:20221110T140000
DTEND;TZID=America/Detroit:20221110T153000
DTSTAMP:20260420T175700
CREATED:20220117T165613Z
LAST-MODIFIED:20220117T165613Z
UID:5644-1668088800-1668094200@endhomelessnesskent.org
SUMMARY:Data Analysis Committee
DESCRIPTION:Join Zoom Meeting: https://us02web.zoom.us/j/83738855179?pwd=M3E4bkh4UjNaMmZvN01IbkJBZUpoQT09 ; Meeting ID: 837 3885 5179; Passcode: 14899
URL:https://endhomelessnesskent.org/event/data-analysis-committee-33/
LOCATION:Zoom\, MI\, United States
END:VEVENT
BEGIN:VEVENT
DTSTART;TZID=America/Detroit:20221101T140000
DTEND;TZID=America/Detroit:20221101T153000
DTSTAMP:20260420T175700
CREATED:20220117T170719Z
LAST-MODIFIED:20220117T170719Z
UID:5677-1667311200-1667316600@endhomelessnesskent.org
SUMMARY:Coordinated Entry Committee
DESCRIPTION:Join Zoom Meeting: https://us02web.zoom.us/j/85634559343?pwd=THFxTUE2ZHhDS0E0MEhCb1IyckJ4dz09 ; Meeting ID: 856 3455 9343; Passcode: 234153
URL:https://endhomelessnesskent.org/event/coordinated-entry-committee-38/
LOCATION:Zoom\, MI\, United States
END:VEVENT
BEGIN:VEVENT
DTSTART;TZID=America/Detroit:20221028T093000
DTEND;TZID=America/Detroit:20221028T103000
DTSTAMP:20260420T175700
CREATED:20220117T165726Z
LAST-MODIFIED:20220117T165726Z
UID:5665-1666949400-1666953000@endhomelessnesskent.org
SUMMARY:Youth Committee
DESCRIPTION:Join Zoom Meeting: https://us02web.zoom.us/j/88015844182?pwd=RWplS2hqb3dZYURPWUNhU0NjczA4Zz09 ; Meeting ID: 880 1584 4182; Passcode: CoC (964592)
URL:https://endhomelessnesskent.org/event/youth-committee-31/
LOCATION:Zoom\, MI\, United States
END:VEVENT
BEGIN:VEVENT
DTSTART;TZID=America/Detroit:20221028T083000
DTEND;TZID=America/Detroit:20221028T103000
DTSTAMP:20260420T175700
CREATED:20220117T170737Z
LAST-MODIFIED:20221004T153103Z
UID:5687-1666945800-1666953000@endhomelessnesskent.org
SUMMARY:Steering Council
DESCRIPTION:Join Zoom Meeting: https://us02web.zoom.us/j/85850043324?pwd=cGRybXpmVXgyZFJ2bm9YNU82YnhFQT09 ; Meeting ID: 858 5004 3324; Password: CoC (024224)
URL:https://endhomelessnesskent.org/event/steering-council-38/
LOCATION:Zoom\, MI\, United States
END:VEVENT
BEGIN:VEVENT
DTSTART;TZID=America/Detroit:20221027T093000
DTEND;TZID=America/Detroit:20221027T110000
DTSTAMP:20260420T175700
CREATED:20220106T152602Z
LAST-MODIFIED:20220117T165556Z
UID:5611-1666863000-1666868400@endhomelessnesskent.org
SUMMARY:CoC/CTEH General Membership Meeting
DESCRIPTION:Join Zoom Meeting: https://us02web.zoom.us/j/86785111647?pwd=M1NvL0Y4Nmc5eEhKK21oY05aanBWZz09 ; Meeting ID: 867 8511 1647\, Passcode: 40148
URL:https://endhomelessnesskent.org/event/coc-cteh-general-membership-meeting-16/
LOCATION:Zoom\, MI\, United States
CATEGORIES:CoC General Membership meeting
END:VEVENT
BEGIN:VEVENT
DTSTART;TZID=America/Detroit:20221019T130000
DTEND;TZID=America/Detroit:20221019T140000
DTSTAMP:20260420T175700
CREATED:20220128T142121Z
LAST-MODIFIED:20220128T142136Z
UID:5774-1666184400-1666188000@endhomelessnesskent.org
SUMMARY:Family Functional Zero
DESCRIPTION:Join Zoom Meeting: https://us02web.zoom.us/j/88475925404?pwd=RzRWTzVqZnBFOFVwMzViWWswVm9pdz09 or dial 312-626-6799 \n\nMeeting ID: 884 7592 5404\nPasscode: 1523
URL:https://endhomelessnesskent.org/event/family-functional-zero-8/
LOCATION:Zoom\, MI\, United States
END:VEVENT
BEGIN:VEVENT
DTSTART;TZID=America/Detroit:20220923T093000
DTEND;TZID=America/Detroit:20220923T103000
DTSTAMP:20260420T175700
CREATED:20220117T165726Z
LAST-MODIFIED:20220117T165726Z
UID:5664-1663925400-1663929000@endhomelessnesskent.org
SUMMARY:Youth Committee
DESCRIPTION:Join Zoom Meeting: https://us02web.zoom.us/j/88015844182?pwd=RWplS2hqb3dZYURPWUNhU0NjczA4Zz09 ; Meeting ID: 880 1584 4182; Passcode: CoC (964592)
URL:https://endhomelessnesskent.org/event/youth-committee-30/
LOCATION:Zoom\, MI\, United States
END:VEVENT
BEGIN:VEVENT
DTSTART;TZID=America/Detroit:20220921T130000
DTEND;TZID=America/Detroit:20220921T140000
DTSTAMP:20260420T175700
CREATED:20220128T142041Z
LAST-MODIFIED:20220128T142041Z
UID:5771-1663765200-1663768800@endhomelessnesskent.org
SUMMARY:Family Functional Zero
DESCRIPTION:Join Zoom Meeting: https://us02web.zoom.us/j/88475925404?pwd=RzRWTzVqZnBFOFVwMzViWWswVm9pdz09 or dial 312-626-6799 \n\nMeeting ID: 884 7592 5404\nPasscode: 1523
URL:https://endhomelessnesskent.org/event/family-functional-zero-7/
LOCATION:Zoom\, MI\, United States
END:VEVENT
BEGIN:VEVENT
DTSTART;TZID=America/Detroit:20220916T083000
DTEND;TZID=America/Detroit:20220916T103000
DTSTAMP:20260420T175700
CREATED:20220117T170736Z
LAST-MODIFIED:20220117T170736Z
UID:5686-1663317000-1663324200@endhomelessnesskent.org
SUMMARY:Steering Council
DESCRIPTION:Join Zoom Meeting: https://us02web.zoom.us/j/85850043324?pwd=cGRybXpmVXgyZFJ2bm9YNU82YnhFQT09 ; Meeting ID: 858 5004 3324; Password: CoC (024224)
URL:https://endhomelessnesskent.org/event/steering-council-37/
LOCATION:Zoom\, MI\, United States
END:VEVENT
BEGIN:VEVENT
DTSTART;TZID=America/Detroit:20220913T133000
DTEND;TZID=America/Detroit:20220913T150000
DTSTAMP:20260420T175700
CREATED:20220117T170719Z
LAST-MODIFIED:20220913T154357Z
UID:5675-1663075800-1663081200@endhomelessnesskent.org
SUMMARY:Coordinated Entry Committee
DESCRIPTION:Join Zoom Meeting: https://us02web.zoom.us/j/85634559343?pwd=THFxTUE2ZHhDS0E0MEhCb1IyckJ4dz09 ; Meeting ID: 856 3455 9343; Passcode: 234151
URL:https://endhomelessnesskent.org/event/coordinated-entry-committee-36/
LOCATION:Zoom\, MI\, United States
END:VEVENT
BEGIN:VEVENT
DTSTART;TZID=America/Detroit:20220908T140000
DTEND;TZID=America/Detroit:20220908T153000
DTSTAMP:20260420T175700
CREATED:20220117T165613Z
LAST-MODIFIED:20220117T165613Z
UID:5642-1662645600-1662651000@endhomelessnesskent.org
SUMMARY:Data Analysis Committee
DESCRIPTION:Join Zoom Meeting: https://us02web.zoom.us/j/83738855179?pwd=M3E4bkh4UjNaMmZvN01IbkJBZUpoQT09 ; Meeting ID: 837 3885 5179; Passcode: 14897
URL:https://endhomelessnesskent.org/event/data-analysis-committee-31/
LOCATION:Zoom\, MI\, United States
END:VEVENT
BEGIN:VEVENT
DTSTART;TZID=America/Detroit:20220826T093000
DTEND;TZID=America/Detroit:20220826T103000
DTSTAMP:20260420T175700
CREATED:20220117T165726Z
LAST-MODIFIED:20220117T165726Z
UID:5663-1661506200-1661509800@endhomelessnesskent.org
SUMMARY:Youth Committee
DESCRIPTION:Join Zoom Meeting: https://us02web.zoom.us/j/88015844182?pwd=RWplS2hqb3dZYURPWUNhU0NjczA4Zz09 ; Meeting ID: 880 1584 4182; Passcode: CoC (964592)
URL:https://endhomelessnesskent.org/event/youth-committee-29/
LOCATION:Zoom\, MI\, United States
END:VEVENT
BEGIN:VEVENT
DTSTART;TZID=America/Detroit:20220825T093000
DTEND;TZID=America/Detroit:20220825T110000
DTSTAMP:20260420T175700
CREATED:20220106T152457Z
LAST-MODIFIED:20220117T165556Z
UID:5608-1661419800-1661425200@endhomelessnesskent.org
SUMMARY:CoC/CTEH General Membership Meeting
DESCRIPTION:Join Zoom Meeting: https://us02web.zoom.us/j/86785111647?pwd=M1NvL0Y4Nmc5eEhKK21oY05aanBWZz09 ; Meeting ID: 867 8511 1647\, Passcode: 40147
URL:https://endhomelessnesskent.org/event/coc-cteh-general-membership-meeting-15/
LOCATION:Zoom\, MI\, United States
END:VEVENT
BEGIN:VEVENT
DTSTART;TZID=America/Detroit:20220819T083000
DTEND;TZID=America/Detroit:20220819T103000
DTSTAMP:20260420T175700
CREATED:20220117T170736Z
LAST-MODIFIED:20220117T170736Z
UID:5685-1660897800-1660905000@endhomelessnesskent.org
SUMMARY:Steering Council
DESCRIPTION:Join Zoom Meeting: https://us02web.zoom.us/j/85850043324?pwd=cGRybXpmVXgyZFJ2bm9YNU82YnhFQT09 ; Meeting ID: 858 5004 3324; Password: CoC (024224)
URL:https://endhomelessnesskent.org/event/steering-council-36/
LOCATION:Zoom\, MI\, United States
END:VEVENT
BEGIN:VEVENT
DTSTART;TZID=America/Detroit:20220811T140000
DTEND;TZID=America/Detroit:20220811T153000
DTSTAMP:20260420T175700
CREATED:20220117T172209Z
LAST-MODIFIED:20220117T172209Z
UID:5723-1660226400-1660231800@endhomelessnesskent.org
SUMMARY:Data Analysis Committee
DESCRIPTION:Join Zoom Meeting: https://us02web.zoom.us/j/83738855179?pwd=M3E4bkh4UjNaMmZvN01IbkJBZUpoQT09 ; Meeting ID: 837 3885 5179; Passcode: 14894
URL:https://endhomelessnesskent.org/event/data-analysis-committee-36/
LOCATION:Zoom\, MI\, United States
END:VEVENT
BEGIN:VEVENT
DTSTART;TZID=America/Detroit:20220802T140000
DTEND;TZID=America/Detroit:20220802T153000
DTSTAMP:20260420T175700
CREATED:20220117T170718Z
LAST-MODIFIED:20220117T170718Z
UID:5674-1659448800-1659454200@endhomelessnesskent.org
SUMMARY:Coordinated Entry Committee
DESCRIPTION:Join Zoom Meeting: https://us02web.zoom.us/j/85634559343?pwd=THFxTUE2ZHhDS0E0MEhCb1IyckJ4dz09 ; Meeting ID: 856 3455 9343; Passcode: 234150
URL:https://endhomelessnesskent.org/event/coordinated-entry-committee-35/
LOCATION:Zoom\, MI\, United States
END:VEVENT
BEGIN:VEVENT
DTSTART;TZID=America/Detroit:20220722T093000
DTEND;TZID=America/Detroit:20220722T103000
DTSTAMP:20260420T175700
CREATED:20220117T165726Z
LAST-MODIFIED:20220117T165726Z
UID:5662-1658482200-1658485800@endhomelessnesskent.org
SUMMARY:Youth Committee
DESCRIPTION:Join Zoom Meeting: https://us02web.zoom.us/j/88015844182?pwd=RWplS2hqb3dZYURPWUNhU0NjczA4Zz09 ; Meeting ID: 880 1584 4182; Passcode: CoC (964592)
URL:https://endhomelessnesskent.org/event/youth-committee-28/
LOCATION:Zoom\, MI\, United States
END:VEVENT
END:VCALENDAR